Workbook
Name Excel_BuiltIn__FilterDatabase: 'приложение 9'!$C$2:$C$331
Name Excel_BuiltIn_Print_Area: 'приложение 11'!$B$1:$O$581
Name Excel_BuiltIn_Print_Area: 'приложение 7'!$A$1:$H$58
Name Excel_BuiltIn_Print_Area: 'приложение 9'!$A$2:$F$337
Name Print_Area_0: 'приложение 9'!$A$2:$F$339
Name Print_Area_0_0: 'приложение 11'!$B$1:$Q$585
Name Print_Area_0_0: 'приложение 7'!$A$1:$H$53
Name Print_Area_0_0_0: 'приложение 11'!$A$1:$R$585
Name Print_Area_0_0_0_0: 'приложение 11'!$A$1:$V$585
Name Print_Area_0_0_0_0_0: 'приложение 11'!$B$1:$P$585
Name Print_Area_0_0_0_0_0_0: 'приложение 11'!$A$1:$Q$585
Name Print_Area_0_0_0_0_0_0_0: 'приложение 11'!$A$1:$Q$585
Name Z_4F3F96C3_7B8B_440F_A7C0_DFFBDC784942__wvu_FilterData: #REF!
Name Z_6CB88F76_ADF1_43EB_B8FB_32CF6D2656A6__wvu_Cols: #REF!
Name Z_6CB88F76_ADF1_43EB_B8FB_32CF6D2656A6__wvu_FilterData: #REF!
Name Z_6CB88F76_ADF1_43EB_B8FB_32CF6D2656A6__wvu_PrintArea: #REF!
Name Z_7BCFB845_C80C_48FE_B4FE_79B4B69115F3__wvu_FilterData: #REF!
Name Z_7D67130F_5829_47C5_93DE_738E8D41F162__wvu_FilterData: #REF!
Name Z_8E2E7D81_C767_11D8_A2FD_006098EF8B30__wvu_Cols: #REF!
Name Z_8E2E7D81_C767_11D8_A2FD_006098EF8B30__wvu_FilterData: #REF!
Name Z_8E2E7D81_C767_11D8_A2FD_006098EF8B30__wvu_PrintArea: #REF!
Name Z_AAB63AD1_4FE4_4C7A_A62E_5A604C03BF55__wvu_FilterData: #REF!
Name Z_C231806E_9211_4D8F_9EB3_1A15C537C808__wvu_FilterData: #REF!
Name Z_D05021AF_1DB5_4AD7_B085_4CD71612CDB6__wvu_FilterData: #REF!
Name Z_D5E1AF6B_71F1_4B33_880B_72787157ADA9__wvu_FilterData: #REF!
Name Z_D5E1AF6B_71F1_4B33_880B_72787157ADA9__wvu_PrintArea: #REF!
Name Z_E2E14CAC_FED5_4087_B580_6F7DEE9C9BA1__wvu_FilterData: #REF!
Name Z_EF5A4981_C8E4_11D8_A2FC_006098EF8BA8__wvu_Cols: #REF!
Name Z_EF5A4981_C8E4_11D8_A2FC_006098EF8BA8__wvu_PrintArea: 'приложение 11'!$A$3
Name Z_EF5A4981_C8E4_11D8_A2FC_006098EF8BA8__wvu_PrintTitles: #REF!
Name Z_EFA5B1DC_5497_4E2C_A2B5_ED756C88CC7C__wvu_Cols: #REF!
Name Z_EFA5B1DC_5497_4E2C_A2B5_ED756C88CC7C__wvu_FilterData: #REF!

Sheet приложение 7
C1: Приложение 7
C2: к решению Совета муниципального образования Белореченский муниципальный район Краснодарского края от 27 марта 2025 г. № 165
B3: Распределение бюджетных ассигнований бюджета муниципального образования Белореченский муниципальный район Краснодарского края по разделам и подразделам классификации расходов бюджетов на 2026 и 2027 годы
H4: (рублей)
A5: № п/п | B5: Наименование | C5: Коды бюджетной классификации | G5: 2026 год | H5: 2027 год
C6: Раздел | D6: Подраздел | E6: Целевая статья | F6: Вид расхода
A7: 1 | B7: 2 | C7: 3 | D7: 4 | E7: 5 | F7: 6 | G7: 5 | H7: 6
B8: Всего расходов | G8: =G9+G17+G21+G26+G28+G34+G37+G41+G46+G48 -> 4360965200 | H8: =H9+H17+H21+H26+H28+H34+H37+H41+H46+H48 -> 4322907500
A9: 1. | B9: Общегосударственные вопросы | C9: 01 | G9: =G10+G11+G12+G14+G15+G16+G13 -> 305563500 | H9: =H10+H11+H12+H14+H15+H16+H13 -> 305095400
B10: Функционирование высшего должностного лица субъекта Российской Федерации и муниципального образования | C10: 01 | D10: 02 | G10: ='приложение 11'!I27 -> 2171800 | H10: ='приложение 11'!P27 -> 2089200
B11: Функционирование законодательных (представительных) органов государственной власти и и представительных органов муниципальных образований | C11: 01 | D11: 03 | E11: 0020000 | G11: ='приложение 11'!I11 -> 5950500 | H11: ='приложение 11'!P11 -> 5724100
B12: Функционирование Правительства Российской Федерации, высших органов исполнительной власти субъектов Российской Федерации, местных администраций | C12: 01 | D12: 04 | G12: ='приложение 11'!I32 -> 76239500 | H12: ='приложение 11'!P32 -> 84918300
B13: Судебная система | C13: 01 | D13: 05 | G13: ='приложение 11'!I46 -> 83300 | H13: ='приложение 11'!P46 -> 9200
B14: Обеспечение деятельности финансовых, налоговых и таможенных органов и органов финансового (финансово-бюджетного) надзора | C14: 01 | D14: 06 | E14: 0020000 | G14: ='приложение 11'!I209+'приложение 11'!I229 -> 28552300 | H14: ='приложение 11'!P209+'приложение 11'!P229 -> 27465300
B15: Резервные фонды | C15: 01 | D15: 11 | E15: 0020400 | G15: ='приложение 11'!I50 -> 5000000 | H15: ='приложение 11'!P50 -> 5000000
B16: Другие общегосударственные вопросы | C16: 01 | D16: 13 | E16: 0020400 | F16: 012 | G16: ='приложение 11'!I55+'приложение 11'!I269+'приложение 11'!I215+'приложение 11'!I470+'приложение 11'!I290+'приложение 11'!I419+'приложение 11'!I238+'приложение 11'!I20+'приложение 11'!I245+'приложение 11'!I506 -> 187566100 | H16: ='приложение 11'!P55+'приложение 11'!P269+'приложение 11'!P215+'приложение 11'!P470+'приложение 11'!P290+'приложение 11'!P419+'приложение 11'!P238+'приложение 11'!P20+'приложение 11'!P245+'приложение 11'!P506 -> 179889300
A17: 2. | B17: Национальная безопасность и правоохранительная деятельность | C17: 03 | G17: =G18+G20+G19 -> 42296100 | H17: =H18+H20+H19 -> 45744800
B18: Гражданская оборона | C18: 03 | D18: 09 | G18: ='приложение 11'!I100 -> 35524100 | H18: ='приложение 11'!P100 -> 34742800
B19: Защита населения и территории от чрезвычайных ситуаций природного и техногенного характера, пожарная безопасность | C19: 03 | D19: 10 | G19: ='приложение 11'!I114 -> 252000 | H19: ='приложение 11'!P114 -> 252000
B20: Другие вопросы в области национальной безопасности и правоохранительной деятельности | C20: 03 | D20: 14 | G20: ='приложение 11'!I119 -> 6520000 | H20: ='приложение 11'!P119 -> 10750000
A21: 3. | B21: Национальная экономика | C21: 04 | G21: =G22+G24+G25+G23 -> 44985000 | H21: =H22+H24+H25+H23 -> 42072600
B22: Сельское хозяйство и рыболовство | C22: 04 | D22: 05 | G22: ='приложение 11'!I251 -> 29053300 | H22: ='приложение 11'!P251 -> 28721000
B23: Транспорт | C23: 04 | D23: 08 | G23: ='приложение 11'!I136 -> 1250000 | H23: ='приложение 11'!P136 -> 1250000
B24: Дорожное хозяйство(дорожные фонды) | C24: 04 | D24: 09 | G24: ='приложение 11'!I141 -> 8466000 | H24: ='приложение 11'!P141 -> 11231600
B25: Другие вопросы в области национальной экономики | C25: 04 | D25: 12 | G25: ='приложение 11'!I146+'приложение 11'!I283 -> 6215700 | H25: ='приложение 11'!P146+'приложение 11'!P283 -> 870000
A26: 4. | B26: Жилищно-коммунальное хозяйство | C26: 05 | G26: =G27 -> 113440100 | H26: =H27 -> 50516600
B27: Коммунальное хозяйство | C27: 05 | D27: 02 | G27: ='приложение 11'!I156 -> 113440100 | H27: ='приложение 11'!P156 -> 50516600
A28: 5. | B28: Образование | C28: 07 | G28: =G29+G30+G32+G33+G31 -> 3320532600 | H28: =H29+H30+H32+H33+H31 -> 3306303000
B29: Дошкольное образование | C29: 07 | D29: 01 | G29: ='приложение 11'!I297 -> 991538300 | H29: ='приложение 11'!P297 -> 1018435000
B30: Общее образование | C30: 07 | D30: 02 | G30: ='приложение 11'!I314 -> 1892494100 | H30: ='приложение 11'!P314 -> 1875715300
B31: Дополнительное образование детей | C31: 07 | D31: 03 | G31: ='приложение 11'!I355+'приложение 11'!I425 -> 335374000 | H31: ='приложение 11'!P355+'приложение 11'!P425 -> 324833800
B32: Молодежная политика | C32: 07 | D32: 07 | G32: ='приложение 11'!I512+'приложение 11'!I549 -> 17352200 | H32: ='приложение 11'!P512+'приложение 11'!P549 -> 16243000
B33: Другие вопросы в области образования | C33: 07 | D33: 09 | G33: ='приложение 11'!I373+'приложение 11'!I181+'приложение 11'!I541+'приложение 11'!I432 -> 83774000 | H33: ='приложение 11'!P373+'приложение 11'!P181+'приложение 11'!P541+'приложение 11'!P432 -> 71075900
A34: 6. | B34: Культура и кинематография | C34: 08 | G34: =G35+G36 -> 98683400 | H34: =H35+H36 -> 95242300
B35: Культура | C35: 08 | D35: 01 | G35: ='приложение 11'!I438 -> 82661700 | H35: ='приложение 11'!P438 -> 79603300
B36: Другие вопросы в области культуры, кинематографии | C36: 08 | D36: 04 | E36: 4429900 | F36: 001 | G36: ='приложение 11'!I448 -> 16021700 | H36: ='приложение 11'!P448 -> 15639000
A37: 7. | B37: Социальная политика | C37: 10 | G37: =G38+G39+G40 -> 211267300 | H37: =H38+H39+H40 -> 217093900
B38: Социальное обеспечение населения | C38: 10 | D38: 03 | G38: ='приложение 11'!I189 -> 5970700 | H38: ='приложение 11'!P189 -> 5743400
B39: Охрана семьи и детства | C39: 10 | D39: 04 | G39: ='приложение 11'!I412+'приложение 11'!I555+'приложение 11'!I193 -> 191011000 | H39: ='приложение 11'!P412+'приложение 11'!P555+'приложение 11'!P193 -> 197064900
B40: Другие вопросы в области социальной политики | C40: 10 | D40: 06 | G40: ='приложение 11'!I566 -> 14285600 | H40: ='приложение 11'!P566 -> 14285600
...

Sheet приложение 9
C2: Приложение 9
C3: к решению Совета муниципального образования Белореченский муниципальный район Краснодарского края от 27 марта 2025 г. № 165
B4: Распределение бюджетных ассигнований по целевым статьям (муниципальным программам муниципального образования Белореченский муниципальный район Краснодарского края и непрограммным направлениям деятельности), группам видов расходов классификации расходов бюджетов на 2026 и 2027 годы
F5: (рублей)
B6: Наименование | C6: КЦСР | D6: КВР | E6: 2026 год | F6: 2027 год
A7: 1 | B7: 2 | C7: 3 | D7: 4 | E7: 5 | F7: 6
B8: ВСЕГО | E8: =E9+E53+E57+E99+E104+E116+E131+E199+E214+E237+E241+E306+E274+E335+E233+E258+E270+E282+E254+E266+E290+E208+E229+E123+E127+E286 -> 4360965200 | F8: =F9+F53+F57+F99+F104+F116+F131+F199+F214+F237+F241+F306+F274+F335+F233+F258+F270+F282+F254+F266+F290+F208+F229+F123+F127+F286 -> 4322907500
A9: 1. | B9: Муниципальная программа "Обеспечение деятельности органов местного самоуправления" | C9: 5000000000 | E9: =E10+E15+E43+E47+E50 -> 185949100 | F9: =F10+F15+F43+F47+F50 -> 190374500
B10: Обеспечение деятельности высшего должностного лица муниципального образования | C10: 5010000000 | E10: =E11+E13 -> 2423800 | F10: =F11+F13 -> 2341200
B11: Расходы на обеспечение функций органов местного самоуправления | C11: 5010000190 | E11: =E12 -> 2171800 | F11: =F12 -> 2089200
B12: Расходы на выплаты персоналу в целях обеспечения выполнения функций государственными (муниципальными) органами, казенными учреждениями, органами управления государственными внебюджетными фондами | C12: 5010000190 | D12: 100 | E12: ='приложение 11'!I31 -> 2171800 | F12: ='приложение 11'!P31 -> 2089200
B13: Осуществление отдельного государственного полномочия Краснодарского края по формированию списков семей и граждан, жилые помещения которых утрачены, и (или) списков граждан, жилые помещения которых повреждены в результате чрезвычайных ситуаций природного и техногенного характера, а также в результате террористических актов и (или) при пресечении террористических актов правомерными действиями на территории Краснодарского края | C13: 5010060070 | E13: =E14 -> 252000 | F13: =F14 -> 252000
B14: Закупка товаров, работ и услуг для обеспечения государственных (муниципальных) нужд | C14: 5010060070 | D14: 200 | E14: ='приложение 11'!I118 -> 252000 | F14: ='приложение 11'!P118 -> 252000
B15: Обеспечение деятельности администрации муниципального образования | C15: 5020000000 | E15: =E16+E20+E23+E26+E34+E30+E38+E41 -> 155884800 | F15: =F16+F20+F23+F26+F34+F30+F38+F41 -> 162149900
B16: Расходы на обеспечение функций органов местного самоуправления | C16: 5020000190 | E16: =E17+E18+E19 -> 132332000 | F16: =F17+F18+F19 -> 138597100
B17: Расходы на выплаты персоналу в целях обеспечения выполнения функций государственными (муниципальными) органами, казенными учреждениями, органами управления государственными внебюджетными фондами | C17: 5020000190 | D17: 100 | E17: ='приложение 11'!I36+'приложение 11'!I213+'приложение 11'!I255+'приложение 11'!I273+'приложение 11'!I377+'приложение 11'!I452+'приложение 11'!I502+'приложение 11'!I545 -> 132316300 | F17: ='приложение 11'!P36+'приложение 11'!P213+'приложение 11'!P255+'приложение 11'!P273+'приложение 11'!P377+'приложение 11'!P452+'приложение 11'!P502+'приложение 11'!P545 -> 138582000
B18: Закупка товаров, работ и услуг для обеспечения государственных (муниципальных) нужд | C18: 5020000190 | D18: 200 | E18: ='приложение 11'!I274+'приложение 11'!I378 -> 0 | F18: ='приложение 11'!P274+'приложение 11'!P378 -> 0
B19: Иные бюджетные ассигнования | C19: 5020000190 | D19: 800 | E19: ='приложение 11'!I37+'приложение 11'!I214+'приложение 11'!I256+'приложение 11'!I275+'приложение 11'!I379+'приложение 11'!I453+'приложение 11'!I503+'приложение 11'!I546 -> 15700 | F19: ='приложение 11'!P37+'приложение 11'!P214+'приложение 11'!P256+'приложение 11'!P275+'приложение 11'!P379+'приложение 11'!P453+'приложение 11'!P503+'приложение 11'!P546 -> 15100
B20: Осуществление отдельных государственных полномочий по ведению учета граждан отдельных категорий в качестве нуждающихся в жилых помещениях и по формированию списка детей-сирот и детей, оставшихся без попечения родителей, лиц из числа детей-сирот и детей, оставшихся без попечения родителей, лиц, относившихся к категории детей-сирот и детей, оставшихся без попечения родителей, подлежащих обеспечению жилыми помещениями | C20: 5020060870 | E20: =E21+E22 -> 979700 | F20: =F21+F22 -> 979700
B21: Расходы на выплаты персоналу в целях обеспечения выполнения функций государственными (муниципальными) органами, казенными учреждениями, органами управления государственными внебюджетными фондами | C21: 5020060870 | D21: 100 | E21: ='приложение 11'!I39 -> 979700 | F21: ='приложение 11'!P39 -> 979700
B22: Закупка товаров, работ и услуг для обеспечения государственных (муниципальных) нужд | C22: 5020060870 | D22: 200 | E22: ='приложение 11'!I40 -> 0 | F22: ='приложение 11'!P40 -> 0
B23: Осуществление отдельных государственных полномочий Краснодарского края по поддержке сельскохозяйственного производства | C23: 5020060910 | E23: =E24+E25 -> 1953400 | F23: =F24+F25 -> 1953400
B24: Расходы на выплаты персоналу в целях обеспечения выполнения функций государственными (муниципальными) органами, казенными учреждениями, органами управления государственными внебюджетными фондами | C24: 5020060910 | D24: 100 | E24: ='приложение 11'!I258 -> 1953400 | F24: ='приложение 11'!P258 -> 1953400
B25: Закупка товаров, работ и услуг для обеспечения государственных (муниципальных) нужд | C25: 5020060910 | D25: 200 | E25: ='приложение 11'!I259 -> 0 | F25: ='приложение 11'!P259 -> 0
B26: Осуществление отдельных государственных полномочий по выявлению обстоятельств, свидетельствующих о необходимости оказания детям-сиротам и детям, оставшимся без попечения родителей, лицам из числа детей-сирот и детей, оставшихся без попечения родителей, содействия в преодолении трудной жизненной ситуации, и осуществлению контроля за использованием детьми-сиротами и детьми, оставшимися без попечения родителей, лицами из числа детей-сирот и детей, оставшихся без попечения родителей, предоставленных им жилых помещений специализированного жилищного фонда | C26: 5020069170 | E26: =E27+E28+E29 -> 1314600 | F26: =F27+F28+F29 -> 1314600
B27: Расходы на выплату персоналу в целях обеспечения функций государственными (муниципальными) органами, казенными учреждениями, органами управления государственными внебюджетными фондами | C27: 5020069170 | D27: 100 | E27: ='приложение 11'!I570 -> 1314600 | F27: ='приложение 11'!P570 -> 1314600
B28: Закупка товаров, работ и услуг для обеспечения государственных (муниципальных) нужд | C28: 5020069170 | D28: 200 | E28: ='приложение 11'!I571 -> 0 | F28: ='приложение 11'!P571 -> 0
B29: Иные бюджетные ассигнования | C29: 5020069170 | D29: 800 | E29: ='приложение 11'!I572 -> 0 | F29: ='приложение 11'!P572 -> 0
B30: Осуществление отдельных государственных полномочий Краснодарского края по организации и обеспечению отдыха и оздоровления детей (за исключением организации отдыха детей в каникулярное время) | C30: 5020069180 | E30: =E31+E32+E33 -> 979900 | F30: =F31+F32+F33 -> 979900
B31: Расходы на выплату персоналу в целях обеспечения функций государственными (муниципальными) органами, казенными учреждениями, органами управления государственными внебюджетными фондами | C31: 5020069180 | D31: 100 | E31: ='приложение 11'!I574 -> 979900 | F31: ='приложение 11'!P574 -> 979900
B32: Закупка товаров, работ и услуг для обеспечения государственных (муниципальных) нужд | C32: 5020069180 | D32: 200 | E32: ='приложение 11'!I575 -> 0 | F32: ='приложение 11'!P575 -> 0
B33: Иные бюджетные ассигнования | C33: 5020069180 | D33: 800 | E33: ='приложение 11'!I576 -> 0 | F33: ='приложение 11'!P576 -> 0
B34: Осуществление отдельных государственных полномочий по организации и осуществлению деятельности по опеке и попечительству в отношении несовершеннолетних | C34: 5020069190 | E34: =E35+E36+E37 -> 11991100 | F34: =F35+F36+F37 -> 11991100
B35: Расходы на выплату персоналу в целях обеспечения функций государственными (муниципальными) органами, казенными учреждениями, органами управления государственными внебюджетными фондами | C35: 5020069190 | D35: 100 | E35: ='приложение 11'!I578 -> 11290600 | F35: ='приложение 11'!P578 -> 11290600
B36: Закупка товаров, работ и услуг для обеспечения государственных (муниципальных) нужд | C36: 5020069190 | D36: 200 | E36: ='приложение 11'!I579 -> 700000 | F36: ='приложение 11'!P579 -> 700000
B37: Иные бюджетные ассигнования | C37: 5020069190 | D37: 800 | E37: ='приложение 11'!I580 -> 500 | F37: ='приложение 11'!P580 -> 500
B38: Осуществление отдельных государственных полномочий по созданию и организации деятельности комиссий по делам несовершеннолетних и защите их прав | C38: 5020069200 | E38: =E39+E40 -> 5354400 | F38: =F39+F40 -> 5354400
B39: Расходы на выплаты персоналу в целях обеспечения выполнения функций государственными (муниципальными) органами, казенными учреждениями, органами управления государственными внебюджетными фондами | C39: 5020069200 | D39: 100 | E39: ='приложение 11'!I42 -> 5254400 | F39: ='приложение 11'!P42 -> 5254400
B40: Закупка товаров, работ и услуг для обеспечения государственных (муниципальных) нужд | C40: 5020069200 | D40: 200 | E40: ='приложение 11'!I43 -> 100000 | F40: ='приложение 11'!P43 -> 100000
B41: 0существление отдельных государственных полномочий по предоставлению лицам, которые относились к категории детей-сирот и детей, оставшихся без попечения родителей, лиц из числа детей-сирот и детей, оставшихся без попечения родителей, и достигли возраста 23 лет, выплаты на приобретение благоустроенного жилого помещения в собственность или для полного погашения предоставленного на приобретение жилого помещения кредита (займа) по договору, обязательства заемщика по которому обеспечены ипотекой | C41: 5020069210 | E41: =E42 -> 979700 | F41: =F42 -> 979700
...

Sheet приложение 11
H1: Приложение 11
H2: к решению Совета муниципального образования Белореченский муниципальный район Краснодарского края от 27 марта 2025 г. № 165
C3: Ведомственная структура расходов бюджета муниципального образования Белореченский муниципальный район Краснодарского края на 2026 и 2027 годы
P4: (рублей)
B5: № п\п | C5: Наименование | D5: Коды бюджетной классификации | I5: 2026 год | J5: Первоначальный бюджет | K5: 00.12.2024 | L5: 45687 | M5: 45715 | N5: 45743 | O5: Формулы не заполнять | P5: 2027 год | Q5: Первоначальный бюджет | R5: 00.12.2024 | S5: 45687 | T5: 45715 | U5: 45743 | V5: Формулы не заполнять
D6: Вед | E6: Раздел | F6: Подраздел | G6: Целевая статья | H6: Вид расхода
B7: 1 | C7: 2 | D7: 3 | E7: 4 | F7: 5 | G7: 6 | H7: 7 | I7: 8 | P7: 9
C8: ВСЕГО | I8: =SUM(J8:O8) -> 4360965200 | J8: =J9+J25+J207+J227+J243+J267+J288+J417+J468+J504+J547 -> 4010397400 | K8: =K9+K25+K207+K227+K243+K267+K288+K417+K468+K504+K547 -> 191122600 | L8: =L9+L25+L207+L227+L243+L267+L288+L417+L468+L504+L547 -> 0 | M8: =M9+M25+M207+M227+M243+M267+M288+M417+M468+M504+M547 -> 2499800 | N8: =N9+N25+N207+N227+N243+N267+N288+N417+N468+N504+N547 -> 156945400 | O8: =O9+O25+O207+O227+O243+O267+O288+O417+O468+O504+O547 -> 0 | P8: =SUM(Q8:V8) -> 4322907500 | Q8: =Q9+Q25+Q207+Q227+Q243+Q267+Q288+Q417+Q468+Q504+Q547 -> 3990368800 | R8: =R9+R25+R207+R227+R243+R267+R288+R417+R468+R504+R547 -> 314150800 | S8: =S9+S25+S207+S227+S243+S267+S288+S417+S468+S504+S547 -> 0 | T8: =T9+T25+T207+T227+T243+T267+T288+T417+T468+T504+T547 -> 2499800 | U8: =U9+U25+U207+U227+U243+U267+U288+U417+U468+U504+U547 -> 15888100 | V8: =V9+V25+V207+V227+V243+V267+V288+V417+V468+V504+V547 -> 0
B9: 1. | C9: Совет муниципального образования Белореченский муниципальный район Краснодарского края | D9: 901 | I9: =SUM(J9:O9) -> 7350500 | J9: =J10 -> 7350500 | K9: =K10 -> 0 | L9: =L10 -> 0 | M9: =M10 -> 0 | N9: =N10 -> 0 | O9: =O10 -> 0 | P9: =SUM(Q9:V9) -> 5724100 | Q9: =Q10 -> 5724100 | R9: =R10 -> 0 | S9: =S10 -> 0 | T9: =T10 -> 0 | U9: =U10 -> 0 | V9: =V10 -> 0
C10: Общегосударственные вопросы | D10: 901 | E10: 01 | F10: 00 | I10: =SUM(J10:O10) -> 7350500 | J10: =J11+J20 -> 7350500 | K10: =K11+K20 -> 0 | L10: =L11+L20 -> 0 | M10: =M11+M20 -> 0 | N10: =N11+N20 -> 0 | O10: =O11+O20 -> 0 | P10: =SUM(Q10:V10) -> 5724100 | Q10: =Q11+Q20 -> 5724100 | R10: =R11+R20 -> 0 | S10: =S11+S20 -> 0 | T10: =T11+T20 -> 0 | U10: =U11+U20 -> 0 | V10: =V11+V20 -> 0
C11: Функционирование законодательных (представительных) органов государственной власти и представительных органов муниципальных образований | D11: 901 | E11: 01 | F11: 03 | I11: =SUM(J11:O11) -> 5950500 | J11: =J12 -> 5950500 | K11: =K12 -> 0 | L11: =L12 -> 0 | M11: =M12 -> 0 | N11: =N12 -> 0 | O11: =O12 -> 0 | P11: =SUM(Q11:V11) -> 5724100 | Q11: =Q12 -> 5724100 | R11: =R12 -> 0 | S11: =S12 -> 0 | T11: =T12 -> 0 | U11: =U12 -> 0 | V11: =V12 -> 0
C12: Другие непрограммные направления деятельности органов местного самоуправления | D12: 901 | E12: 01 | F12: 03 | G12: 9900000000 | I12: =SUM(J12:O12) -> 5950500 | J12: =J13+J16 -> 5950500 | K12: =K13+K16 -> 0 | L12: =L13+L16 -> 0 | M12: =M13+M16 -> 0 | N12: =N13+N16 -> 0 | O12: =O13+O16 -> 0 | P12: =SUM(Q12:V12) -> 5724100 | Q12: =Q13+Q16 -> 5724100 | R12: =R13+R16 -> 0 | S12: =S13+S16 -> 0 | T12: =T13+T16 -> 0 | U12: =U13+U16 -> 0 | V12: =V13+V16 -> 0
C13: Обеспечение деятельности лиц, замещающих муниципальные должности в представительных органах, контрольно-счетных органах муниципальных образований | D13: 901 | E13: 01 | F13: 03 | G13: 9910000000 | I13: =SUM(J13:O13) -> 1974200 | J13: =J14 -> 1974200 | K13: =K14 -> 0 | L13: =L14 -> 0 | M13: =M14 -> 0 | N13: =N14 -> 0 | O13: =O14 -> 0 | P13: =SUM(Q13:V13) -> 1899100 | Q13: =Q14 -> 1899100 | R13: =R14 -> 0 | S13: =S14 -> 0 | T13: =T14 -> 0 | U13: =U14 -> 0 | V13: =V14 -> 0
C14: Расходы на обеспечение функций органов местного самоуправления | D14: 901 | E14: 01 | F14: 03 | G14: 9910000190 | I14: =SUM(J14:O14) -> 1974200 | J14: =J15 -> 1974200 | K14: =K15 -> 0 | L14: =L15 -> 0 | M14: =M15 -> 0 | N14: =N15 -> 0 | O14: =O15 -> 0 | P14: =SUM(Q14:V14) -> 1899100 | Q14: =Q15 -> 1899100 | R14: =R15 -> 0 | S14: =S15 -> 0 | T14: =T15 -> 0 | U14: =U15 -> 0 | V14: =V15 -> 0
C15: Расходы на выплаты персоналу в целях обеспечения выполнения функций государственными (муниципальными) органами, казенными учреждениями, органами управления государственными внебюджетными фондами | D15: 901 | E15: 01 | F15: 03 | G15: 9910000190 | H15: 100 | I15: =SUM(J15:O15) -> 1974200 | J15: 1974200 | P15: =SUM(Q15:V15) -> 1899100 | Q15: 1899100
C16: Обеспечение деятельности муниципальных и немуниципальных служащих в представительных органах, контрольно-счетных органах муниципальных образований | D16: 901 | E16: 01 | F16: 03 | G16: 9920000000 | I16: =SUM(J16:O16) -> 3976300 | J16: =J17 -> 3976300 | K16: =K17 -> 0 | L16: =L17 -> 0 | M16: =M17 -> 0 | N16: =N17 -> 0 | O16: =O17 -> 0 | P16: =SUM(Q16:V16) -> 3825000 | Q16: =Q17 -> 3825000 | R16: =R17 -> 0 | S16: =S17 -> 0 | T16: =T17 -> 0 | U16: =U17 -> 0 | V16: =V17 -> 0
C17: Расходы на обеспечение функций органов местного самоуправления | D17: 901 | E17: 01 | F17: 03 | G17: 9920000190 | I17: =SUM(J17:O17) -> 3976300 | J17: =J18+J19 -> 3976300 | K17: =K18+K19 -> 0 | L17: =L18+L19 -> 0 | M17: =M18+M19 -> 0 | N17: =N18+N19 -> 0 | O17: =O18+O19 -> 0 | P17: =SUM(Q17:V17) -> 3825000 | Q17: =Q18+Q19 -> 3825000 | R17: =R18+R19 -> 0 | S17: =S18+S19 -> 0 | T17: =T18+T19 -> 0 | U17: =U18+U19 -> 0 | V17: =V18+V19 -> 0
C18: Расходы на выплаты персоналу в целях обеспечения выполнения функций государственными (муниципальными) органами, казенными учреждениями, органами управления государственными внебюджетными фондами | D18: 901 | E18: 01 | F18: 03 | G18: 9920000190 | H18: 100 | I18: =SUM(J18:O18) -> 3972500 | J18: 3972500 | P18: =SUM(Q18:V18) -> 3821300 | Q18: 3821300
C19: Иные бюджетные ассигнования | D19: 901 | E19: 01 | F19: 03 | G19: 9920000190 | H19: 800 | I19: =SUM(J19:O19) -> 3800 | J19: 3800 | P19: =SUM(Q19:V19) -> 3700 | Q19: 3700
C20: Другие общегосударственные вопросы | D20: 901 | E20: 01 | F20: 13 | I20: =SUM(J20:O20) -> 1400000 | J20: =J21 -> 1400000 | K20: =K21 -> 0 | L20: =L21 -> 0 | M20: =M21 -> 0 | N20: =N21 -> 0 | O20: =O21 -> 0 | P20: =SUM(Q20:V20) -> 0 | Q20: =Q21 -> 0 | R20: =R21 -> 0 | S20: =S21 -> 0 | T20: =T21 -> 0 | U20: =U21 -> 0 | V20: =V21 -> 0
C21: Муниципальная программа "Обеспечение деятельности органов местного самоуправления" | D21: 901 | E21: 01 | F21: 13 | G21: 500000000 | I21: =SUM(J21:O21) -> 1400000 | J21: =J22 -> 1400000 | K21: =K22 -> 0 | L21: =L22 -> 0 | M21: =M22 -> 0 | N21: =N22 -> 0 | O21: =O22 -> 0 | P21: =SUM(Q21:V21) -> 0 | Q21: =Q22 -> 0 | R21: =R22 -> 0 | S21: =S22 -> 0 | T21: =T22 -> 0 | U21: =U22 -> 0 | V21: =V22 -> 0
C22: Укрепление материально-технической базы органов местного самоуправления | D22: 901 | E22: 01 | F22: 13 | G22: 5030000000 | I22: =SUM(J22:O22) -> 1400000 | J22: =J23 -> 1400000 | K22: =K23 -> 0 | L22: =L23 -> 0 | M22: =M23 -> 0 | N22: =N23 -> 0 | O22: =O23 -> 0 | P22: =SUM(Q22:V22) -> 0 | Q22: =Q23 -> 0 | R22: =R23 -> 0 | S22: =S23 -> 0 | T22: =T23 -> 0 | U22: =U23 -> 0 | V22: =V23 -> 0
C23: Укрепление материально-технического оснащения для бесперебойного обеспечения бюджетного процесса | D23: 901 | E23: 01 | F23: 13 | G23: 5030010030 | I23: =SUM(J23:O23) -> 1400000 | J23: =J24 -> 1400000 | K23: =K24 -> 0 | L23: =L24 -> 0 | M23: =M24 -> 0 | N23: =N24 -> 0 | O23: =O24 -> 0 | P23: =SUM(Q23:V23) -> 0 | Q23: =Q24 -> 0 | R23: =R24 -> 0 | S23: =S24 -> 0 | T23: =T24 -> 0 | U23: =U24 -> 0 | V23: =V24 -> 0
C24: Закупка товаров, работ и услуг для обеспечения государственных (муниципальных) нужд | D24: 901 | E24: 01 | F24: 13 | G24: 5030010030 | H24: 200 | I24: =SUM(J24:O24) -> 1400000 | J24: 1400000 | P24: =SUM(Q24:V24) -> 0
B25: 2. | C25: Администрация муниципального образования Белореченский муниципальный район Краснодарского края | D25: 902 | I25: =SUM(J25:O25) -> 522770000 | J25: =J26+J99+J135+J155+J180+J188 -> 521379900 | K25: =K26+K99+K135+K155+K180+K188 -> -339700 | L25: =L26+L99+L135+L155+L180+L188 -> 0 | M25: =M26+M99+M135+M155+M180+M188 -> 0 | N25: =N26+N99+N135+N155+N180+N188 -> 1729800 | O25: =O26+O99+O135+O155+O180+O188 -> 0 | P25: =SUM(Q25:V25) -> 474482700 | Q25: =Q26+Q99+Q135+Q155+Q180+Q188 -> 576061300 | R25: =R26+R99+R135+R155+R180+R188 -> 280200 | S25: =S26+S99+S135+S155+S180+S188 -> 0 | T25: =T26+T99+T135+T155+T180+T188 -> 0 | U25: =U26+U99+U135+U155+U180+U188 -> -101858800 | V25: =V26+V99+V135+V155+V180+V188 -> 0
C26: Общегосударственные вопросы | D26: 902 | E26: 01 | F26: 00 | I26: =SUM(J26:O26) -> 240083300 | J26: =J27+J32+J50+J55+J46 -> 240085900 | K26: =K27+K32+K50+K55+K46 -> -2600 | L26: =L27+L32+L50+L55+L46 -> 0 | M26: =M27+M32+M50+M55+M46 -> 0 | N26: =N27+N32+N50+N55+N46 -> 0 | O26: =O27+O32+O50+O55+O46 -> 0 | P26: =SUM(Q26:V26) -> 243250400 | Q26: =Q27+Q32+Q50+Q55+Q46 -> 240172000 | R26: =R27+R32+R50+R55+R46 -> -125400 | S26: =S27+S32+S50+S55+S46 -> 0 | T26: =T27+T32+T50+T55+T46 -> 0 | U26: =U27+U32+U50+U55+U46 -> 3203800 | V26: =V27+V32+V50+V55+V46 -> 0
C27: Функционирование высшего должностного лица субъекта Российской Федерации и муниципального образования | D27: 902 | E27: 01 | F27: 02 | I27: =SUM(J27:O27) -> 2171800 | J27: =J28 -> 2171800 | K27: =K28 -> 0 | L27: =L28 -> 0 | M27: =M28 -> 0 | N27: =N28 -> 0 | O27: =O28 -> 0 | P27: =SUM(Q27:V27) -> 2089200 | Q27: =Q28 -> 2089200 | R27: =R28 -> 0 | S27: =S28 -> 0 | T27: =T28 -> 0 | U27: =U28 -> 0 | V27: =V28 -> 0
C28: Муниципальная программа "Обеспечение деятельности органов местного самоуправления" | D28: 902 | E28: 01 | F28: 02 | G28: 5000000000 | I28: =SUM(J28:O28) -> 2171800 | J28: =J29 -> 2171800 | K28: =K29 -> 0 | L28: =L29 -> 0 | M28: =M29 -> 0 | N28: =N29 -> 0 | O28: =O29 -> 0 | P28: =SUM(Q28:V28) -> 2089200 | Q28: =Q29 -> 2089200 | R28: =R29 -> 0 | S28: =S29 -> 0 | T28: =T29 -> 0 | U28: =U29 -> 0 | V28: =V29 -> 0
C29: Обеспечение деятельности высшего должностного лица муниципального образования | D29: 902 | E29: 01 | F29: 02 | G29: 5010000000 | I29: =SUM(J29:O29) -> 2171800 | J29: =J30 -> 2171800 | K29: =K30 -> 0 | L29: =L30 -> 0 | M29: =M30 -> 0 | N29: =N30 -> 0 | O29: =O30 -> 0 | P29: =SUM(Q29:V29) -> 2089200 | Q29: =Q30 -> 2089200 | R29: =R30 -> 0 | S29: =S30 -> 0 | T29: =T30 -> 0 | U29: =U30 -> 0 | V29: =V30 -> 0
C30: Расходы на обеспечение функций органов местного самоуправления | D30: 902 | E30: 01 | F30: 02 | G30: 5010000190 | I30: =SUM(J30:O30) -> 2171800 | J30: =J31 -> 2171800 | K30: =K31 -> 0 | L30: =L31 -> 0 | M30: =M31 -> 0 | N30: =N31 -> 0 | O30: =O31 -> 0 | P30: =SUM(Q30:V30) -> 2089200 | Q30: =Q31 -> 2089200 | R30: =R31 -> 0 | S30: =S31 -> 0 | T30: =T31 -> 0 | U30: =U31 -> 0 | V30: =V31 -> 0
C31: Расходы на выплаты персоналу в целях обеспечения выполнения функций государственными (муниципальными) органами, казенными учреждениями, органами управления государственными внебюджетными фондами | D31: 902 | E31: 01 | F31: 02 | G31: 5010000190 | H31: 100 | I31: =SUM(J31:O31) -> 2171800 | J31: 2171800 | P31: =SUM(Q31:V31) -> 2089200 | Q31: 2089200
C32: Функционирование Правительства Российской Федерации, высших исполнительных органов государственной власти субъектов Российской Федерации, местных администраций | D32: 902 | E32: 01 | F32: 04 | I32: =SUM(J32:O32) -> 76239500 | J32: =J33 -> 76239500 | K32: =K33 -> 0 | L32: =L33 -> 0 | M32: =M33 -> 0 | N32: =N33 -> 0 | O32: =O33 -> 0 | P32: =SUM(Q32:V32) -> 84918300 | Q32: =Q33 -> 81714500 | R32: =R33 -> 0 | S32: =S33 -> 0 | T32: =T33 -> 0 | U32: =U33 -> 3203800 | V32: =V33 -> 0
C33: Муниципальная программа "Обеспечение деятельности органов местного самоуправления" | D33: 902 | E33: 01 | F33: 04 | G33: 5000000000 | I33: =SUM(J33:O33) -> 76239500 | J33: =J34 -> 76239500 | K33: =K34 -> 0 | L33: =L34 -> 0 | M33: =M34 -> 0 | N33: =N34 -> 0 | O33: =O34 -> 0 | P33: =SUM(Q33:V33) -> 84918300 | Q33: =Q34 -> 81714500 | R33: =R34 -> 0 | S33: =S34 -> 0 | T33: =T34 -> 0 | U33: =U34 -> 3203800 | V33: =V34 -> 0
C34: Обеспечение деятельности администрации муниципального образования | D34: 902 | E34: 01 | F34: 04 | G34: 5020000000 | I34: =SUM(J34:O34) -> 76239500 | J34: =J35+J38+J41+J44 -> 76239500 | K34: =K35+K38+K41+K44 -> 0 | L34: =L35+L38+L41+L44 -> 0 | M34: =M35+M38+M41+M44 -> 0 | N34: =N35+N38+N41+N44 -> 0 | O34: =O35+O38+O41+O44 -> 0 | P34: =SUM(Q34:V34) -> 84918300 | Q34: =Q35+Q38+Q41+Q44 -> 81714500 | R34: =R35+R38+R41+R44 -> 0 | S34: =S35+S38+S41+S44 -> 0 | T34: =T35+T38+T41+T44 -> 0 | U34: =U35+U38+U41+U44 -> 3203800 | V34: =V35+V38+V41+V44 -> 0
C35: Расходы на обеспечение функций органов местного самоуправления | D35: 902 | E35: 01 | F35: 04 | G35: 5020000190 | I35: =SUM(J35:O35) -> 68925700 | J35: =J36+J37 -> 68925700 | K35: =K36+K37 -> 0 | L35: =L36+L37 -> 0 | M35: =M36+M37 -> 0 | N35: =N36+N37 -> 0 | O35: =O36+O37 -> 0 | P35: =SUM(Q35:V35) -> 77604500 | Q35: =Q36+Q37 -> 74400700 | R35: =R36+R37 -> 0 | S35: =S36+S37 -> 0 | T35: =T36+T37 -> 0 | U35: =U36+U37 -> 3203800 | V35: =V36+V37 -> 0
C36: Расходы на выплаты персоналу в целях обеспечения выполнения функций государственными (муниципальными) органами, казенными учреждениями, органами управления государственными внебюджетными фондами | D36: 902 | E36: 01 | F36: 04 | G36: 5020000190 | H36: 100 | I36: =SUM(J36:O36) -> 68925700 | J36: 68925700 | P36: =SUM(Q36:V36) -> 77604500 | Q36: 74400700 | U36: 3203800
C37: Иные бюджетные ассигнования | D37: 902 | E37: 01 | F37: 04 | G37: 5020000190 | H37: 800 | I37: =SUM(J37:O37) -> 0 | P37: =SUM(Q37:V37) -> 0
C38: Осуществление отдельных государственных полномочий по ведению учета граждан отдельных категорий в качестве нуждающихся в жилых помещениях и по формированию списка детей-сирот и детей, оставшихся без попечения родителей, лиц из числа детей-сирот и детей, оставшихся без попечения родителей, лиц, относившихся к категории детей-сирот и детей, оставшихся без попечения родителей, подлежащих обеспечению жилыми помещениями | D38: 902 | E38: 01 | F38: 04 | G38: 5020060870 | I38: =SUM(J38:O38) -> 979700 | J38: =J39+J40 -> 979700 | K38: =K39+K40 -> 0 | L38: =L39+L40 -> 0 | M38: =M39+M40 -> 0 | N38: =N39+N40 -> 0 | O38: =O39+O40 -> 0 | P38: =SUM(Q38:V38) -> 979700 | Q38: =Q39+Q40 -> 979700 | R38: =R39+R40 -> 0 | S38: =S39+S40 -> 0 | T38: =T39+T40 -> 0 | U38: =U39+U40 -> 0 | V38: =V39+V40 -> 0
C39: Расходы на выплаты персоналу в целях обеспечения выполнения функций государственными (муниципальными) органами, казенными учреждениями, органами управления государственными внебюджетными фондами | D39: 902 | E39: 01 | F39: 04 | G39: 5020060870 | H39: 100 | I39: =SUM(J39:O39) -> 979700 | J39: 979700 | P39: =SUM(Q39:V39) -> 979700 | Q39: 979700
C40: Закупка товаров, работ и услуг для обеспечения государственных (муниципальных) нужд | D40: 902 | E40: 01 | F40: 04 | G40: 5020060870 | H40: 200 | I40: =SUM(J40:O40) -> 0 | P40: =SUM(Q40:V40) -> 0
...
