Workbook
Name a: 'приложение 5'!$B$1:$AB$823
Name Excel_BuiltIn__FilterDatabase: 'приложение 4'!$C$2:$C$477
Name Excel_BuiltIn_Print_Area: 'приложение 3'!$A$1:$E$64
Name Excel_BuiltIn_Print_Area: 'приложение 4'!$A$2:$E$484
Name Excel_BuiltIn_Print_Area: 'приложение 5'!$B$1:$AB$819
Name Print_Area_0: 'приложение 5'!$B$1:$L$823
Name Print_Area_0_0: 'приложение 3'!$A$1:$E$59
Name Print_Area_0_0: 'приложение 4'!$A$2:$E$487
Name Print_Area_0_0: 'приложение 5'!$B$1:$I$823
Name Print_Area_0_0_0: 'приложение 5'!$B$1:$AD$823
Name Z_4F3F96C3_7B8B_440F_A7C0_DFFBDC784942__wvu_FilterData: #REF!
Name Z_6CB88F76_ADF1_43EB_B8FB_32CF6D2656A6__wvu_Cols: #REF!
Name Z_6CB88F76_ADF1_43EB_B8FB_32CF6D2656A6__wvu_FilterData: #REF!
Name Z_6CB88F76_ADF1_43EB_B8FB_32CF6D2656A6__wvu_PrintArea: #REF!
Name Z_7BCFB845_C80C_48FE_B4FE_79B4B69115F3__wvu_FilterData: #REF!
Name Z_7D67130F_5829_47C5_93DE_738E8D41F162__wvu_FilterData: #REF!
Name Z_8E2E7D81_C767_11D8_A2FD_006098EF8B30__wvu_Cols: #REF!
Name Z_8E2E7D81_C767_11D8_A2FD_006098EF8B30__wvu_FilterData: #REF!
Name Z_8E2E7D81_C767_11D8_A2FD_006098EF8B30__wvu_PrintArea: #REF!
Name Z_AAB63AD1_4FE4_4C7A_A62E_5A604C03BF55__wvu_FilterData: #REF!
Name Z_C231806E_9211_4D8F_9EB3_1A15C537C808__wvu_FilterData: #REF!
Name Z_D05021AF_1DB5_4AD7_B085_4CD71612CDB6__wvu_FilterData: #REF!
Name Z_D5E1AF6B_71F1_4B33_880B_72787157ADA9__wvu_FilterData: #REF!
Name Z_D5E1AF6B_71F1_4B33_880B_72787157ADA9__wvu_PrintArea: #REF!
Name Z_E2E14CAC_FED5_4087_B580_6F7DEE9C9BA1__wvu_FilterData: #REF!
Name Z_EF5A4981_C8E4_11D8_A2FC_006098EF8BA8__wvu_Cols: #REF!
Name Z_EF5A4981_C8E4_11D8_A2FC_006098EF8BA8__wvu_PrintArea: 'приложение 5'!$A$3
Name Z_EF5A4981_C8E4_11D8_A2FC_006098EF8BA8__wvu_PrintTitles: #REF!
Name Z_EFA5B1DC_5497_4E2C_A2B5_ED756C88CC7C__wvu_Cols: #REF!
Name Z_EFA5B1DC_5497_4E2C_A2B5_ED756C88CC7C__wvu_FilterData: #REF!
Name пр: 'приложение 5'!$B$1:$L$823

Sheet приложение 3
F1: Приложение 3
F2: к решению Совета муниципального образования Белореченский муниципальный район Краснодарского края от 31 июля 2025 г. № 184 "Об утверждении отчета об исполнении бюджета муниципального образования Белореченский муниципальный район Краснодарского края за 2024 год"
B3: Исполнение бюджета муниципального образования Белореченский муниципальный район Краснодарского края по разделам и подразделам классификации расходов бюджетов за 2024 год
G4: (рублей)
A5: № п/п | B5: Наименование | C5: Коды бюджетной классификации | E5: Утверждено | F5: Исполнено | G5: Отклонение
C6: Раздел | D6: Подраздел
A7: 1 | B7: 2 | C7: 3 | D7: 4 | E7: 5 | F7: 6 | G7: 7
B8: Всего расходов | E8: =E9+E17+E21+E26+E30+E36+E39+E41+E45+E50+E52+E56 -> 5.1319331e+09 | F8: =F9+F17+F21+F26+F30+F36+F39+F41+F45+F50+F52+F56 -> 4.9323096e+09 | G8: =E8-F8 -> 1.9962348e+08
A9: 1. | B9: Общегосударственные вопросы | C9: 01 | E9: =E10+E11+E12+E14+E15+E16+E13 -> 4.0519814e+08 | F9: =F10+F11+F12+F14+F15+F16+F13 -> 3.6674172e+08 | G9: =E9-F9 -> 38456421
B10: Функционирование высшего должностного лица субъекта Российской Федерации и муниципального образования | C10: 01 | D10: 02 | E10: ='приложение 5'!I27 -> 2949700 | F10: ='приложение 5'!J27 -> 2916967.6 | G10: =E10-F10 -> 32732.42
B11: Функционирование законодательных (представительных) органов государственной власти и и представительных органов муниципальных образований | C11: 01 | D11: 03 | E11: ='приложение 5'!I12 -> 7445925 | F11: ='приложение 5'!J12 -> 7412627.2 | G11: =E11-F11 -> 33297.79
B12: Функционирование Правительства Российской Федерации, высших органов исполнительной власти субъектов Российской Федерации, местных администраций | C12: 01 | D12: 04 | E12: ='приложение 5'!I32 -> 103787600 | F12: ='приложение 5'!J32 -> 1.0349196e+08 | G12: =E12-F12 -> 295641.48
B13: Судебная система | C13: 01 | D13: 05 | E13: ='приложение 5'!I44 -> 8600 | F13: ='приложение 5'!J44 -> 8600 | G13: =E13-F13 -> 0
B14: Обеспечение деятельности финансовых, налоговых и таможенных органов и органов финансового (финансово-бюджетного) надзора | C14: 01 | D14: 06 | E14: ='приложение 5'!I330+'приложение 5'!I360 -> 36971895 | F14: ='приложение 5'!J330+'приложение 5'!J360 -> 36948327 | G14: =E14-F14 -> 23568.2
B15: Резервные фонды | C15: 01 | D15: 11 | E15: ='приложение 5'!I48 -> 32102214 | F15: ='приложение 5'!J48 -> 0 | G15: =E15-F15 -> 32102214
B16: Другие общегосударственные вопросы | C16: 01 | D16: 13 | E16: ='приложение 5'!I53+'приложение 5'!I401+'приложение 5'!I337+'приложение 5'!I682+'приложение 5'!I426+'приложение 5'!I594+'приложение 5'!I370+'приложение 5'!I20+'приложение 5'!I377+'приложение 5'!I731 -> 2.219322e+08 | F16: ='приложение 5'!J53+'приложение 5'!J401+'приложение 5'!J337+'приложение 5'!J682+'приложение 5'!J426+'приложение 5'!J594+'приложение 5'!J370+'приложение 5'!J20+'приложение 5'!J377+'приложение 5'!J731 -> 2.1596324e+08 | G16: =E16-F16 -> 5968967.2
A17: 2. | B17: Национальная безопасность и правоохранительная деятельность | C17: 03 | E17: =E18+E20+E19 -> 44478508 | F17: =F18+F20+F19 -> 42867220 | G17: =E17-F17 -> 1611287.9
B18: Гражданская оборона | C18: 03 | D18: 09 | E18: ='приложение 5'!I106 -> 37791000 | F18: ='приложение 5'!J106 -> 36322720 | G18: =E18-F18 -> 1468279.9
B19: Защита населения и территории от чрезвычайных ситуаций природного и техногенного характера, пожарная безопасность | C19: 03 | D19: 10 | E19: ='приложение 5'!I120 -> 63000 | F19: ='приложение 5'!J120 -> 0 | G19: =E19-F19 -> 63000
B20: Другие вопросы в области национальной безопасности и правоохранительной деятельности | C20: 03 | D20: 14 | E20: ='приложение 5'!I125 -> 6624507.8 | F20: ='приложение 5'!J125 -> 6544499.8 | G20: =E20-F20 -> 80008
A21: 3. | B21: Национальная экономика | C21: 04 | E21: =E22+E24+E25+E23 -> 58840290 | F21: =F22+F24+F25+F23 -> 52733371 | G21: =E21-F21 -> 6106919.6
B22: Сельское хозяйство и рыболовство | C22: 04 | D22: 05 | E22: ='приложение 5'!I383 -> 30835100 | F22: ='приложение 5'!J383 -> 30804094 | G22: =E22-F22 -> 31005.89
B23: Транспорт | C23: 04 | D23: 08 | E23: ='приложение 5'!I150 -> 1215160 | F23: ='приложение 5'!J150 -> 1185547.2 | G23: =E23-F23 -> 29612.8
B24: Дорожное хозяйство(дорожные фонды) | C24: 04 | D24: 09 | E24: ='приложение 5'!I155 -> 13657838 | F24: ='приложение 5'!J155 -> 8661601.3 | G24: =E24-F24 -> 4996236.9
B25: Другие вопросы в области национальной экономики | C25: 04 | D25: 12 | E25: ='приложение 5'!I160+'приложение 5'!I414 -> 13132192 | F25: ='приложение 5'!J160+'приложение 5'!J414 -> 12082128 | G25: =E25-F25 -> 1050064
A26: 4. | B26: Жилищно-коммунальное хозяйство | C26: 05 | E26: =E28+E29+E27 -> 7.191676e+08 | F26: =F28+F29+F27 -> 6.4517623e+08 | G26: =E26-F26 -> 73991369
B27: Жилищное хозяйство | C27: 05 | D27: 01 | E27: ='приложение 5'!I181 -> 2315796.5 | F27: ='приложение 5'!J181 -> 2315796.5 | G27: =E27-F27 -> 0
B28: Коммунальное хозяйство | C28: 05 | D28: 02 | E28: ='приложение 5'!I186 -> 7.142368e+08 | F28: ='приложение 5'!J186 -> 6.4094209e+08 | G28: =E28-F28 -> 73294715
B29: Коммунальное хозяйство | C29: 05 | D29: 03 | E29: ='приложение 5'!I233 -> 2615000 | F29: ='приложение 5'!J233 -> 1918346.2 | G29: =E29-F29 -> 696653.78
A30: 5. | B30: Образование | C30: 07 | E30: =E31+E32+E34+E35+E33 -> 3.1028691e+09 | F30: =F31+F32+F34+F35+F33 -> 3.0590152e+09 | G30: =E30-F30 -> 43853867
B31: Дошкольное образование | C31: 07 | D31: 01 | E31: ='приложение 5'!I432+'приложение 5'!I240 -> 1.0772958e+09 | F31: ='приложение 5'!J432+'приложение 5'!J240 -> 1.0686892e+09 | G31: =E31-F31 -> 8606589.8
B32: Общее образование | C32: 07 | D32: 02 | E32: ='приложение 5'!I459+'приложение 5'!I251 -> 1.5729017e+09 | F32: ='приложение 5'!J459+'приложение 5'!J251 -> 1.5378086e+09 | G32: =E32-F32 -> 35093035
B33: Дополнительное образование детей | C33: 07 | D33: 03 | E33: ='приложение 5'!I514+'приложение 5'!I600 -> 3.1955962e+08 | F33: ='приложение 5'!J514+'приложение 5'!J600 -> 3.1955962e+08 | G33: =E33-F33 -> 0
B34: Молодежная политика | C34: 07 | D34: 07 | E34: ='приложение 5'!I260+'приложение 5'!I737+'приложение 5'!I783 -> 22872700 | F34: ='приложение 5'!J260+'приложение 5'!J737+'приложение 5'!J783 -> 22831966 | G34: =E34-F34 -> 40734.18
B35: Другие вопросы в области образования | C35: 07 | D35: 09 | E35: ='приложение 5'!I537+'приложение 5'!I265+'приложение 5'!I775+'приложение 5'!I616 -> 1.1023929e+08 | F35: ='приложение 5'!J537+'приложение 5'!J265+'приложение 5'!J775+'приложение 5'!J616 -> 1.1012578e+08 | G35: =E35-F35 -> 113508.26
A36: 6. | B36: Культура и кинематография | C36: 08 | E36: =E37+E38 -> 95430642 | F36: =F37+F38 -> 94845353 | G36: =E36-F36 -> 585289.13
B37: Культура | C37: 08 | D37: 01 | E37: ='приложение 5'!I629 -> 76975000 | F37: ='приложение 5'!J629 -> 76975000 | G37: =E37-F37 -> 0
B38: Другие вопросы в области культуры, кинематографии | C38: 08 | D38: 04 | E38: ='приложение 5'!I644 -> 18455642 | F38: ='приложение 5'!J644 -> 17870353 | G38: =E38-F38 -> 585289.13
A39: 7. | B39: Здравоохранение | C39: 09 | E39: =E40 -> 30758800 | F39: =F40 -> 24365426 | G39: =E39-F39 -> 6393373.8
B40: Амбулаторная помощь | C40: 09 | D40: 02 | E40: ='приложение 5'!I273 -> 30758800 | F40: ='приложение 5'!J273 -> 24365426 | G40: =E40-F40 -> 6393373.8
...

Sheet приложение 4
F2: Приложение 4
F3: к решению Совета муниципального образования Белореченский муниципальный район Краснодарского края от 31 июля 2025 г. № 184 "Об утверждении отчета об исполнении бюджета муниципального образования Белореченский муниципальный район Краснодарского края за 2024 год"
B4: Исполнение бюджета по целевым статьям (муниципальным программам муниципального образования Белореченский муниципальный район Краснодарского края и непрограммным направлениям деятельности), группам видов расходов классификации расходов бюджетов за 2024 год
G5: (рублей)
B6: Наименование | C6: КЦСР | D6: КВР | E6: Утверждено | F6: Исполнено | G6: Отклонение
A7: 1 | B7: 2 | C7: 3 | D7: 4 | E7: 5 | F7: 6 | G7: 7
B8: ВСЕГО | E8: =E9+E51+E57+E100+E110+E124+E135+E139+E219+E241+E262+E281+E285+E436+E385+E277+E131+E380+E362+E366+E376+E403+E416+E235+E397 -> 5.1319331e+09 | F8: =F9+F51+F57+F100+F110+F124+F135+F139+F219+F241+F262+F281+F285+F436+F385+F277+F131+F380+F362+F366+F376+F403+F416+F235+F397 -> 4.9323096e+09 | G8: =E8-F8 -> 1.9962348e+08
A9: 1. | B9: Муниципальная программа "Обеспечение деятельности органов местного самоуправления" | C9: 5000000000 | E9: =E10+E15+E41+E45+E48 -> 2.3549324e+08 | F9: =F10+F15+F41+F45+F48 -> 2.343491e+08 | G9: =E9-F9 -> 1144142
B10: Обеспечение деятельности высшего должностного лица муниципального образования | C10: 5010000000 | E10: =E11+E13 -> 3012700 | F10: =F11+F13 -> 2916967.6 | G10: =E10-F10 -> 95732.42
B11: Расходы на обеспечение функций органов местного самоуправления | C11: 5010000190 | E11: =E12 -> 2949700 | F11: =F12 -> 2916967.6 | G11: =E11-F11 -> 32732.42
B12: Расходы на выплаты персоналу в целях обеспечения выполнения функций государственными (муниципальными) органами, казенными учреждениями, органами управления государственными внебюджетными фондами | C12: 5010000190 | D12: 100 | E12: ='приложение 5'!I31 -> 2949700 | F12: ='приложение 5'!J31 -> 2916967.6 | G12: =E12-F12 -> 32732.42
B13: Осуществление отдельного государственного полномочия Краснодарского края по формированию списков семей и граждан, жилые помещения которых утрачены, и (или) списков граждан, жилые помещения которых повреждены в результате чрезвычайных ситуаций природного и техногенного характера, а также в результате террористических актов и (или) при пресечении террористических актов правомерными действиями на территории Краснодарского края | C13: 5010060070 | E13: =E14 -> 63000 | F13: =F14 -> 0 | G13: =E13-F13 -> 63000
B14: Закупка товаров, работ и услуг для обеспечения государственных (муниципальных) нужд | C14: 5010060070 | D14: 200 | E14: ='приложение 5'!I124 -> 63000 | F14: ='приложение 5'!J124 -> 0 | G14: =E14-F14 -> 63000
B15: Обеспечение деятельности администрации муниципального образования | C15: 5020000000 | E15: =E16+E20+E23+E26+E34+E30+E38 -> 1.9717659e+08 | F15: =F16+F20+F23+F26+F34+F30+F38 -> 1.9670848e+08 | G15: =E15-F15 -> 468107.23
B16: Расходы на обеспечение функций органов местного самоуправления | C16: 5020000190 | E16: =E17+E19+E18 -> 1.7979319e+08 | F16: =F17+F19+F18 -> 1.7932512e+08 | G16: =E16-F16 -> 468067.25
B17: Расходы на выплаты персоналу в целях обеспечения выполнения функций государственными (муниципальными) органами, казенными учреждениями, органами управления государственными внебюджетными фондами | C17: 5020000190 | D17: 100 | E17: ='приложение 5'!I36+'приложение 5'!I334+'приложение 5'!I387+'приложение 5'!I405+'приложение 5'!I541+'приложение 5'!I648+'приложение 5'!I727+'приложение 5'!I779+'приложение 5'!I806 -> 179574463 | F17: ='приложение 5'!J36+'приложение 5'!J334+'приложение 5'!J387+'приложение 5'!J405+'приложение 5'!J541+'приложение 5'!J648+'приложение 5'!J727+'приложение 5'!J779+'приложение 5'!J806 -> 1.7911132e+08 | G17: =E17-F17 -> 463138.25
B18: Закупка товаров, работ и услуг для обеспечения государственных (муниципальных) нужд | C18: 5020000190 | D18: 200 | E18: ='приложение 5'!I335 -> 10000 | F18: ='приложение 5'!J335 -> 10000 | G18: =E18-F18 -> 0
B19: Иные бюджетные ассигнования | C19: 5020000190 | D19: 800 | E19: ='приложение 5'!I37+'приложение 5'!I336+'приложение 5'!I388+'приложение 5'!I406+'приложение 5'!I542+'приложение 5'!I649+'приложение 5'!I728+'приложение 5'!I780 -> 208723.33 | F19: ='приложение 5'!J37+'приложение 5'!J336+'приложение 5'!J388+'приложение 5'!J406+'приложение 5'!J542+'приложение 5'!J649+'приложение 5'!J728+'приложение 5'!J780 -> 203794.33 | G19: =E19-F19 -> 4929
B20: Осуществление отдельных государственных полномочий по ведению учета граждан отдельных категорий в качестве нуждающихся в жилых помещениях и по формированию списка детей-сирот и детей, оставшихся без попечения родителей, лиц из числа детей-сирот и детей, оставшихся без попечения родителей, лиц, относившихся к категории детей-сирот и детей, оставшихся без попечения родителей, подлежащих обеспечению жилыми помещениями | C20: 5020060870 | E20: =E21+E22 -> 755800 | F20: =F21+F22 -> 755800 | G20: =E20-F20 -> 0
B21: Расходы на выплаты персоналу в целях обеспечения выполнения функций государственными (муниципальными) органами, казенными учреждениями, органами управления государственными внебюджетными фондами | C21: 5020060870 | D21: 100 | E21: ='приложение 5'!I39 -> 755800 | F21: ='приложение 5'!J39 -> 755800 | G21: =E21-F21 -> 0
B22: Закупка товаров, работ и услуг для обеспечения государственных (муниципальных) нужд | C22: 5020060870 | D22: 200 | E22: ='приложение 5'!I40 -> 0 | F22: ='приложение 5'!J40 -> 0 | G22: =E22-F22 -> 0
B23: Осуществление отдельных государственных полномочий Краснодарского края по поддержке сельскохозяйственного производства | C23: 5020060910 | E23: =E24+E25 -> 1512000 | F23: =F24+F25 -> 1512000 | G23: =E23-F23 -> 0
B24: Расходы на выплаты персоналу в целях обеспечения выполнения функций государственными (муниципальными) органами, казенными учреждениями, органами управления государственными внебюджетными фондами | C24: 5020060910 | D24: 100 | E24: ='приложение 5'!I390 -> 1512000 | F24: ='приложение 5'!J390 -> 1512000 | G24: =E24-F24 -> 0
B25: Закупка товаров, работ и услуг для обеспечения государственных (муниципальных) нужд | C25: 5020060910 | D25: 200 | E25: ='приложение 5'!I391 -> 0 | F25: ='приложение 5'!J391 -> 0 | G25: =E25-F25 -> 0
B26: Осуществление отдельных государственных полномочий по выявлению обстоятельств, свидетельствующих о необходимости оказания детям-сиротам и детям, оставшимся без попечения родителей, лицам из числа детей-сирот и детей, оставшихся без попечения родителей, содействия в преодолении трудной жизненной ситуации, и осуществлению контроля за использованием детьми-сиротами и детьми, оставшимися без попечения родителей, лицами из числа детей-сирот и детей, оставшихся без попечения родителей, предоставленных им жилых помещений специализированного жилищного фонда | C26: 5020069170 | E26: =E27+E28+E29 -> 1025800 | F26: =F27+F28+F29 -> 1025800 | G26: =E26-F26 -> 0
B27: Расходы на выплату персоналу в целях обеспечения функций государственными (муниципальными) органами, казенными учреждениями, органами управления государственными внебюджетными фондами | C27: 5020069170 | D27: 100 | E27: ='приложение 5'!I808 -> 1025800 | F27: ='приложение 5'!J808 -> 1025800 | G27: =E27-F27 -> 0
B28: Закупка товаров, работ и услуг для обеспечения государственных (муниципальных) нужд | C28: 5020069170 | D28: 200 | E28: ='приложение 5'!I809 -> 0 | F28: ='приложение 5'!J809 -> 0 | G28: =E28-F28 -> 0
B29: Иные бюджетные ассигнования | C29: 5020069170 | D29: 800 | E29: ='приложение 5'!I810 -> 0 | F29: ='приложение 5'!J810 -> 0 | G29: =E29-F29 -> 0
B30: Осуществление отдельных государственных полномочий Краснодарского края по организации и обеспечению отдыха и оздоровления детей (за исключением организации отдыха детей в каникулярное время) | C30: 5020069180 | E30: =E31+E32+E33 -> 756000 | F30: =F31+F32+F33 -> 756000 | G30: =E30-F30 -> 0
B31: Расходы на выплату персоналу в целях обеспечения функций государственными (муниципальными) органами, казенными учреждениями, органами управления государственными внебюджетными фондами | C31: 5020069180 | D31: 100 | E31: ='приложение 5'!I812 -> 756000 | F31: ='приложение 5'!J812 -> 756000 | G31: =E31-F31 -> 0
B32: Закупка товаров, работ и услуг для обеспечения государственных (муниципальных) нужд | C32: 5020069180 | D32: 200 | E32: ='приложение 5'!I813 -> 0 | F32: ='приложение 5'!J813 -> 0 | G32: =E32-F32 -> 0
B33: Иные бюджетные ассигнования | C33: 5020069180 | D33: 800 | E33: ='приложение 5'!I814 -> 0 | F33: ='приложение 5'!J814 -> 0 | G33: =E33-F33 -> 0
B34: Осуществление отдельных государственных полномочий по организации и осуществлению деятельности по опеке и попечительству в отношении несовершеннолетних | C34: 5020069190 | E34: =E35+E36+E37 -> 9229000 | F34: =F35+F36+F37 -> 9228960 | G34: =E34-F34 -> 39.98
B35: Расходы на выплату персоналу в целях обеспечения функций государственными (муниципальными) органами, казенными учреждениями, органами управления государственными внебюджетными фондами | C35: 5020069190 | D35: 100 | E35: ='приложение 5'!I816 -> 8828100 | F35: ='приложение 5'!J816 -> 8828072.5 | G35: =E35-F35 -> 27.46
B36: Закупка товаров, работ и услуг для обеспечения государственных (муниципальных) нужд | C36: 5020069190 | D36: 200 | E36: ='приложение 5'!I817 -> 400400 | F36: ='приложение 5'!J817 -> 400400 | G36: =E36-F36 -> 0
B37: Иные бюджетные ассигнования | C37: 5020069190 | D37: 800 | E37: ='приложение 5'!I818 -> 500 | F37: ='приложение 5'!J818 -> 487.48 | G37: =E37-F37 -> 12.52
B38: Осуществление отдельных государственных полномочий по созданию и организации деятельности комиссий по делам несовершеннолетних и защите их прав | C38: 5020069200 | E38: =E39+E40 -> 4104800 | F38: =F39+F40 -> 4104800 | G38: =E38-F38 -> 0
B39: Расходы на выплаты персоналу в целях обеспечения выполнения функций государственными (муниципальными) органами, казенными учреждениями, органами управления государственными внебюджетными фондами | C39: 5020069200 | D39: 100 | E39: ='приложение 5'!I42 -> 4004800 | F39: ='приложение 5'!J42 -> 4004800 | G39: =E39-F39 -> 0
B40: Закупка товаров, работ и услуг для обеспечения государственных (муниципальных) нужд | C40: 5020069200 | D40: 200 | E40: ='приложение 5'!I43 -> 100000 | F40: ='приложение 5'!J43 -> 100000 | G40: =E40-F40 -> 0
B41: Укрепление материально-технической базы органов местного самоуправления | C41: 5030000000 | E41: =E42 -> 28447354 | F41: =F42 -> 27903325 | G41: =E41-F41 -> 544029.32
...

Sheet приложение 5
J1: Приложение 5
J2: к решению Совета муниципального образования Белореченский муниципальный район Краснодарского края от 31 июля 2025 г. № 184 "Об утверждении отчета об исполнении бюджета муниципального образования Белореченский муниципальный район Краснодарского края за 2024 год"
C3: Исполнение ведомственной структуры расходов бюджета муниципального образования Белореченский муниципальный район Краснодарского края за 2024 год
I4: (рублей)
B5: № п\п | C5: Наименование | D5: Коды бюджетной классификации | I5: Утверждено | J5: Исполнено | K5: Отклонение | L5: Первоначальный бюджет на 2024 год | M5: 45285 | N5: 45303 | O5: 45316 | P5: 45343 | Q5: 45379 | R5: 45407 | S5: 45449 | T5: 45470 | U5: На 25.07.2024 | V5: 45533 | W5: 00.09.2024 | X5: 45589 | Y5: 45617 | Z5: 45638 | AA5: 45650 | AB5: Формулы не заполнять
D6: Вед | E6: Раздел | F6: Подраздел | G6: Целевая статья | H6: Вид расхода
B7: 1 | C7: 2 | D7: 3 | E7: 4 | F7: 5 | G7: 6 | H7: 7 | I7: 8 | J7: 9 | K7: 10 | L7: 8
C8: ВСЕГО | I8: =SUM(L8:AB8) -> 5.1319331e+09 | J8: =J9+J25+J328+J358+J375+J399+J423+J592+J680+J729+J781 -> 4.9323096e+09 | K8: =I8-J8 -> 1.9962348e+08 | L8: =L9+L25+L328+L358+L375+L399+L423+L592+L680+L729+L781 -> 3479117500 | M8: =M9+M25+M328+M358+M375+M399+M423+M592+M680+M729+M781 -> 179535000 | N8: =N9+N25+N328+N358+N375+N399+N423+N592+N680+N729+N781 -> 58056050 | O8: =O9+O25+O328+O358+O375+O399+O423+O592+O680+O729+O781 -> 1.3462968e+08 | P8: =P9+P25+P328+P358+P375+P399+P423+P592+P680+P729+P781 -> 19156810 | Q8: =Q9+Q25+Q328+Q358+Q375+Q399+Q423+Q592+Q680+Q729+Q781 -> 780503940 | R8: =R9+R25+R328+R358+R375+R399+R423+R592+R680+R729+R781 -> 52836000 | S8: =S9+S25+S328+S358+S375+S399+S423+S592+S680+S729+S781 -> 48885322 | ... AB8: =AB9+AB25+AB328+AB358+AB375+AB399+AB423+AB592+AB680+AB729+AB781 -> 0
B9: 1. | C9: Совет муниципального образования Белореченский муниципальный район Краснодарского края | D9: 901 | I9: =SUM(L9:AB9) -> 11236300 | J9: =J10 -> 11203002 | K9: =I9-J9 -> 33297.79 | L9: =L10 -> 7461200 | M9: =M10 -> 0 | N9: =N10 -> 0 | O9: =O10 -> 0 | P9: =P10 -> 0 | Q9: =Q10 -> 0 | R9: =R10 -> 0 | S9: =S10 -> 1075100 | ... AB9: =AB10 -> 0
C10: Общегосударственные вопросы | D10: 901 | E10: 01 | F10: 00 | I10: =SUM(L10:AB10) -> 11236300 | J10: =J20+J11 -> 11203002 | K10: =I10-J10 -> 33297.79 | L10: =L20+L11 -> 7461200 | M10: =M20+M11 -> 0 | N10: =N20+N11 -> 0 | O10: =O20+O11 -> 0 | P10: =P20+P11 -> 0 | Q10: =Q20+Q11 -> 0 | R10: =R20+R11 -> 0 | S10: =S20+S11 -> 1075100 | ... AB10: =AB20+AB11 -> 0
C11: Функционирование законодательных (представительных) органов государственной власти и и представительных органов муниципальных образований | D11: 901 | E11: 01 | F11: 03 | I11: =SUM(L11:AB11) -> 7445925 | J11: =J12 -> 7412627.2 | K11: =I11-J11 -> 33297.79 | L11: =L12 -> 6537200 | M11: =M12 -> 0 | N11: =N12 -> 0 | O11: =O12 -> 0 | P11: =P12 -> 0 | Q11: =Q12 -> 0 | R11: =R12 -> 0 | S11: =S12 -> 975100 | ... AB11: =AB12 -> 0
C12: Другие непрограммные направления деятельности органов местного самоуправления | D12: 901 | E12: 01 | F12: 03 | G12: 9900000000 | I12: =SUM(L12:AB12) -> 7445925 | J12: =J13+J16 -> 7412627.2 | K12: =I12-J12 -> 33297.79 | L12: =L13+L16 -> 6537200 | M12: =M13+M16 -> 0 | N12: =N13+N16 -> 0 | O12: =O13+O16 -> 0 | P12: =P13+P16 -> 0 | Q12: =Q13+Q16 -> 0 | R12: =R13+R16 -> 0 | S12: =S13+S16 -> 975100 | ... AB12: =AB13+AB16 -> 0
C13: Обеспечение деятельности лиц, замещающих муниципальные должности в представительных органах, контрольно-счетных органах муниципальных образований | D13: 901 | E13: 01 | F13: 03 | G13: 9910000000 | I13: =SUM(L13:AB13) -> 2510200 | J13: =J14 -> 2484581.3 | K13: =I13-J13 -> 25618.68 | L13: =L14 -> 2187200 | M13: =M14 -> 0 | N13: =N14 -> 0 | O13: =O14 -> 0 | P13: =P14 -> 0 | Q13: =Q14 -> 0 | R13: =R14 -> 0 | S13: =S14 -> 323000 | ... AB13: =AB14 -> 0
C14: Расходы на обеспечение функций органов местного самоуправления | D14: 901 | E14: 01 | F14: 03 | G14: 9910000190 | I14: =SUM(L14:AB14) -> 2510200 | J14: =J15 -> 2484581.3 | K14: =I14-J14 -> 25618.68 | L14: =L15 -> 2187200 | M14: =M15 -> 0 | N14: =N15 -> 0 | O14: =O15 -> 0 | P14: =P15 -> 0 | Q14: =Q15 -> 0 | R14: =R15 -> 0 | S14: =S15 -> 323000 | ... AB14: =AB15 -> 0
C15: Расходы на выплаты персоналу в целях обеспечения выполнения функций государственными (муниципальными) органами, казенными учреждениями, органами управления государственными внебюджетными фондами | D15: 901 | E15: 01 | F15: 03 | G15: 9910000190 | H15: 100 | I15: =SUM(L15:AB15) -> 2510200 | J15: 2484581.3 | K15: =I15-J15 -> 25618.68 | L15: 2187200 | S15: 323000
C16: Обеспечение деятельности муниципальных и немуниципальных служащих в представительных органах, контрольно-счетных органах муниципальных образований | D16: 901 | E16: 01 | F16: 03 | G16: 9920000000 | I16: =SUM(L16:AB16) -> 4935725 | J16: =J17 -> 4928045.9 | K16: =I16-J16 -> 7679.11 | L16: =L17 -> 4350000 | M16: =M17 -> 0 | N16: =N17 -> 0 | O16: =O17 -> 0 | P16: =P17 -> 0 | Q16: =Q17 -> 0 | R16: =R17 -> 0 | S16: =S17 -> 652100 | ... AB16: =AB17 -> 0
C17: Расходы на обеспечение функций органов местного самоуправления | D17: 901 | E17: 01 | F17: 03 | G17: 9920000190 | I17: =SUM(L17:AB17) -> 4935725 | J17: =J18+J19 -> 4928045.9 | K17: =I17-J17 -> 7679.11 | L17: =L18+L19 -> 4350000 | M17: =M18+M19 -> 0 | N17: =N18+N19 -> 0 | O17: =O18+O19 -> 0 | P17: =P18+P19 -> 0 | Q17: =Q18+Q19 -> 0 | R17: =R18+R19 -> 0 | S17: =S18+S19 -> 652100 | ... AB17: =AB18+AB19 -> 0
C18: Расходы на выплаты персоналу в целях обеспечения выполнения функций государственными (муниципальными) органами, казенными учреждениями, органами управления государственными внебюджетными фондами | D18: 901 | E18: 01 | F18: 03 | G18: 9920000190 | H18: 100 | I18: =SUM(L18:AB18) -> 4932100 | J18: 4924420.9 | K18: =I18-J18 -> 7679.11 | L18: 4345000 | S18: 652100 | AA18: -65000
C19: Иные бюджетные ассигнования | D19: 901 | E19: 01 | F19: 03 | G19: 9920000190 | H19: 800 | I19: =SUM(L19:AB19) -> 3625 | J19: 3625 | K19: =I19-J19 -> 0 | L19: 5000 | Y19: -1375
C20: Другие общегосударственные вопросы | D20: 901 | E20: 01 | F20: 13 | I20: =SUM(L20:AB20) -> 3790375 | J20: =J21 -> 3790375 | K20: =I20-J20 -> 0 | L20: =L21 -> 924000 | M20: =M21 -> 0 | N20: =N21 -> 0 | O20: =O21 -> 0 | P20: =P21 -> 0 | Q20: =Q21 -> 0 | R20: =R21 -> 0 | S20: =S21 -> 100000 | ... AB20: =AB21 -> 0
C21: Муниципальная программа "Обеспечение деятельности органов местного самоуправления" | D21: 901 | E21: 01 | F21: 13 | G21: 5000000000 | I21: =SUM(L21:AB21) -> 3790375 | J21: =J22 -> 3790375 | K21: =I21-J21 -> 0 | L21: =L22 -> 924000 | M21: =M22 -> 0 | N21: =N22 -> 0 | O21: =O22 -> 0 | P21: =P22 -> 0 | Q21: =Q22 -> 0 | R21: =R22 -> 0 | S21: =S22 -> 100000 | ... AB21: =AB22 -> 0
C22: Укрепление материально-технической базы органов местного самоуправления | D22: 901 | E22: 01 | F22: 13 | G22: 5030000000 | I22: =SUM(L22:AB22) -> 3790375 | J22: =J23 -> 3790375 | K22: =I22-J22 -> 0 | L22: =L23 -> 924000 | M22: =M23 -> 0 | N22: =N23 -> 0 | O22: =O23 -> 0 | P22: =P23 -> 0 | Q22: =Q23 -> 0 | R22: =R23 -> 0 | S22: =S23 -> 100000 | ... AB22: =AB23 -> 0
C23: Укрепление материально-технического оснащения для бесперебойного обеспечения бюджетного процесса | D23: 901 | E23: 01 | F23: 13 | G23: 5030010030 | I23: =SUM(L23:AB23) -> 3790375 | J23: =J24 -> 3790375 | K23: =I23-J23 -> 0 | L23: =L24 -> 924000 | M23: =M24 -> 0 | N23: =N24 -> 0 | O23: =O24 -> 0 | P23: =P24 -> 0 | Q23: =Q24 -> 0 | R23: =R24 -> 0 | S23: =S24 -> 100000 | ... AB23: =AB24 -> 0
C24: Закупка товаров, работ и услуг для обеспечения государственных (муниципальных) нужд | D24: 901 | E24: 01 | F24: 13 | G24: 5030010030 | H24: 200 | I24: =SUM(L24:AB24) -> 3790375 | J24: 3790375 | K24: =I24-J24 -> 0 | L24: 924000 | S24: 100000 | X24: =200000+2500000 -> 2700000 | Y24: 1375 | AA24: 65000
B25: 2. | C25: Администрация муниципального образования Белореченский муниципальный район Краснодарского края | D25: 902 | I25: =SUM(L25:AB25) -> 1.7411394e+09 | J25: =J26+J105+J149+J180+J239+J284+J272+J311+J323 -> 1.5518402e+09 | K25: =I25-J25 -> 1.8929925e+08 | L25: =L26+L105+L149+L180+L239+L284+L272+L311 -> 900099200 | M25: =M26+M105+M149+M180+M239+M284+M272+M311 -> 102651300 | N25: =N26+N105+N149+N180+N239+N284+N272+N311 -> 58056050 | O25: =O26+O105+O149+O180+O239+O284+O272+O311 -> 74706177 | P25: =P26+P105+P149+P180+P239+P284+P272+P311 -> 18245370 | Q25: =Q26+Q105+Q149+Q180+Q239+Q284+Q272+Q311 -> 539728570 | R25: =R26+R105+R149+R180+R239+R284+R272+R311+R323 -> 26562300 | S25: =S26+S105+S149+S180+S239+S284+S272+S311 -> 31918077 | T25: =T26+T105+T149+T180+T239+T284+T272+T311 -> 9115400 | U25: =U26+U105+U149+U180+U239+U284+U272+U311 -> 7853730 | V25: =V26+V105+V149+V180+V239+V284+V272+V311 -> 1988700 | W25: =W26+W105+W149+W180+W239+W284+W272+W311 -> 31362300 | X25: =X26+X105+X149+X180+X239+X284+X272+X311 -> -112320000 | Y25: =Y26+Y105+Y149+Y180+Y239+Y284+Y272+Y311 -> 59775860 | Z25: =Z26+Z105+Z149+Z180+Z239+Z284+Z272+Z311 -> -4149989 | ... AB25: =AB26+AB105+AB149+AB180+AB239+AB284+AB272+AB311 -> 0
C26: Общегосударственные вопросы | D26: 902 | E26: 01 | F26: 00 | I26: =SUM(L26:AB26) -> 3.20642e+08 | J26: =J27+J32+J48+J53+J44 -> 2.8292907e+08 | K26: =I26-J26 -> 37712927 | L26: =L27+L32+L48+L53+L44 -> 189606800 | M26: =M27+M32+M48+M53+M44 -> 56848100 | N26: =N27+N32+N48+N53+N44 -> 0 | O26: =O27+O32+O48+O53+O44 -> -4744224 | P26: =P27+P32+P48+P53+P44 -> 2264670 | Q26: =Q27+Q32+Q48+Q53+Q44 -> 1263150 | R26: =R27+R32+R48+R53+R44 -> 400000 | S26: =S27+S32+S48+S53+S44 -> 30740877 | ... AB26: =AB27+AB32+AB48+AB53+AB44 -> 0
C27: Функционирование высшего должностного лица субъекта Российской Федерации и муниципального образования | D27: 902 | E27: 01 | F27: 02 | I27: =SUM(L27:AB27) -> 2949700 | J27: =J28 -> 2916967.6 | K27: =I27-J27 -> 32732.42 | L27: =L28 -> 2429700 | M27: =M28 -> 0 | N27: =N28 -> 0 | O27: =O28 -> 0 | P27: =P28 -> 0 | Q27: =Q28 -> 0 | R27: =R28 -> 0 | S27: =S28 -> 350000 | ... AB27: =AB28 -> 0
C28: Муниципальная программа "Обеспечение деятельности органов местного самоуправления" | D28: 902 | E28: 01 | F28: 02 | G28: 5000000000 | I28: =SUM(L28:AB28) -> 2949700 | J28: =J29 -> 2916967.6 | K28: =I28-J28 -> 32732.42 | L28: =L29 -> 2429700 | M28: =M29 -> 0 | N28: =N29 -> 0 | O28: =O29 -> 0 | P28: =P29 -> 0 | Q28: =Q29 -> 0 | R28: =R29 -> 0 | S28: =S29 -> 350000 | ... AB28: =AB29 -> 0
C29: Обеспечение деятельности высшего должностного лица муниципального образования | D29: 902 | E29: 01 | F29: 02 | G29: 5010000000 | I29: =SUM(L29:AB29) -> 2949700 | J29: =J30 -> 2916967.6 | K29: =I29-J29 -> 32732.42 | L29: =L30 -> 2429700 | M29: =M30 -> 0 | N29: =N30 -> 0 | O29: =O30 -> 0 | P29: =P30 -> 0 | Q29: =Q30 -> 0 | R29: =R30 -> 0 | S29: =S30 -> 350000 | ... AB29: =AB30 -> 0
C30: Расходы на обеспечение функций органов местного самоуправления | D30: 902 | E30: 01 | F30: 02 | G30: 5010000190 | I30: =SUM(L30:AB30) -> 2949700 | J30: =J31 -> 2916967.6 | K30: =I30-J30 -> 32732.42 | L30: =L31 -> 2429700 | M30: =M31 -> 0 | N30: =N31 -> 0 | O30: =O31 -> 0 | P30: =P31 -> 0 | Q30: =Q31 -> 0 | R30: =R31 -> 0 | S30: =S31 -> 350000 | ... AB30: =AB31 -> 0
C31: Расходы на выплаты персоналу в целях обеспечения выполнения функций государственными (муниципальными) органами, казенными учреждениями, органами управления государственными внебюджетными фондами | D31: 902 | E31: 01 | F31: 02 | G31: 5010000190 | H31: 100 | I31: =SUM(L31:AB31) -> 2949700 | J31: 2916967.6 | K31: =I31-J31 -> 32732.42 | L31: 2429700 | S31: 350000 | Z31: 170000
C32: Функционирование Правительства Российской Федерации, высших исполнительных органов государственной власти субъектов Российской Федерации, местных администраций | D32: 902 | E32: 01 | F32: 04 | I32: =SUM(L32:AB32) -> 103787600 | J32: =J33 -> 1.0349196e+08 | K32: =I32-J32 -> 295641.48 | L32: =L33 -> 89095800 | M32: =M33 -> 0 | N32: =N33 -> 0 | O32: =O33 -> 0 | P32: =P33 -> 0 | Q32: =Q33 -> 0 | R32: =R33 -> 0 | S32: =S33 -> 13084800 | ... AB32: =AB33 -> 0
C33: Муниципальная программа "Обеспечение деятельности органов местного самоуправления" | D33: 902 | E33: 01 | F33: 04 | G33: 5000000000 | I33: =SUM(L33:AB33) -> 103787600 | J33: =J34 -> 1.0349196e+08 | K33: =I33-J33 -> 295641.48 | L33: =L34 -> 89095800 | M33: =M34 -> 0 | N33: =N34 -> 0 | O33: =O34 -> 0 | P33: =P34 -> 0 | Q33: =Q34 -> 0 | R33: =R34 -> 0 | S33: =S34 -> 13084800 | ... AB33: =AB34 -> 0
C34: Обеспечение деятельности администрации муниципального образования | D34: 902 | E34: 01 | F34: 04 | G34: 5020000000 | I34: =SUM(L34:AB34) -> 103787600 | J34: =J35+J38+J41 -> 1.0349196e+08 | K34: =I34-J34 -> 295641.48 | L34: =L35+L38+L41 -> 89095800 | M34: =M35+M38+M41 -> 0 | N34: =N35+N38+N41 -> 0 | O34: =O35+O38+O41 -> 0 | P34: =P35+P38+P41 -> 0 | Q34: =Q35+Q38+Q41 -> 0 | R34: =R35+R38+R41 -> 0 | S34: =S35+S38+S41 -> 13084800 | ... AB34: =AB35+AB38+AB41 -> 0
C35: Расходы на обеспечение функций органов местного самоуправления | D35: 902 | E35: 01 | F35: 04 | G35: 5020000190 | I35: =SUM(L35:AB35) -> 98927000 | J35: =J36+J37 -> 98631359 | K35: =I35-J35 -> 295641.48 | L35: =L36+L37 -> 84235200 | M35: =M36+M37 -> 0 | N35: =N36+N37 -> 0 | O35: =O36+O37 -> 0 | P35: =P36+P37 -> 0 | Q35: =Q36+Q37 -> 0 | R35: =R36+R37 -> 0 | S35: =S36+S37 -> 13084800 | ... AB35: =AB36+AB37 -> 0
C36: Расходы на выплаты персоналу в целях обеспечения выполнения функций государственными (муниципальными) органами, казенными учреждениями, органами управления государственными внебюджетными фондами | D36: 902 | E36: 01 | F36: 04 | G36: 5020000190 | H36: 100 | I36: =SUM(L36:AB36) -> 98927000 | J36: 98631359 | K36: =I36-J36 -> 295641.48 | L36: 84235200 | S36: 13084800 | T36: 700000 | X36: 100000 | Z36: -170000 | AA36: 977000
C37: Иные бюджетные ассигнования | D37: 902 | E37: 01 | F37: 04 | G37: 5020000190 | H37: 800 | I37: =SUM(L37:AB37) -> 0 | L37: 0 | M37: 0 | N37: 0 | O37: 0 | P37: 0 | Q37: 0 | R37: 0 | S37: 0 | T37: 0 | U37: 0 | V37: 0 | W37: 0 | X37: 0 | Y37: 0 | Z37: 0 | AA37: 0 | AB37: 0
C38: Осуществление отдельных государственных полномочий по ведению учета граждан отдельных категорий в качестве нуждающихся в жилых помещениях и по формированию списка детей-сирот и детей, оставшихся без попечения родителей, лиц из числа детей-сирот и детей, оставшихся без попечения родителей, лиц, относившихся к категории детей-сирот и детей, оставшихся без попечения родителей, подлежащих обеспечению жилыми помещениями | D38: 902 | E38: 01 | F38: 04 | G38: 5020060870 | I38: =SUM(L38:AB38) -> 755800 | J38: =J39+J40 -> 755800 | K38: =I38-J38 -> 0 | L38: =L39+L40 -> 755800 | M38: =M39+M40 -> 0 | N38: =N39+N40 -> 0 | O38: =O39+O40 -> 0 | P38: =P39+P40 -> 0 | Q38: =Q39+Q40 -> 0 | R38: =R39+R40 -> 0 | S38: =S39+S40 -> 0 | ... AB38: =AB39+AB40 -> 0
C39: Расходы на выплаты персоналу в целях обеспечения выполнения функций государственными (муниципальными) органами, казенными учреждениями, органами управления государственными внебюджетными фондами | D39: 902 | E39: 01 | F39: 04 | G39: 5020060870 | H39: 100 | I39: =SUM(L39:AB39) -> 755800 | J39: 755800 | K39: =I39-J39 -> 0 | L39: 755800
C40: Закупка товаров, работ и услуг для обеспечения государственных (муниципальных) нужд | D40: 902 | E40: 01 | F40: 04 | G40: 5020060870 | H40: 200 | I40: =SUM(L40:AB40) -> 0
...
