Workbook
Name Excel_BuiltIn__FilterDatabase: 'приложение 8'!$C$2:$C$471
Name Excel_BuiltIn_Print_Area: 'приложение 10'!$B$1:$T$809
Name Excel_BuiltIn_Print_Area: 'приложение 6'!$A$1:$G$62
Name Excel_BuiltIn_Print_Area: 'приложение 8'!$A$2:$E$478
Name Print_Area_0_0: 'приложение 10'!$A$1:$T$812
Name Print_Area_0_0_0: 'приложение 10'!$B$1:$T$812
Name Z_4F3F96C3_7B8B_440F_A7C0_DFFBDC784942__wvu_FilterData: #REF!
Name Z_6CB88F76_ADF1_43EB_B8FB_32CF6D2656A6__wvu_Cols: #REF!
Name Z_6CB88F76_ADF1_43EB_B8FB_32CF6D2656A6__wvu_FilterData: #REF!
Name Z_6CB88F76_ADF1_43EB_B8FB_32CF6D2656A6__wvu_PrintArea: #REF!
Name Z_7BCFB845_C80C_48FE_B4FE_79B4B69115F3__wvu_FilterData: #REF!
Name Z_7D67130F_5829_47C5_93DE_738E8D41F162__wvu_FilterData: #REF!
Name Z_8E2E7D81_C767_11D8_A2FD_006098EF8B30__wvu_Cols: #REF!
Name Z_8E2E7D81_C767_11D8_A2FD_006098EF8B30__wvu_FilterData: #REF!
Name Z_8E2E7D81_C767_11D8_A2FD_006098EF8B30__wvu_PrintArea: #REF!
Name Z_AAB63AD1_4FE4_4C7A_A62E_5A604C03BF55__wvu_FilterData: #REF!
Name Z_C231806E_9211_4D8F_9EB3_1A15C537C808__wvu_FilterData: #REF!
Name Z_D05021AF_1DB5_4AD7_B085_4CD71612CDB6__wvu_FilterData: #REF!
Name Z_D5E1AF6B_71F1_4B33_880B_72787157ADA9__wvu_FilterData: #REF!
Name Z_D5E1AF6B_71F1_4B33_880B_72787157ADA9__wvu_PrintArea: #REF!
Name Z_E2E14CAC_FED5_4087_B580_6F7DEE9C9BA1__wvu_FilterData: #REF!
Name Z_EF5A4981_C8E4_11D8_A2FC_006098EF8BA8__wvu_Cols: #REF!
Name Z_EF5A4981_C8E4_11D8_A2FC_006098EF8BA8__wvu_PrintArea: 'приложение 10'!$A$3
Name Z_EF5A4981_C8E4_11D8_A2FC_006098EF8BA8__wvu_PrintTitles: #REF!
Name Z_EFA5B1DC_5497_4E2C_A2B5_ED756C88CC7C__wvu_Cols: #REF!
Name Z_EFA5B1DC_5497_4E2C_A2B5_ED756C88CC7C__wvu_FilterData: #REF!

Sheet приложение 6
C1: Приложение 6
C2: к решению Совета муниципального образования Белореченский муниципальный район Краснодарского края от 31 июля 2025 г. № 183
B3: Распределение бюджетных ассигнований бюджета муниципального образования Белореченский муниципальный район Краснодарского края по разделам и подразделам классификации расходов бюджетов на 2025 год
D4: (рублей)
A5: № п/п | B5: Наименование | C5: Коды бюджетной классификации | G5: 2025 год
C6: Раздел | D6: Подраздел | E6: Целевая статья | F6: Вид расхода
A7: 1 | B7: 2 | C7: 3 | D7: 4 | E7: 5 | F7: 6 | G7: 5
B8: Всего расходов | G8: =G9+G17+G21+G27+G31+G37+G40+G42+G46+G51 -> 5.5463909e+09
A9: 1. | B9: Общегосударственные вопросы | C9: 01 | G9: =G10+G11+G12+G14+G15+G16+G13 -> 405803645
B10: Функционирование высшего должностного лица субъекта Российской Федерации и муниципального образования | C10: 01 | D10: 02 | G10: ='приложение 10'!I27 -> 2860000
B11: Функционирование законодательных (представительных) органов государственной власти и и представительных органов муниципальных образований | C11: 01 | D11: 03 | E11: 0020000 | G11: ='приложение 10'!I11 -> 7773700
B12: Функционирование Правительства Российской Федерации, высших органов исполнительной власти субъектов Российской Федерации, местных администраций | C12: 01 | D12: 04 | G12: ='приложение 10'!I32 -> 107968700
B13: Судебная система | C13: 01 | D13: 05 | G13: ='приложение 10'!I46 -> 7800
B14: Обеспечение деятельности финансовых, налоговых и таможенных органов и органов финансового (финансово-бюджетного) надзора | C14: 01 | D14: 06 | E14: 0020000 | G14: ='приложение 10'!I335+'приложение 10'!I355 -> 35841600
B15: Резервные фонды | C15: 01 | D15: 11 | E15: 0020400 | G15: ='приложение 10'!I50 -> 4000000
B16: Другие общегосударственные вопросы | C16: 01 | D16: 13 | E16: 0020400 | F16: 012 | G16: ='приложение 10'!I55+'приложение 10'!I399+'приложение 10'!I341+'приложение 10'!I674+'приложение 10'!I416+'приложение 10'!I603+'приложение 10'!I365+'приложение 10'!I20+'приложение 10'!I372+'приложение 10'!I726 -> 247351845
A17: 2. | B17: Национальная безопасность и правоохранительная деятельность | C17: 03 | G17: =G18+G20+G19 -> 47196200
B18: Гражданская оборона | C18: 03 | D18: 09 | G18: ='приложение 10'!I103 -> 39874200
B19: Защита населения и территории от чрезвычайных ситуаций природного и техногенного характера, пожарная безопасность | C19: 03 | D19: 10 | G19: ='приложение 10'!I117 -> 252000
B20: Другие вопросы в области национальной безопасности и правоохранительной деятельности | C20: 03 | D20: 14 | G20: ='приложение 10'!I122 -> 7070000
A21: 3. | B21: Национальная экономика | C21: 04 | G21: =G22+G25+G24+G23+G26 -> 54793562
B22: Сельское хозяйство и рыболовство | C22: 04 | D22: 05 | G22: ='приложение 10'!I378 -> 32502407
B23: Водное хозяйство | C23: 04 | D23: 06 | G23: ='приложение 10'!I144 -> 173300
B24: Транспорт | C24: 04 | D24: 08 | G24: ='приложение 10'!I148 -> 1250000
B25: Дорожное хозяйство(дорожные фонды) | C25: 04 | D25: 09 | G25: ='приложение 10'!I153 -> 13609055
B26: Другие вопросы в области национальной экономики | C26: 04 | D26: 12 | G26: ='приложение 10'!I158 -> 7258800
A27: 4. | B27: Жилищно-коммунальное хозяйство | C27: 05 | G27: =G29+G30+G28 -> 7.0604492e+08
B28: Жилищное хозяйство | C28: 05 | D28: 01 | G28: ='приложение 10'!I180 -> 40809900
B29: Коммунальное хозяйство | C29: 05 | D29: 02 | G29: ='приложение 10'!I190 -> 6.6259252e+08
B30: Благоустройство | C30: 05 | D30: 03 | G30: ='приложение 10'!I232 -> 2642500
A31: 5. | B31: Образование | C31: 07 | G31: =G32+G33+G35+G36+G34 -> 3596932939
B32: Дошкольное образование | C32: 07 | D32: 01 | G32: ='приложение 10'!I423+'приложение 10'!I238 -> 1.0821854e+09
B33: Общее образование | C33: 07 | D33: 02 | G33: ='приложение 10'!I455+'приложение 10'!I248 -> 1.9826913e+09
B34: Дополнительное образование детей | C34: 07 | D34: 03 | G34: ='приложение 10'!I511+'приложение 10'!I609 -> 354867659
B35: Молодежная политика | C35: 07 | D35: 07 | G35: ='приложение 10'!I732+'приложение 10'!I777+'приложение 10'!I261+'приложение 10'!I528 -> 29999800
B36: Другие вопросы в области образования | C36: 07 | D36: 09 | G36: ='приложение 10'!I533+'приложение 10'!I266+'приложение 10'!I769+'приложение 10'!I620 -> 1.4718884e+08
A37: 6. | B37: Культура и кинематография | C37: 08 | G37: =G38+G39 -> 113848100
B38: Культура | C38: 08 | D38: 01 | G38: ='приложение 10'!I633 -> 95092800
B39: Другие вопросы в области культуры, кинематографии | C39: 08 | D39: 04 | E39: 4429900 | F39: 001 | G39: ='приложение 10'!I643 -> 18755300
A40: 7. | B40: Здравоохранение | C40: 09 | G40: =G41 -> 29588900
...

Sheet приложение 8
D2: Приложение 8
D3: к решению Совета муниципального образования Белореченский муниципальный район Краснодарского края от 31 июля 2025 г. № 183
B4: Распределение бюджетных ассигнований по целевым статьям (муниципальным программам муниципального образования Белореченский муниципальный район Краснодарского края и непрограммным направлениям деятельности), группам видов расходов классификации расходов бюджетов на 2025 год
E5: (рублей)
B6: Наименование | C6: КЦСР | D6: КВР | E6: 2025 год
A7: 1 | B7: 2 | C7: 3 | D7: 4 | E7: 5
B8: ВСЕГО | E8: =E9+E53+E57+E99+E110+E122+E140+E212+E229+E265+E269+E429+E373+E261+E357+E369+E389+E352+E365+E402+E223+E251+E132+E136+E394+E420 -> 5.5463909e+09
A9: 1. | B9: Муниципальная программа "Обеспечение деятельности органов местного самоуправления" | C9: 5000000000 | E9: =E10+E15+E43+E47+E50 -> 234035805
B10: Обеспечение деятельности высшего должностного лица муниципального образования | C10: 5010000000 | E10: =E11+E13 -> 3112000
B11: Расходы на обеспечение функций органов местного самоуправления | C11: 5010000190 | E11: =E12 -> 2860000
B12: Расходы на выплаты персоналу в целях обеспечения выполнения функций государственными (муниципальными) органами, казенными учреждениями, органами управления государственными внебюджетными фондами | C12: 5010000190 | D12: 100 | E12: ='приложение 10'!I31 -> 2860000
B13: Осуществление отдельного государственного полномочия Краснодарского края по формированию списков семей и граждан, жилые помещения которых утрачены, и (или) списков граждан, жилые помещения которых повреждены в результате чрезвычайных ситуаций природного и техногенного характера, а также в результате террористических актов и (или) при пресечении террористических актов правомерными действиями на территории Краснодарского края | C13: 5010060070 | E13: =E14 -> 252000
B14: Закупка товаров, работ и услуг для обеспечения государственных (муниципальных) нужд | C14: 5010060070 | D14: 200 | E14: ='приложение 10'!I121 -> 252000
B15: Обеспечение деятельности администрации муниципального образования | C15: 5020000000 | E15: =E16+E20+E23+E26+E34+E30+E38+E41 -> 204410600
B16: Расходы на обеспечение функций органов местного самоуправления | C16: 5020000190 | E16: =E17+E18+E19 -> 182228500
B17: Расходы на выплаты персоналу в целях обеспечения выполнения функций государственными (муниципальными) органами, казенными учреждениями, органами управления государственными внебюджетными фондами | C17: 5020000190 | D17: 100 | E17: ='приложение 10'!I36+'приложение 10'!I339+'приложение 10'!I382+'приложение 10'!I403+'приложение 10'!I537+'приложение 10'!I647+'приложение 10'!I722+'приложение 10'!I773 -> 182205400
B18: Закупка товаров, работ и услуг для обеспечения государственных (муниципальных) нужд | C18: 5020000190 | D18: 200 | E18: ='приложение 10'!I404+'приложение 10'!I538 -> 0
B19: Иные бюджетные ассигнования | C19: 5020000190 | D19: 800 | E19: ='приложение 10'!I37+'приложение 10'!I340+'приложение 10'!I383+'приложение 10'!I405+'приложение 10'!I539+'приложение 10'!I648+'приложение 10'!I723+'приложение 10'!I774 -> 23100
B20: Осуществление отдельных государственных полномочий по ведению учета граждан отдельных категорий в качестве нуждающихся в жилых помещениях и по формированию списка детей-сирот и детей, оставшихся без попечения родителей, лиц из числа детей-сирот и детей, оставшихся без попечения родителей, лиц, относившихся к категории детей-сирот и детей, оставшихся без попечения родителей, подлежащих обеспечению жилыми помещениями | C20: 5020060870 | E20: =E21+E22 -> 923100
B21: Расходы на выплаты персоналу в целях обеспечения выполнения функций государственными (муниципальными) органами, казенными учреждениями, органами управления государственными внебюджетными фондами | C21: 5020060870 | D21: 100 | E21: ='приложение 10'!I39 -> 923100
B22: Закупка товаров, работ и услуг для обеспечения государственных (муниципальных) нужд | C22: 5020060870 | D22: 200 | E22: ='приложение 10'!I40 -> 0
B23: Осуществление отдельных государственных полномочий Краснодарского края по поддержке сельскохозяйственного производства | C23: 5020060910 | E23: =E24+E25 -> 1840200
B24: Расходы на выплаты персоналу в целях обеспечения выполнения функций государственными (муниципальными) органами, казенными учреждениями, органами управления государственными внебюджетными фондами | C24: 5020060910 | D24: 100 | E24: ='приложение 10'!I385 -> 1840200
B25: Закупка товаров, работ и услуг для обеспечения государственных (муниципальных) нужд | C25: 5020060910 | D25: 200 | E25: ='приложение 10'!I386 -> 0
B26: Осуществление отдельных государственных полномочий по выявлению обстоятельств, свидетельствующих о необходимости оказания детям-сиротам и детям, оставшимся без попечения родителей, лицам из числа детей-сирот и детей, оставшихся без попечения родителей, содействия в преодолении трудной жизненной ситуации, и осуществлению контроля за использованием детьми-сиротами и детьми, оставшимися без попечения родителей, лицами из числа детей-сирот и детей, оставшихся без попечения родителей, предоставленных им жилых помещений специализированного жилищного фонда | C26: 5020069170 | E26: =E27+E28+E29 -> 1242200
B27: Расходы на выплату персоналу в целях обеспечения функций государственными (муниципальными) органами, казенными учреждениями, органами управления государственными внебюджетными фондами | C27: 5020069170 | D27: 100 | E27: ='приложение 10'!I798 -> 1242200
B28: Закупка товаров, работ и услуг для обеспечения государственных (муниципальных) нужд | C28: 5020069170 | D28: 200 | E28: ='приложение 10'!I799 -> 0
B29: Иные бюджетные ассигнования | C29: 5020069170 | D29: 800 | E29: ='приложение 10'!I800 -> 0
B30: Осуществление отдельных государственных полномочий Краснодарского края по организации и обеспечению отдыха и оздоровления детей (за исключением организации отдыха детей в каникулярное время) | C30: 5020069180 | E30: =E31+E32+E33 -> 923300
B31: Расходы на выплату персоналу в целях обеспечения функций государственными (муниципальными) органами, казенными учреждениями, органами управления государственными внебюджетными фондами | C31: 5020069180 | D31: 100 | E31: ='приложение 10'!I802 -> 923300
B32: Закупка товаров, работ и услуг для обеспечения государственных (муниципальных) нужд | C32: 5020069180 | D32: 200 | E32: ='приложение 10'!I803 -> 0
B33: Иные бюджетные ассигнования | C33: 5020069180 | D33: 800 | E33: ='приложение 10'!I804 -> 0
B34: Осуществление отдельных государственных полномочий по организации и осуществлению деятельности по опеке и попечительству в отношении несовершеннолетних | C34: 5020069190 | E34: =E35+E36+E37 -> 11292600
B35: Расходы на выплату персоналу в целях обеспечения функций государственными (муниципальными) органами, казенными учреждениями, органами управления государственными внебюджетными фондами | C35: 5020069190 | D35: 100 | E35: ='приложение 10'!I806 -> 10592100
B36: Закупка товаров, работ и услуг для обеспечения государственных (муниципальных) нужд | C36: 5020069190 | D36: 200 | E36: ='приложение 10'!I807 -> 700000
B37: Иные бюджетные ассигнования | C37: 5020069190 | D37: 800 | E37: ='приложение 10'!I808 -> 500
B38: Осуществление отдельных государственных полномочий по созданию и организации деятельности комиссий по делам несовершеннолетних и защите их прав | C38: 5020069200 | E38: =E39+E40 -> 5037600
B39: Расходы на выплаты персоналу в целях обеспечения выполнения функций государственными (муниципальными) органами, казенными учреждениями, органами управления государственными внебюджетными фондами | C39: 5020069200 | D39: 100 | E39: ='приложение 10'!I42 -> 4937600
B40: Закупка товаров, работ и услуг для обеспечения государственных (муниципальных) нужд | C40: 5020069200 | D40: 200 | E40: ='приложение 10'!I43 -> 100000
B41: 0существление отдельных государственных полномочий по предоставлению лицам, которые относились к категории детей-сирот и детей, оставшихся без попечения родителей, лиц из числа детей-сирот и детей, оставшихся без попечения родителей, и достигли возраста 23 лет, выплаты на приобретение благоустроенного жилого помещения в собственность или для полного погашения предоставленного на приобретение жилого помещения кредита (займа) по договору, обязательства заемщика по которому обеспечены ипотекой | C41: 5020069210 | E41: =E42 -> 923100
...

Sheet приложение 10
H1: Приложение 10
H2: к решению Совета муниципального образования Белореченский муниципальный район Краснодарского края от 31 июля 2025 г. № 183
C3: Ведомственная структура расходов бюджета муниципального образования Белореченский муниципальный район Краснодарского края на 2025 год
I4: (рублей)
B5: № п\п | C5: Наименование | D5: Коды бюджетной классификации | I5: 2025 год | J5: Первоначальный бюджет | K5: 00.12.2024 | L5: 45687 | M5: 45715 | N5: 45378 | O5: 45772 | P5: Заключение 28.04.2025 | Q5: 45441 | R5: 45834 | S5: 45868 | T5: Формулы не заполнять
D6: Вед | E6: Раздел | F6: Подраздел | G6: Целевая статья | H6: Вид расхода
B7: 1 | C7: 2 | D7: 3 | E7: 4 | F7: 5 | G7: 6 | H7: 7 | I7: 8 | J7: 8
C8: ВСЕГО | I8: =SUM(J8:T8) -> 5.5463909e+09 | J8: =J9+J25+J333+J353+J370+J397+J414+J601+J672+J724+J775 -> 4402723800 | K8: =K9+K25+K333+K353+K370+K397+K414+K601+K672+K724+K775 -> 233235200 | L8: =L9+L25+L333+L353+L370+L397+L414+L601+L672+L724+L775 -> 2.6352798e+08 | M8: =M9+M25+M333+M353+M370+M397+M414+M601+M672+M724+M775 -> 68148007 | N8: =N9+N25+N333+N353+N370+N397+N414+N601+N672+N724+N775 -> 342126740 | O8: =O9+O25+O333+O353+O370+O397+O414+O601+O672+O724+O775 -> 49036711 | P8: =P9+P25+P333+P353+P370+P397+P414+P601+P672+P724+P775 -> 15708500 | Q8: =Q9+Q25+Q333+Q353+Q370+Q397+Q414+Q601+Q672+Q724+Q775 -> 29834075 | ... T8: =T9+T25+T333+T353+T370+T397+T414+T601+T672+T724+T775 -> 0
B9: 1. | C9: Совет муниципального образования Белореченский муниципальный район Краснодарского края | D9: 901 | I9: =SUM(J9:T9) -> 9173700 | J9: =J10 -> 9173700 | K9: =K10 -> 0 | L9: =L10 -> 0 | M9: =M10 -> 0 | N9: =N10 -> 0 | O9: =O10 -> 0 | P9: =P10 -> 0 | Q9: =Q10 -> 0 | ... T9: =T10 -> 0
C10: Общегосударственные вопросы | D10: 901 | E10: 01 | F10: 00 | I10: =SUM(J10:T10) -> 9173700 | J10: =J11+J20 -> 9173700 | K10: =K11+K20 -> 0 | L10: =L11+L20 -> 0 | M10: =M11+M20 -> 0 | N10: =N11+N20 -> 0 | O10: =O11+O20 -> 0 | P10: =P11+P20 -> 0 | Q10: =Q11+Q20 -> 0 | ... T10: =T11+T20 -> 0
C11: Функционирование законодательных (представительных) органов государственной власти и представительных органов муниципальных образований | D11: 901 | E11: 01 | F11: 03 | I11: =SUM(J11:T11) -> 7773700 | J11: =J12 -> 7773700 | K11: =K12 -> 0 | L11: =L12 -> 0 | M11: =M12 -> 0 | N11: =N12 -> 0 | O11: =O12 -> 0 | P11: =P12 -> 0 | Q11: =Q12 -> 0 | ... T11: =T12 -> 0
C12: Другие непрограммные направления деятельности органов местного самоуправления | D12: 901 | E12: 01 | F12: 03 | G12: 9900000000 | I12: =SUM(J12:T12) -> 7773700 | J12: =J13+J16 -> 7773700 | K12: =K13+K16 -> 0 | L12: =L13+L16 -> 0 | M12: =M13+M16 -> 0 | N12: =N13+N16 -> 0 | O12: =O13+O16 -> 0 | P12: =P13+P16 -> 0 | Q12: =Q13+Q16 -> 0 | ... T12: =T13+T16 -> 0
C13: Обеспечение деятельности лиц, замещающих муниципальные должности в представительных органах, контрольно-счетных органах муниципальных образований | D13: 901 | E13: 01 | F13: 03 | G13: 9910000000 | I13: =SUM(J13:T13) -> 2579100 | J13: =J14 -> 2579100 | K13: =K14 -> 0 | L13: =L14 -> 0 | M13: =M14 -> 0 | N13: =N14 -> 0 | O13: =O14 -> 0 | P13: =P14 -> 0 | Q13: =Q14 -> 0 | ... T13: =T14 -> 0
C14: Расходы на обеспечение функций органов местного самоуправления | D14: 901 | E14: 01 | F14: 03 | G14: 9910000190 | I14: =SUM(J14:T14) -> 2579100 | J14: =J15 -> 2579100 | K14: =K15 -> 0 | L14: =L15 -> 0 | M14: =M15 -> 0 | N14: =N15 -> 0 | O14: =O15 -> 0 | P14: =P15 -> 0 | Q14: =Q15 -> 0 | ... T14: =T15 -> 0
C15: Расходы на выплаты персоналу в целях обеспечения выполнения функций государственными (муниципальными) органами, казенными учреждениями, органами управления государственными внебюджетными фондами | D15: 901 | E15: 01 | F15: 03 | G15: 9910000190 | H15: 100 | I15: =SUM(J15:T15) -> 2579100 | J15: 2579100
C16: Обеспечение деятельности муниципальных и немуниципальных служащих в представительных органах, контрольно-счетных органах муниципальных образований | D16: 901 | E16: 01 | F16: 03 | G16: 9920000000 | I16: =SUM(J16:T16) -> 5194600 | J16: =J17 -> 5194600 | K16: =K17 -> 0 | L16: =L17 -> 0 | M16: =M17 -> 0 | N16: =N17 -> 0 | O16: =O17 -> 0 | P16: =P17 -> 0 | Q16: =Q17 -> 0 | ... T16: =T17 -> 0
C17: Расходы на обеспечение функций органов местного самоуправления | D17: 901 | E17: 01 | F17: 03 | G17: 9920000190 | I17: =SUM(J17:T17) -> 5194600 | J17: =J18+J19 -> 5194600 | K17: =K18+K19 -> 0 | L17: =L18+L19 -> 0 | M17: =M18+M19 -> 0 | N17: =N18+N19 -> 0 | O17: =O18+O19 -> 0 | P17: =P18+P19 -> 0 | Q17: =Q18+Q19 -> 0 | ... T17: =T18+T19 -> 0
C18: Расходы на выплаты персоналу в целях обеспечения выполнения функций государственными (муниципальными) органами, казенными учреждениями, органами управления государственными внебюджетными фондами | D18: 901 | E18: 01 | F18: 03 | G18: 9920000190 | H18: 100 | I18: =SUM(J18:T18) -> 5189600 | J18: 5189600
C19: Иные бюджетные ассигнования | D19: 901 | E19: 01 | F19: 03 | G19: 9920000190 | H19: 800 | I19: =SUM(J19:T19) -> 5000 | J19: 5000
C20: Другие общегосударственные вопросы | D20: 901 | E20: 01 | F20: 13 | I20: =SUM(J20:T20) -> 1400000 | J20: =J21 -> 1400000 | K20: =K21 -> 0 | L20: =L21 -> 0 | M20: =M21 -> 0 | N20: =N21 -> 0 | O20: =O21 -> 0 | P20: =P21 -> 0 | Q20: =Q21 -> 0 | ... T20: =T21 -> 0
C21: Муниципальная программа "Обеспечение деятельности органов местного самоуправления" | D21: 901 | E21: 01 | F21: 13 | G21: 500000000 | I21: =SUM(J21:T21) -> 1400000 | J21: =J22 -> 1400000 | K21: =K22 -> 0 | L21: =L22 -> 0 | M21: =M22 -> 0 | N21: =N22 -> 0 | O21: =O22 -> 0 | P21: =P22 -> 0 | Q21: =Q22 -> 0 | ... T21: =T22 -> 0
C22: Укрепление материально-технической базы органов местного самоуправления | D22: 901 | E22: 01 | F22: 13 | G22: 5030000000 | I22: =SUM(J22:T22) -> 1400000 | J22: =J23 -> 1400000 | K22: =K23 -> 0 | L22: =L23 -> 0 | M22: =M23 -> 0 | N22: =N23 -> 0 | O22: =O23 -> 0 | P22: =P23 -> 0 | Q22: =Q23 -> 0 | ... T22: =T23 -> 0
C23: Укрепление материально-технического оснащения для бесперебойного обеспечения бюджетного процесса | D23: 901 | E23: 01 | F23: 13 | G23: 5030010030 | I23: =SUM(J23:T23) -> 1400000 | J23: =J24 -> 1400000 | K23: =K24 -> 0 | L23: =L24 -> 0 | M23: =M24 -> 0 | N23: =N24 -> 0 | O23: =O24 -> 0 | P23: =P24 -> 0 | Q23: =Q24 -> 0 | ... T23: =T24 -> 0
C24: Закупка товаров, работ и услуг для обеспечения государственных (муниципальных) нужд | D24: 901 | E24: 01 | F24: 13 | G24: 5030010030 | H24: 200 | I24: =SUM(J24:T24) -> 1400000 | J24: 1400000
B25: 2. | C25: Администрация муниципального образования Белореченский муниципальный район Краснодарского края | D25: 902 | I25: =SUM(J25:T25) -> 1.4811684e+09 | J25: =J26+J102+J143+J179+J237+J295+J273+J319 -> 1062845000 | K25: =K26+K102+K143+K179+K237+K295+K273+K319 -> 34455300 | L25: =L26+L102+L143+L179+L237+L295+L273+L319 -> 1.4765918e+08 | M25: =M26+M102+M143+M179+M237+M295+M273+M319 -> 25546400 | N25: =N26+N102+N143+N179+N237+N295+N273+N319 -> 100982040 | O25: =O26+O102+O143+O179+O237+O295+O273+O319+O328 -> 34184910 | P25: =P26+P102+P143+P179+P237+P295+P273+P319 -> 0 | Q25: =Q26+Q102+Q143+Q179+Q237+Q295+Q273+Q319 -> 26924975 | R25: =R26+R102+R143+R179+R237+R295+R273+R319 -> 3645700 | S25: =S26+S102+S143+S179+S237+S295+S273+S319 -> 44924880 | T25: =T26+T102+T143+T179+T237+T295+T273+T319 -> 0
C26: Общегосударственные вопросы | D26: 902 | E26: 01 | F26: 00 | I26: =SUM(J26:T26) -> 324491905 | J26: =J27+J32+J50+J55+J46 -> 307406100 | K26: =K27+K32+K50+K55+K46 -> -1018100 | L26: =L27+L32+L50+L55+L46 -> -3119400 | M26: =M27+M32+M50+M55+M46 -> 12197300 | N26: =N27+N32+N50+N55+N46 -> 592240 | O26: =O27+O32+O50+O55+O46 -> 5968110 | P26: =P27+P32+P50+P55+P46 -> 0 | Q26: =Q27+Q32+Q50+Q55+Q46 -> 3614475 | ... T26: =T27+T32+T50+T55+T46 -> 0
C27: Функционирование высшего должностного лица субъекта Российской Федерации и муниципального образования | D27: 902 | E27: 01 | F27: 02 | I27: =SUM(J27:T27) -> 2860000 | J27: =J28 -> 2837300 | K27: =K28 -> 0 | L27: =L28 -> 0 | M27: =M28 -> 22700 | N27: =N28 -> 0 | O27: =O28 -> 0 | P27: =P28 -> 0 | Q27: =Q28 -> 0 | ... T27: =T28 -> 0
C28: Муниципальная программа "Обеспечение деятельности органов местного самоуправления" | D28: 902 | E28: 01 | F28: 02 | G28: 5000000000 | I28: =SUM(J28:T28) -> 2860000 | J28: =J29 -> 2837300 | K28: =K29 -> 0 | L28: =L29 -> 0 | M28: =M29 -> 22700 | N28: =N29 -> 0 | O28: =O29 -> 0 | P28: =P29 -> 0 | Q28: =Q29 -> 0 | ... T28: =T29 -> 0
C29: Обеспечение деятельности высшего должностного лица муниципального образования | D29: 902 | E29: 01 | F29: 02 | G29: 5010000000 | I29: =SUM(J29:T29) -> 2860000 | J29: =J30 -> 2837300 | K29: =K30 -> 0 | L29: =L30 -> 0 | M29: =M30 -> 22700 | N29: =N30 -> 0 | O29: =O30 -> 0 | P29: =P30 -> 0 | Q29: =Q30 -> 0 | ... T29: =T30 -> 0
C30: Расходы на обеспечение функций органов местного самоуправления | D30: 902 | E30: 01 | F30: 02 | G30: 5010000190 | I30: =SUM(J30:T30) -> 2860000 | J30: =J31 -> 2837300 | K30: =K31 -> 0 | L30: =L31 -> 0 | M30: =M31 -> 22700 | N30: =N31 -> 0 | O30: =O31 -> 0 | P30: =P31 -> 0 | Q30: =Q31 -> 0 | ... T30: =T31 -> 0
C31: Расходы на выплаты персоналу в целях обеспечения выполнения функций государственными (муниципальными) органами, казенными учреждениями, органами управления государственными внебюджетными фондами | D31: 902 | E31: 01 | F31: 02 | G31: 5010000190 | H31: 100 | I31: =SUM(J31:T31) -> 2860000 | J31: 2837300 | M31: 22700
C32: Функционирование Правительства Российской Федерации, высших исполнительных органов государственной власти субъектов Российской Федерации, местных администраций | D32: 902 | E32: 01 | F32: 04 | I32: =SUM(J32:T32) -> 107968700 | J32: =J33 -> 106162200 | K32: =K33 -> -1018800 | L32: =L33 -> 0 | M32: =M33 -> 2903500 | N32: =N33 -> 0 | O32: =O33 -> 0 | P32: =P33 -> 0 | Q32: =Q33 -> 0 | ... T32: =T33 -> 0
C33: Муниципальная программа "Обеспечение деятельности органов местного самоуправления" | D33: 902 | E33: 01 | F33: 04 | G33: 5000000000 | I33: =SUM(J33:T33) -> 107968700 | J33: =J34 -> 106162200 | K33: =K34 -> -1018800 | L33: =L34 -> 0 | M33: =M34 -> 2903500 | N33: =N34 -> 0 | O33: =O34 -> 0 | P33: =P34 -> 0 | Q33: =Q34 -> 0 | ... T33: =T34 -> 0
C34: Обеспечение деятельности администрации муниципального образования | D34: 902 | E34: 01 | F34: 04 | G34: 5020000000 | I34: =SUM(J34:T34) -> 107968700 | J34: =J35+J38+J41+J44 -> 106162200 | K34: =K35+K38+K41+K44 -> -1018800 | L34: =L35+L38+L41+L44 -> 0 | M34: =M35+M38+M41+M44 -> 2903500 | N34: =N35+N38+N41+N44 -> 0 | O34: =O35+O38+O41+O44 -> 0 | P34: =P35+P38+P41+P44 -> 0 | Q34: =Q35+Q38+Q41+Q44 -> 0 | ... T34: =T35+T38+T41+T44 -> 0
C35: Расходы на обеспечение функций органов местного самоуправления | D35: 902 | E35: 01 | F35: 04 | G35: 5020000190 | I35: =SUM(J35:T35) -> 101084900 | J35: =J36+J37 -> 99200200 | K35: =K36+K37 -> -1018800 | L35: =L36+L37 -> 0 | M35: =M36+M37 -> 2903500 | N35: =N36+N37 -> 0 | O35: =O36+O37 -> 0 | P35: =P36+P37 -> 0 | Q35: =Q36+Q37 -> 0 | ... T35: =T36+T37 -> 0
C36: Расходы на выплаты персоналу в целях обеспечения выполнения функций государственными (муниципальными) органами, казенными учреждениями, органами управления государственными внебюджетными фондами | D36: 902 | E36: 01 | F36: 04 | G36: 5020000190 | H36: 100 | I36: =SUM(J36:T36) -> 101084900 | J36: 99200200 | K36: -1018800 | M36: 2903500
C37: Иные бюджетные ассигнования | D37: 902 | E37: 01 | F37: 04 | G37: 5020000190 | H37: 800 | I37: =SUM(J37:T37) -> 0
C38: Осуществление отдельных государственных полномочий по ведению учета граждан отдельных категорий в качестве нуждающихся в жилых помещениях и по формированию списка детей-сирот и детей, оставшихся без попечения родителей, лиц из числа детей-сирот и детей, оставшихся без попечения родителей, лиц, относившихся к категории детей-сирот и детей, оставшихся без попечения родителей, подлежащих обеспечению жилыми помещениями | D38: 902 | E38: 01 | F38: 04 | G38: 5020060870 | I38: =SUM(J38:T38) -> 923100 | J38: =J39+J40 -> 933400 | K38: =K39+K40 -> 0 | L38: =L39+L40 -> 0 | M38: =M39+M40 -> 0 | N38: =N39+N40 -> 0 | O38: =O39+O40 -> 0 | P38: =P39+P40 -> 0 | Q38: =Q39+Q40 -> 0 | ... T38: =T39+T40 -> 0
C39: Расходы на выплаты персоналу в целях обеспечения выполнения функций государственными (муниципальными) органами, казенными учреждениями, органами управления государственными внебюджетными фондами | D39: 902 | E39: 01 | F39: 04 | G39: 5020060870 | H39: 100 | I39: =SUM(J39:T39) -> 923100 | J39: 933400 | S39: -10300
C40: Закупка товаров, работ и услуг для обеспечения государственных (муниципальных) нужд | D40: 902 | E40: 01 | F40: 04 | G40: 5020060870 | H40: 200 | I40: =SUM(J40:T40) -> 0 | J40: 0
...
