Workbook
Name Excel_BuiltIn__FilterDatabase: 'приложение 9'!$C$2:$C$349
Name Excel_BuiltIn_Print_Area: 'приложение 11'!$B$1:$S$602
Name Excel_BuiltIn_Print_Area: 'приложение 7'!$A$1:$H$57
Name Excel_BuiltIn_Print_Area: 'приложение 9'!$A$2:$F$354
Name Print_Area_0: 'приложение 9'!$A$2:$F$356
Name Print_Area_0_0: 'приложение 11'!$B$1:$U$605
Name Print_Area_0_0: 'приложение 7'!$A$1:$H$52
Name Print_Area_0_0_0: 'приложение 11'!$A$1:$V$605
Name Print_Area_0_0_0_0: 'приложение 11'!$A$1:$AD$605
Name Print_Area_0_0_0_0_0: 'приложение 11'!$B$1:$T$605
Name Print_Area_0_0_0_0_0_0: 'приложение 11'!$A$1:$U$605
Name Print_Area_0_0_0_0_0_0_0: 'приложение 11'!$A$1:$U$605
Name Z_4F3F96C3_7B8B_440F_A7C0_DFFBDC784942__wvu_FilterData: #REF!
Name Z_6CB88F76_ADF1_43EB_B8FB_32CF6D2656A6__wvu_Cols: #REF!
Name Z_6CB88F76_ADF1_43EB_B8FB_32CF6D2656A6__wvu_FilterData: #REF!
Name Z_6CB88F76_ADF1_43EB_B8FB_32CF6D2656A6__wvu_PrintArea: #REF!
Name Z_7BCFB845_C80C_48FE_B4FE_79B4B69115F3__wvu_FilterData: #REF!
Name Z_7D67130F_5829_47C5_93DE_738E8D41F162__wvu_FilterData: #REF!
Name Z_8E2E7D81_C767_11D8_A2FD_006098EF8B30__wvu_Cols: #REF!
Name Z_8E2E7D81_C767_11D8_A2FD_006098EF8B30__wvu_FilterData: #REF!
Name Z_8E2E7D81_C767_11D8_A2FD_006098EF8B30__wvu_PrintArea: #REF!
Name Z_AAB63AD1_4FE4_4C7A_A62E_5A604C03BF55__wvu_FilterData: #REF!
Name Z_C231806E_9211_4D8F_9EB3_1A15C537C808__wvu_FilterData: #REF!
Name Z_D05021AF_1DB5_4AD7_B085_4CD71612CDB6__wvu_FilterData: #REF!
Name Z_D5E1AF6B_71F1_4B33_880B_72787157ADA9__wvu_FilterData: #REF!
Name Z_D5E1AF6B_71F1_4B33_880B_72787157ADA9__wvu_PrintArea: #REF!
Name Z_E2E14CAC_FED5_4087_B580_6F7DEE9C9BA1__wvu_FilterData: #REF!
Name Z_EF5A4981_C8E4_11D8_A2FC_006098EF8BA8__wvu_Cols: #REF!
Name Z_EF5A4981_C8E4_11D8_A2FC_006098EF8BA8__wvu_PrintArea: 'приложение 11'!$A$3
Name Z_EF5A4981_C8E4_11D8_A2FC_006098EF8BA8__wvu_PrintTitles: #REF!
Name Z_EFA5B1DC_5497_4E2C_A2B5_ED756C88CC7C__wvu_Cols: #REF!
Name Z_EFA5B1DC_5497_4E2C_A2B5_ED756C88CC7C__wvu_FilterData: #REF!

Sheet приложение 7
C1: Приложение 7
C2: к решению Совета муниципального образования Белореченский муниципальный район Краснодарского края от 18 декабря 2025 г. № 232
B3: Распределение бюджетных ассигнований бюджета муниципального образования Белореченский муниципальный район Краснодарского края по разделам и подразделам классификации расходов бюджетов на 2026 и 2027 годы
H4: (рублей)
A5: № п/п | B5: Наименование | C5: Коды бюджетной классификации | G5: 2026 год | H5: 2027 год
C6: Раздел | D6: Подраздел | E6: Целевая статья | F6: Вид расхода
A7: 1 | B7: 2 | C7: 3 | D7: 4 | E7: 5 | F7: 6 | G7: 5 | H7: 6
B8: Всего расходов | G8: =G9+G17+G21+G26+G28+G34+G37+G41+G46+G48 -> 4548501500 | H8: =H9+H17+H21+H26+H28+H34+H37+H41+H46+H48 -> 4322910500
A9: 1. | B9: Общегосударственные вопросы | C9: 01 | G9: =G10+G11+G12+G14+G15+G16+G13 -> 305403500 | H9: =H10+H11+H12+H14+H15+H16+H13 -> 305095400
B10: Функционирование высшего должностного лица субъекта Российской Федерации и муниципального образования | C10: 01 | D10: 02 | G10: ='приложение 11'!I27 -> 2171800 | H10: ='приложение 11'!T27 -> 2089200
B11: Функционирование законодательных (представительных) органов государственной власти и и представительных органов муниципальных образований | C11: 01 | D11: 03 | E11: 0020000 | G11: ='приложение 11'!I11 -> 5950500 | H11: ='приложение 11'!T11 -> 5724100
B12: Функционирование Правительства Российской Федерации, высших органов исполнительной власти субъектов Российской Федерации, местных администраций | C12: 01 | D12: 04 | G12: ='приложение 11'!I32 -> 76239500 | H12: ='приложение 11'!T32 -> 84918300
B13: Судебная система | C13: 01 | D13: 05 | G13: ='приложение 11'!I46 -> 83300 | H13: ='приложение 11'!T46 -> 9200
B14: Обеспечение деятельности финансовых, налоговых и таможенных органов и органов финансового (финансово-бюджетного) надзора | C14: 01 | D14: 06 | E14: 0020000 | G14: ='приложение 11'!I216+'приложение 11'!I236 -> 28552300 | H14: ='приложение 11'!T216+'приложение 11'!T236 -> 27465300
B15: Резервные фонды | C15: 01 | D15: 11 | E15: 0020400 | G15: ='приложение 11'!I50 -> 5000000 | H15: ='приложение 11'!T50 -> 5000000
B16: Другие общегосударственные вопросы | C16: 01 | D16: 13 | E16: 0020400 | F16: 012 | G16: ='приложение 11'!I55+'приложение 11'!I276+'приложение 11'!I222+'приложение 11'!I489+'приложение 11'!I297+'приложение 11'!I436+'приложение 11'!I245+'приложение 11'!I20+'приложение 11'!I252+'приложение 11'!I527 -> 187406100 | H16: ='приложение 11'!T55+'приложение 11'!T276+'приложение 11'!T222+'приложение 11'!T489+'приложение 11'!T297+'приложение 11'!T436+'приложение 11'!T245+'приложение 11'!T20+'приложение 11'!T252+'приложение 11'!T527 -> 179889300
A17: 2. | B17: Национальная безопасность и правоохранительная деятельность | C17: 03 | G17: =G18+G20+G19 -> 42296100 | H17: =H18+H20+H19 -> 45744800
B18: Гражданская оборона | C18: 03 | D18: 09 | G18: ='приложение 11'!I100 -> 35524100 | H18: ='приложение 11'!T100 -> 34742800
B19: Защита населения и территории от чрезвычайных ситуаций природного и техногенного характера, пожарная безопасность | C19: 03 | D19: 10 | G19: ='приложение 11'!I114 -> 252000 | H19: ='приложение 11'!T114 -> 252000
B20: Другие вопросы в области национальной безопасности и правоохранительной деятельности | C20: 03 | D20: 14 | G20: ='приложение 11'!I119 -> 6520000 | H20: ='приложение 11'!T119 -> 10750000
A21: 3. | B21: Национальная экономика | C21: 04 | G21: =G22+G24+G25+G23 -> 230908000 | H21: =H22+H24+H25+H23 -> 42072600
B22: Сельское хозяйство и рыболовство | C22: 04 | D22: 05 | G22: ='приложение 11'!I258 -> 29053300 | H22: ='приложение 11'!T258 -> 28721000
B23: Транспорт | C23: 04 | D23: 08 | G23: ='приложение 11'!I136 -> 1250000 | H23: ='приложение 11'!T136 -> 1250000
B24: Дорожное хозяйство(дорожные фонды) | C24: 04 | D24: 09 | G24: ='приложение 11'!I141 -> 194389000 | H24: ='приложение 11'!T141 -> 11231600
B25: Другие вопросы в области национальной экономики | C25: 04 | D25: 12 | G25: ='приложение 11'!I151+'приложение 11'!I290 -> 6215700 | H25: ='приложение 11'!T151+'приложение 11'!T290 -> 870000
A26: 4. | B26: Жилищно-коммунальное хозяйство | C26: 05 | G26: =G27 -> 113600100 | H26: =H27 -> 50516600
B27: Коммунальное хозяйство | C27: 05 | D27: 02 | G27: ='приложение 11'!I161 -> 113600100 | H27: ='приложение 11'!T161 -> 50516600
A28: 5. | B28: Образование | C28: 07 | G28: =G29+G30+G32+G33+G31 -> 3320426200 | H28: =H29+H30+H32+H33+H31 -> 3306192200
B29: Дошкольное образование | C29: 07 | D29: 01 | G29: ='приложение 11'!I304 -> 991502300 | H29: ='приложение 11'!T304 -> 1018397900
B30: Общее образование | C30: 07 | D30: 02 | G30: ='приложение 11'!I325 -> 1892410300 | H30: ='приложение 11'!T325 -> 1875628100
B31: Дополнительное образование детей | C31: 07 | D31: 03 | G31: ='приложение 11'!I372+'приложение 11'!I442 -> 335373900 | H31: ='приложение 11'!T372+'приложение 11'!T442 -> 324833700
B32: Молодежная политика | C32: 07 | D32: 07 | G32: ='приложение 11'!I533+'приложение 11'!I570 -> 17352200 | H32: ='приложение 11'!T533+'приложение 11'!T570 -> 16243000
B33: Другие вопросы в области образования | C33: 07 | D33: 09 | G33: ='приложение 11'!I390+'приложение 11'!I188+'приложение 11'!I562+'приложение 11'!I451 -> 83787500 | H33: ='приложение 11'!T390+'приложение 11'!T188+'приложение 11'!T562+'приложение 11'!T451 -> 71089500
A34: 6. | B34: Культура и кинематография | C34: 08 | G34: =G35+G36 -> 98683400 | H34: =H35+H36 -> 95242300
B35: Культура | C35: 08 | D35: 01 | G35: ='приложение 11'!I457 -> 82661700 | H35: ='приложение 11'!T457 -> 79603300
B36: Другие вопросы в области культуры, кинематографии | C36: 08 | D36: 04 | E36: 4429900 | F36: 001 | G36: ='приложение 11'!I467 -> 16021700 | H36: ='приложение 11'!T467 -> 15639000
A37: 7. | B37: Социальная политика | C37: 10 | G37: =G38+G39+G40 -> 209887700 | H37: =H38+H39+H40 -> 217208500
B38: Социальное обеспечение населения | C38: 10 | D38: 03 | G38: ='приложение 11'!I196 -> 5970700 | H38: ='приложение 11'!T196 -> 5743400
B39: Охрана семьи и детства | C39: 10 | D39: 04 | G39: ='приложение 11'!I429+'приложение 11'!I576+'приложение 11'!I200 -> 189631400 | H39: ='приложение 11'!T429+'приложение 11'!T576+'приложение 11'!T200 -> 197179500
B40: Другие вопросы в области социальной политики | C40: 10 | D40: 06 | G40: ='приложение 11'!I587 -> 14285600 | H40: ='приложение 11'!T587 -> 14285600
...

Sheet приложение 9
C2: Приложение 9
C3: к решению Совета муниципального образования Белореченский муниципальный район Краснодарского края от 18 декабря 2025 г. № 232
B4: Распределение бюджетных ассигнований по целевым статьям (муниципальным программам муниципального образования Белореченский муниципальный район Краснодарского края и непрограммным направлениям деятельности), группам видов расходов классификации расходов бюджетов на 2026 и 2027 годы
F5: (рублей)
B6: Наименование | C6: КЦСР | D6: КВР | E6: 2026 год | F6: 2027 год
A7: 1 | B7: 2 | C7: 3 | D7: 4 | E7: 5 | F7: 6
B8: ВСЕГО | E8: =E9+E53+E57+E99+E104+E116+E131+E201+E216+E241+E250+E324+E292+E353+E237+E276+E288+E300+E272+E284+E308+E210+E233+E123+E127+E304 -> 4548501500 | F8: =F9+F53+F57+F99+F104+F116+F131+F201+F216+F241+F250+F324+F292+F353+F237+F276+F288+F300+F272+F284+F308+F210+F233+F123+F127+F304 -> 4322910500
A9: 1. | B9: Муниципальная программа "Обеспечение деятельности органов местного самоуправления" | C9: 5000000000 | E9: =E10+E15+E43+E47+E50 -> 185949100 | F9: =F10+F15+F43+F47+F50 -> 190374500
B10: Обеспечение деятельности высшего должностного лица муниципального образования | C10: 5010000000 | E10: =E11+E13 -> 2423800 | F10: =F11+F13 -> 2341200
B11: Расходы на обеспечение функций органов местного самоуправления | C11: 5010000190 | E11: =E12 -> 2171800 | F11: =F12 -> 2089200
B12: Расходы на выплаты персоналу в целях обеспечения выполнения функций государственными (муниципальными) органами, казенными учреждениями, органами управления государственными внебюджетными фондами | C12: 5010000190 | D12: 100 | E12: ='приложение 11'!I31 -> 2171800 | F12: ='приложение 11'!T31 -> 2089200
B13: Осуществление отдельного государственного полномочия Краснодарского края по формированию списков семей и граждан, жилые помещения которых утрачены, и (или) списков граждан, жилые помещения которых повреждены в результате чрезвычайных ситуаций природного и техногенного характера, а также в результате террористических актов и (или) при пресечении террористических актов правомерными действиями на территории Краснодарского края | C13: 5010060070 | E13: =E14 -> 252000 | F13: =F14 -> 252000
B14: Закупка товаров, работ и услуг для обеспечения государственных (муниципальных) нужд | C14: 5010060070 | D14: 200 | E14: ='приложение 11'!I118 -> 252000 | F14: ='приложение 11'!T118 -> 252000
B15: Обеспечение деятельности администрации муниципального образования | C15: 5020000000 | E15: =E16+E20+E23+E26+E34+E30+E38+E41 -> 155884800 | F15: =F16+F20+F23+F26+F34+F30+F38+F41 -> 162149900
B16: Расходы на обеспечение функций органов местного самоуправления | C16: 5020000190 | E16: =E17+E18+E19 -> 132332000 | F16: =F17+F18+F19 -> 138597100
B17: Расходы на выплаты персоналу в целях обеспечения выполнения функций государственными (муниципальными) органами, казенными учреждениями, органами управления государственными внебюджетными фондами | C17: 5020000190 | D17: 100 | E17: ='приложение 11'!I36+'приложение 11'!I220+'приложение 11'!I262+'приложение 11'!I280+'приложение 11'!I394+'приложение 11'!I471+'приложение 11'!I523+'приложение 11'!I566 -> 132316300 | F17: ='приложение 11'!T36+'приложение 11'!T220+'приложение 11'!T262+'приложение 11'!T280+'приложение 11'!T394+'приложение 11'!T471+'приложение 11'!T523+'приложение 11'!T566 -> 138582000
B18: Закупка товаров, работ и услуг для обеспечения государственных (муниципальных) нужд | C18: 5020000190 | D18: 200 | E18: ='приложение 11'!I281+'приложение 11'!I395 -> 0 | F18: ='приложение 11'!T281+'приложение 11'!T395 -> 0
B19: Иные бюджетные ассигнования | C19: 5020000190 | D19: 800 | E19: ='приложение 11'!I37+'приложение 11'!I221+'приложение 11'!I263+'приложение 11'!I282+'приложение 11'!I396+'приложение 11'!I472+'приложение 11'!I524+'приложение 11'!I567 -> 15700 | F19: ='приложение 11'!T37+'приложение 11'!T221+'приложение 11'!T263+'приложение 11'!T282+'приложение 11'!T396+'приложение 11'!T472+'приложение 11'!T524+'приложение 11'!T567 -> 15100
B20: Осуществление отдельных государственных полномочий по ведению учета граждан отдельных категорий в качестве нуждающихся в жилых помещениях и по формированию списка детей-сирот и детей, оставшихся без попечения родителей, лиц из числа детей-сирот и детей, оставшихся без попечения родителей, лиц, относившихся к категории детей-сирот и детей, оставшихся без попечения родителей, подлежащих обеспечению жилыми помещениями | C20: 5020060870 | E20: =E21+E22 -> 979700 | F20: =F21+F22 -> 979700
B21: Расходы на выплаты персоналу в целях обеспечения выполнения функций государственными (муниципальными) органами, казенными учреждениями, органами управления государственными внебюджетными фондами | C21: 5020060870 | D21: 100 | E21: ='приложение 11'!I39 -> 979700 | F21: ='приложение 11'!T39 -> 979700
B22: Закупка товаров, работ и услуг для обеспечения государственных (муниципальных) нужд | C22: 5020060870 | D22: 200 | E22: ='приложение 11'!I40 -> 0 | F22: ='приложение 11'!T40 -> 0
B23: Осуществление отдельных государственных полномочий Краснодарского края по поддержке сельскохозяйственного производства | C23: 5020060910 | E23: =E24+E25 -> 1953400 | F23: =F24+F25 -> 1953400
B24: Расходы на выплаты персоналу в целях обеспечения выполнения функций государственными (муниципальными) органами, казенными учреждениями, органами управления государственными внебюджетными фондами | C24: 5020060910 | D24: 100 | E24: ='приложение 11'!I265 -> 1953400 | F24: ='приложение 11'!T265 -> 1953400
B25: Закупка товаров, работ и услуг для обеспечения государственных (муниципальных) нужд | C25: 5020060910 | D25: 200 | E25: ='приложение 11'!I266 -> 0 | F25: ='приложение 11'!T266 -> 0
B26: Осуществление отдельных государственных полномочий по выявлению обстоятельств, свидетельствующих о необходимости оказания детям-сиротам и детям, оставшимся без попечения родителей, лицам из числа детей-сирот и детей, оставшихся без попечения родителей, содействия в преодолении трудной жизненной ситуации, и осуществлению контроля за использованием детьми-сиротами и детьми, оставшимися без попечения родителей, лицами из числа детей-сирот и детей, оставшихся без попечения родителей, предоставленных им жилых помещений специализированного жилищного фонда | C26: 5020069170 | E26: =E27+E28+E29 -> 1314600 | F26: =F27+F28+F29 -> 1314600
B27: Расходы на выплату персоналу в целях обеспечения функций государственными (муниципальными) органами, казенными учреждениями, органами управления государственными внебюджетными фондами | C27: 5020069170 | D27: 100 | E27: ='приложение 11'!I591 -> 1314600 | F27: ='приложение 11'!T591 -> 1314600
B28: Закупка товаров, работ и услуг для обеспечения государственных (муниципальных) нужд | C28: 5020069170 | D28: 200 | E28: ='приложение 11'!I592 -> 0 | F28: ='приложение 11'!T592 -> 0
B29: Иные бюджетные ассигнования | C29: 5020069170 | D29: 800 | E29: ='приложение 11'!I593 -> 0 | F29: ='приложение 11'!T593 -> 0
B30: Осуществление отдельных государственных полномочий Краснодарского края по организации и обеспечению отдыха и оздоровления детей (за исключением организации отдыха детей в каникулярное время) | C30: 5020069180 | E30: =E31+E32+E33 -> 979900 | F30: =F31+F32+F33 -> 979900
B31: Расходы на выплату персоналу в целях обеспечения функций государственными (муниципальными) органами, казенными учреждениями, органами управления государственными внебюджетными фондами | C31: 5020069180 | D31: 100 | E31: ='приложение 11'!I595 -> 979900 | F31: ='приложение 11'!T595 -> 979900
B32: Закупка товаров, работ и услуг для обеспечения государственных (муниципальных) нужд | C32: 5020069180 | D32: 200 | E32: ='приложение 11'!I596 -> 0 | F32: ='приложение 11'!T596 -> 0
B33: Иные бюджетные ассигнования | C33: 5020069180 | D33: 800 | E33: ='приложение 11'!I597 -> 0 | F33: ='приложение 11'!T597 -> 0
B34: Осуществление отдельных государственных полномочий по организации и осуществлению деятельности по опеке и попечительству в отношении несовершеннолетних | C34: 5020069190 | E34: =E35+E36+E37 -> 11991100 | F34: =F35+F36+F37 -> 11991100
B35: Расходы на выплату персоналу в целях обеспечения функций государственными (муниципальными) органами, казенными учреждениями, органами управления государственными внебюджетными фондами | C35: 5020069190 | D35: 100 | E35: ='приложение 11'!I599 -> 11290600 | F35: ='приложение 11'!T599 -> 11290600
B36: Закупка товаров, работ и услуг для обеспечения государственных (муниципальных) нужд | C36: 5020069190 | D36: 200 | E36: ='приложение 11'!I600 -> 700000 | F36: ='приложение 11'!T600 -> 700000
B37: Иные бюджетные ассигнования | C37: 5020069190 | D37: 800 | E37: ='приложение 11'!I601 -> 500 | F37: ='приложение 11'!T601 -> 500
B38: Осуществление отдельных государственных полномочий по созданию и организации деятельности комиссий по делам несовершеннолетних и защите их прав | C38: 5020069200 | E38: =E39+E40 -> 5354400 | F38: =F39+F40 -> 5354400
B39: Расходы на выплаты персоналу в целях обеспечения выполнения функций государственными (муниципальными) органами, казенными учреждениями, органами управления государственными внебюджетными фондами | C39: 5020069200 | D39: 100 | E39: ='приложение 11'!I42 -> 5254400 | F39: ='приложение 11'!T42 -> 5254400
B40: Закупка товаров, работ и услуг для обеспечения государственных (муниципальных) нужд | C40: 5020069200 | D40: 200 | E40: ='приложение 11'!I43 -> 100000 | F40: ='приложение 11'!T43 -> 100000
B41: 0существление отдельных государственных полномочий по предоставлению лицам, которые относились к категории детей-сирот и детей, оставшихся без попечения родителей, лиц из числа детей-сирот и детей, оставшихся без попечения родителей, и достигли возраста 23 лет, выплаты на приобретение благоустроенного жилого помещения в собственность или для полного погашения предоставленного на приобретение жилого помещения кредита (займа) по договору, обязательства заемщика по которому обеспечены ипотекой | C41: 5020069210 | E41: =E42 -> 979700 | F41: =F42 -> 979700
...

Sheet приложение 11
H1: Приложение 11
H2: к решению Совета муниципального образования Белореченский муниципальный район Краснодарского края от 18 декабря 2025 г. № 232
C3: Ведомственная структура расходов бюджета муниципального образования Белореченский муниципальный район Краснодарского края на 2026 и 2027 годы
T4: (рублей)
B5: № п\п | C5: Наименование | D5: Коды бюджетной классификации | I5: 2026 год | J5: Первоначальный бюджет | K5: 00.12.2024 | L5: 45687 | M5: 45715 | N5: 45743 | O5: 30,07,25 | P5: 45924 | Q5: 45986 | R5: 00.12.2025 | S5: Формулы не заполнять | T5: 2027 год | U5: Первоначальный бюджет | V5: 00.12.2024 | W5: 45687 | X5: 45715 | Y5: 45743 | Z5: 45868 | AA5: 45924 | AB5: 45986 | AC5: 00.12.2025 | AD5: Формулы не заполнять
D6: Вед | E6: Раздел | F6: Подраздел | G6: Целевая статья | H6: Вид расхода
B7: 1 | C7: 2 | D7: 3 | E7: 4 | F7: 5 | G7: 6 | H7: 7 | I7: 8 | T7: 9
C8: ВСЕГО | I8: =SUM(J8:S8) -> 4548501500 | J8: =J9+J25+J214+J234+J250+J274+J295+J434+J487+J525+J568 -> 4010397400 | K8: =K9+K25+K214+K234+K250+K274+K295+K434+K487+K525+K568 -> 191122600 | L8: =L9+L25+L214+L234+L250+L274+L295+L434+L487+L525+L568 -> 0 | M8: =M9+M25+M214+M234+M250+M274+M295+M434+M487+M525+M568 -> 2499800 | N8: =N9+N25+N214+N234+N250+N274+N295+N434+N487+N525+N568 -> 156945400 | O8: =O9+O25+O214+O234+O250+O274+O295+O434+O487+O525+O568 -> 0 | P8: =P9+P25+P214+P234+P250+P274+P295+P434+P487+P525+P568 -> 0 | Q8: =Q9+Q25+Q214+Q234+Q250+Q274+Q295+Q434+Q487+Q525+Q568 -> 1613300 | ... S8: =S9+S25+S214+S234+S250+S274+S295+S434+S487+S525+S568 -> 0 | T8: =SUM(U8:AD8) -> 4322910500 | U8: =U9+U25+U214+U234+U250+U274+U295+U434+U487+U525+U568 -> 3990368800 | V8: =V9+V25+V214+V234+V250+V274+V295+V434+V487+V525+V568 -> 314150800 | W8: =W9+W25+W214+W234+W250+W274+W295+W434+W487+W525+W568 -> 0 | X8: =X9+X25+X214+X234+X250+X274+X295+X434+X487+X525+X568 -> 2499800 | Y8: =Y9+Y25+Y214+Y234+Y250+Y274+Y295+Y434+Y487+Y525+Y568 -> 15888100 | Z8: =Z9+Z25+Z214+Z234+Z250+Z274+Z295+Z434+Z487+Z525+Z568 -> 0 | AA8: =AA9+AA25+AA214+AA234+AA250+AA274+AA295+AA434+AA487+AA525+AA568 -> 0 | AB8: =AB9+AB25+AB214+AB234+AB250+AB274+AB295+AB434+AB487+AB525+AB568 -> 3000 | ... AD8: =AD9+AD25+AD214+AD234+AD250+AD274+AD295+AD434+AD487+AD525+AD568 -> 0
B9: 1. | C9: Совет муниципального образования Белореченский муниципальный район Краснодарского края | D9: 901 | I9: =SUM(J9:S9) -> 7350500 | J9: =J10 -> 7350500 | K9: =K10 -> 0 | L9: =L10 -> 0 | M9: =M10 -> 0 | N9: =N10 -> 0 | O9: =O10 -> 0 | P9: =P10 -> 0 | Q9: =Q10 -> 0 | ... S9: =S10 -> 0 | T9: =SUM(U9:AD9) -> 5724100 | U9: =U10 -> 5724100 | V9: =V10 -> 0 | W9: =W10 -> 0 | X9: =X10 -> 0 | Y9: =Y10 -> 0 | Z9: =Z10 -> 0 | AA9: =AA10 -> 0 | AB9: =AB10 -> 0 | ... AD9: =AD10 -> 0
C10: Общегосударственные вопросы | D10: 901 | E10: 01 | F10: 00 | I10: =SUM(J10:S10) -> 7350500 | J10: =J11+J20 -> 7350500 | K10: =K11+K20 -> 0 | L10: =L11+L20 -> 0 | M10: =M11+M20 -> 0 | N10: =N11+N20 -> 0 | O10: =O11+O20 -> 0 | P10: =P11+P20 -> 0 | Q10: =Q11+Q20 -> 0 | ... S10: =S11+S20 -> 0 | T10: =SUM(U10:AD10) -> 5724100 | U10: =U11+U20 -> 5724100 | V10: =V11+V20 -> 0 | W10: =W11+W20 -> 0 | X10: =X11+X20 -> 0 | Y10: =Y11+Y20 -> 0 | Z10: =Z11+Z20 -> 0 | AA10: =AA11+AA20 -> 0 | AB10: =AB11+AB20 -> 0 | ... AD10: =AD11+AD20 -> 0
C11: Функционирование законодательных (представительных) органов государственной власти и представительных органов муниципальных образований | D11: 901 | E11: 01 | F11: 03 | I11: =SUM(J11:S11) -> 5950500 | J11: =J12 -> 5950500 | K11: =K12 -> 0 | L11: =L12 -> 0 | M11: =M12 -> 0 | N11: =N12 -> 0 | O11: =O12 -> 0 | P11: =P12 -> 0 | Q11: =Q12 -> 0 | ... S11: =S12 -> 0 | T11: =SUM(U11:AD11) -> 5724100 | U11: =U12 -> 5724100 | V11: =V12 -> 0 | W11: =W12 -> 0 | X11: =X12 -> 0 | Y11: =Y12 -> 0 | Z11: =Z12 -> 0 | AA11: =AA12 -> 0 | AB11: =AB12 -> 0 | ... AD11: =AD12 -> 0
C12: Другие непрограммные направления деятельности органов местного самоуправления | D12: 901 | E12: 01 | F12: 03 | G12: 9900000000 | I12: =SUM(J12:S12) -> 5950500 | J12: =J13+J16 -> 5950500 | K12: =K13+K16 -> 0 | L12: =L13+L16 -> 0 | M12: =M13+M16 -> 0 | N12: =N13+N16 -> 0 | O12: =O13+O16 -> 0 | P12: =P13+P16 -> 0 | Q12: =Q13+Q16 -> 0 | ... S12: =S13+S16 -> 0 | T12: =SUM(U12:AD12) -> 5724100 | U12: =U13+U16 -> 5724100 | V12: =V13+V16 -> 0 | W12: =W13+W16 -> 0 | X12: =X13+X16 -> 0 | Y12: =Y13+Y16 -> 0 | Z12: =Z13+Z16 -> 0 | AA12: =AA13+AA16 -> 0 | AB12: =AB13+AB16 -> 0 | ... AD12: =AD13+AD16 -> 0
C13: Обеспечение деятельности лиц, замещающих муниципальные должности в представительных органах, контрольно-счетных органах муниципальных образований | D13: 901 | E13: 01 | F13: 03 | G13: 9910000000 | I13: =SUM(J13:S13) -> 1974200 | J13: =J14 -> 1974200 | K13: =K14 -> 0 | L13: =L14 -> 0 | M13: =M14 -> 0 | N13: =N14 -> 0 | O13: =O14 -> 0 | P13: =P14 -> 0 | Q13: =Q14 -> 0 | ... S13: =S14 -> 0 | T13: =SUM(U13:AD13) -> 1899100 | U13: =U14 -> 1899100 | V13: =V14 -> 0 | W13: =W14 -> 0 | X13: =X14 -> 0 | Y13: =Y14 -> 0 | Z13: =Z14 -> 0 | AA13: =AA14 -> 0 | AB13: =AB14 -> 0 | ... AD13: =AD14 -> 0
C14: Расходы на обеспечение функций органов местного самоуправления | D14: 901 | E14: 01 | F14: 03 | G14: 9910000190 | I14: =SUM(J14:S14) -> 1974200 | J14: =J15 -> 1974200 | K14: =K15 -> 0 | L14: =L15 -> 0 | M14: =M15 -> 0 | N14: =N15 -> 0 | O14: =O15 -> 0 | P14: =P15 -> 0 | Q14: =Q15 -> 0 | ... S14: =S15 -> 0 | T14: =SUM(U14:AD14) -> 1899100 | U14: =U15 -> 1899100 | V14: =V15 -> 0 | W14: =W15 -> 0 | X14: =X15 -> 0 | Y14: =Y15 -> 0 | Z14: =Z15 -> 0 | AA14: =AA15 -> 0 | AB14: =AB15 -> 0 | ... AD14: =AD15 -> 0
C15: Расходы на выплаты персоналу в целях обеспечения выполнения функций государственными (муниципальными) органами, казенными учреждениями, органами управления государственными внебюджетными фондами | D15: 901 | E15: 01 | F15: 03 | G15: 9910000190 | H15: 100 | I15: =SUM(J15:S15) -> 1974200 | J15: 1974200 | T15: =SUM(U15:AD15) -> 1899100 | U15: 1899100
C16: Обеспечение деятельности муниципальных и немуниципальных служащих в представительных органах, контрольно-счетных органах муниципальных образований | D16: 901 | E16: 01 | F16: 03 | G16: 9920000000 | I16: =SUM(J16:S16) -> 3976300 | J16: =J17 -> 3976300 | K16: =K17 -> 0 | L16: =L17 -> 0 | M16: =M17 -> 0 | N16: =N17 -> 0 | O16: =O17 -> 0 | P16: =P17 -> 0 | Q16: =Q17 -> 0 | ... S16: =S17 -> 0 | T16: =SUM(U16:AD16) -> 3825000 | U16: =U17 -> 3825000 | V16: =V17 -> 0 | W16: =W17 -> 0 | X16: =X17 -> 0 | Y16: =Y17 -> 0 | Z16: =Z17 -> 0 | AA16: =AA17 -> 0 | AB16: =AB17 -> 0 | ... AD16: =AD17 -> 0
C17: Расходы на обеспечение функций органов местного самоуправления | D17: 901 | E17: 01 | F17: 03 | G17: 9920000190 | I17: =SUM(J17:S17) -> 3976300 | J17: =J18+J19 -> 3976300 | K17: =K18+K19 -> 0 | L17: =L18+L19 -> 0 | M17: =M18+M19 -> 0 | N17: =N18+N19 -> 0 | O17: =O18+O19 -> 0 | P17: =P18+P19 -> 0 | Q17: =Q18+Q19 -> 0 | ... S17: =S18+S19 -> 0 | T17: =SUM(U17:AD17) -> 3825000 | U17: =U18+U19 -> 3825000 | V17: =V18+V19 -> 0 | W17: =W18+W19 -> 0 | X17: =X18+X19 -> 0 | Y17: =Y18+Y19 -> 0 | Z17: =Z18+Z19 -> 0 | AA17: =AA18+AA19 -> 0 | AB17: =AB18+AB19 -> 0 | ... AD17: =AD18+AD19 -> 0
C18: Расходы на выплаты персоналу в целях обеспечения выполнения функций государственными (муниципальными) органами, казенными учреждениями, органами управления государственными внебюджетными фондами | D18: 901 | E18: 01 | F18: 03 | G18: 9920000190 | H18: 100 | I18: =SUM(J18:S18) -> 3972500 | J18: 3972500 | T18: =SUM(U18:AD18) -> 3821300 | U18: 3821300
C19: Иные бюджетные ассигнования | D19: 901 | E19: 01 | F19: 03 | G19: 9920000190 | H19: 800 | I19: =SUM(J19:S19) -> 3800 | J19: 3800 | T19: =SUM(U19:AD19) -> 3700 | U19: 3700
C20: Другие общегосударственные вопросы | D20: 901 | E20: 01 | F20: 13 | I20: =SUM(J20:S20) -> 1400000 | J20: =J21 -> 1400000 | K20: =K21 -> 0 | L20: =L21 -> 0 | M20: =M21 -> 0 | N20: =N21 -> 0 | O20: =O21 -> 0 | P20: =P21 -> 0 | Q20: =Q21 -> 0 | ... S20: =S21 -> 0 | T20: =SUM(U20:AD20) -> 0 | U20: =U21 -> 0 | V20: =V21 -> 0 | W20: =W21 -> 0 | X20: =X21 -> 0 | Y20: =Y21 -> 0 | Z20: =Z21 -> 0 | AA20: =AA21 -> 0 | AB20: =AB21 -> 0 | ... AD20: =AD21 -> 0
C21: Муниципальная программа "Обеспечение деятельности органов местного самоуправления" | D21: 901 | E21: 01 | F21: 13 | G21: 500000000 | I21: =SUM(J21:S21) -> 1400000 | J21: =J22 -> 1400000 | K21: =K22 -> 0 | L21: =L22 -> 0 | M21: =M22 -> 0 | N21: =N22 -> 0 | O21: =O22 -> 0 | P21: =P22 -> 0 | Q21: =Q22 -> 0 | ... S21: =S22 -> 0 | T21: =SUM(U21:AD21) -> 0 | U21: =U22 -> 0 | V21: =V22 -> 0 | W21: =W22 -> 0 | X21: =X22 -> 0 | Y21: =Y22 -> 0 | Z21: =Z22 -> 0 | AA21: =AA22 -> 0 | AB21: =AB22 -> 0 | ... AD21: =AD22 -> 0
C22: Укрепление материально-технической базы органов местного самоуправления | D22: 901 | E22: 01 | F22: 13 | G22: 5030000000 | I22: =SUM(J22:S22) -> 1400000 | J22: =J23 -> 1400000 | K22: =K23 -> 0 | L22: =L23 -> 0 | M22: =M23 -> 0 | N22: =N23 -> 0 | O22: =O23 -> 0 | P22: =P23 -> 0 | Q22: =Q23 -> 0 | ... S22: =S23 -> 0 | T22: =SUM(U22:AD22) -> 0 | U22: =U23 -> 0 | V22: =V23 -> 0 | W22: =W23 -> 0 | X22: =X23 -> 0 | Y22: =Y23 -> 0 | Z22: =Z23 -> 0 | AA22: =AA23 -> 0 | AB22: =AB23 -> 0 | ... AD22: =AD23 -> 0
C23: Укрепление материально-технического оснащения для бесперебойного обеспечения бюджетного процесса | D23: 901 | E23: 01 | F23: 13 | G23: 5030010030 | I23: =SUM(J23:S23) -> 1400000 | J23: =J24 -> 1400000 | K23: =K24 -> 0 | L23: =L24 -> 0 | M23: =M24 -> 0 | N23: =N24 -> 0 | O23: =O24 -> 0 | P23: =P24 -> 0 | Q23: =Q24 -> 0 | ... S23: =S24 -> 0 | T23: =SUM(U23:AD23) -> 0 | U23: =U24 -> 0 | V23: =V24 -> 0 | W23: =W24 -> 0 | X23: =X24 -> 0 | Y23: =Y24 -> 0 | Z23: =Z24 -> 0 | AA23: =AA24 -> 0 | AB23: =AB24 -> 0 | ... AD23: =AD24 -> 0
C24: Закупка товаров, работ и услуг для обеспечения государственных (муниципальных) нужд | D24: 901 | E24: 01 | F24: 13 | G24: 5030010030 | H24: 200 | I24: =SUM(J24:S24) -> 1400000 | J24: 1400000 | T24: =SUM(U24:AD24) -> 0
B25: 2. | C25: Администрация муниципального образования Белореченский муниципальный район Краснодарского края | D25: 902 | I25: =SUM(J25:S25) -> 708706500 | J25: =J26+J99+J135+J160+J187+J195 -> 521379900 | K25: =K26+K99+K135+K160+K187+K195 -> -339700 | L25: =L26+L99+L135+L160+L187+L195 -> 0 | M25: =M26+M99+M135+M160+M187+M195 -> 0 | N25: =N26+N99+N135+N160+N187+N195 -> 1729800 | O25: =O26+O99+O135+O160+O187+O195 -> 0 | P25: =P26+P99+P135+P160+P187+P195 -> 13500 | Q25: =Q26+Q99+Q135+Q160+Q187+Q195 -> 0 | ... S25: =S26+S99+S135+S160+S187+S195 -> 0 | T25: =SUM(U25:AD25) -> 474496300 | U25: =U26+U99+U135+U160+U187+U195 -> 576061300 | V25: =V26+V99+V135+V160+V187+V195 -> 280200 | W25: =W26+W99+W135+W160+W187+W195 -> 0 | X25: =X26+X99+X135+X160+X187+X195 -> 0 | Y25: =Y26+Y99+Y135+Y160+Y187+Y195 -> -101858800 | Z25: =Z26+Z99+Z135+Z160+Z187+Z195 -> 0 | AA25: =AA26+AA99+AA135+AA160+AA187+AA195 -> 13600 | AB25: =AB26+AB99+AB135+AB160+AB187+AB195 -> 0 | ... AD25: =AD26+AD99+AD135+AD160+AD187+AD195 -> 0
C26: Общегосударственные вопросы | D26: 902 | E26: 01 | F26: 00 | I26: =SUM(J26:S26) -> 239923300 | J26: =J27+J32+J50+J55+J46 -> 240085900 | K26: =K27+K32+K50+K55+K46 -> -2600 | L26: =L27+L32+L50+L55+L46 -> 0 | M26: =M27+M32+M50+M55+M46 -> 0 | N26: =N27+N32+N50+N55+N46 -> 0 | O26: =O27+O32+O50+O55+O46 -> -160000 | P26: =P27+P32+P50+P55+P46 -> 0 | Q26: =Q27+Q32+Q50+Q55+Q46 -> 0 | ... S26: =S27+S32+S50+S55+S46 -> 0 | T26: =SUM(U26:AD26) -> 243250400 | U26: =U27+U32+U50+U55+U46 -> 240172000 | V26: =V27+V32+V50+V55+V46 -> -125400 | W26: =W27+W32+W50+W55+W46 -> 0 | X26: =X27+X32+X50+X55+X46 -> 0 | Y26: =Y27+Y32+Y50+Y55+Y46 -> 3203800 | Z26: =Z27+Z32+Z50+Z55+Z46 -> 0 | AA26: =AA27+AA32+AA50+AA55+AA46 -> 0 | AB26: =AB27+AB32+AB50+AB55+AB46 -> 0 | ... AD26: =AD27+AD32+AD50+AD55+AD46 -> 0
C27: Функционирование высшего должностного лица субъекта Российской Федерации и муниципального образования | D27: 902 | E27: 01 | F27: 02 | I27: =SUM(J27:S27) -> 2171800 | J27: =J28 -> 2171800 | K27: =K28 -> 0 | L27: =L28 -> 0 | M27: =M28 -> 0 | N27: =N28 -> 0 | O27: =O28 -> 0 | P27: =P28 -> 0 | Q27: =Q28 -> 0 | ... S27: =S28 -> 0 | T27: =SUM(U27:AD27) -> 2089200 | U27: =U28 -> 2089200 | V27: =V28 -> 0 | W27: =W28 -> 0 | X27: =X28 -> 0 | Y27: =Y28 -> 0 | Z27: =Z28 -> 0 | AA27: =AA28 -> 0 | AB27: =AB28 -> 0 | ... AD27: =AD28 -> 0
C28: Муниципальная программа "Обеспечение деятельности органов местного самоуправления" | D28: 902 | E28: 01 | F28: 02 | G28: 5000000000 | I28: =SUM(J28:S28) -> 2171800 | J28: =J29 -> 2171800 | K28: =K29 -> 0 | L28: =L29 -> 0 | M28: =M29 -> 0 | N28: =N29 -> 0 | O28: =O29 -> 0 | P28: =P29 -> 0 | Q28: =Q29 -> 0 | ... S28: =S29 -> 0 | T28: =SUM(U28:AD28) -> 2089200 | U28: =U29 -> 2089200 | V28: =V29 -> 0 | W28: =W29 -> 0 | X28: =X29 -> 0 | Y28: =Y29 -> 0 | Z28: =Z29 -> 0 | AA28: =AA29 -> 0 | AB28: =AB29 -> 0 | ... AD28: =AD29 -> 0
C29: Обеспечение деятельности высшего должностного лица муниципального образования | D29: 902 | E29: 01 | F29: 02 | G29: 5010000000 | I29: =SUM(J29:S29) -> 2171800 | J29: =J30 -> 2171800 | K29: =K30 -> 0 | L29: =L30 -> 0 | M29: =M30 -> 0 | N29: =N30 -> 0 | O29: =O30 -> 0 | P29: =P30 -> 0 | Q29: =Q30 -> 0 | ... S29: =S30 -> 0 | T29: =SUM(U29:AD29) -> 2089200 | U29: =U30 -> 2089200 | V29: =V30 -> 0 | W29: =W30 -> 0 | X29: =X30 -> 0 | Y29: =Y30 -> 0 | Z29: =Z30 -> 0 | AA29: =AA30 -> 0 | AB29: =AB30 -> 0 | ... AD29: =AD30 -> 0
C30: Расходы на обеспечение функций органов местного самоуправления | D30: 902 | E30: 01 | F30: 02 | G30: 5010000190 | I30: =SUM(J30:S30) -> 2171800 | J30: =J31 -> 2171800 | K30: =K31 -> 0 | L30: =L31 -> 0 | M30: =M31 -> 0 | N30: =N31 -> 0 | O30: =O31 -> 0 | P30: =P31 -> 0 | Q30: =Q31 -> 0 | ... S30: =S31 -> 0 | T30: =SUM(U30:AD30) -> 2089200 | U30: =U31 -> 2089200 | V30: =V31 -> 0 | W30: =W31 -> 0 | X30: =X31 -> 0 | Y30: =Y31 -> 0 | Z30: =Z31 -> 0 | AA30: =AA31 -> 0 | AB30: =AB31 -> 0 | ... AD30: =AD31 -> 0
C31: Расходы на выплаты персоналу в целях обеспечения выполнения функций государственными (муниципальными) органами, казенными учреждениями, органами управления государственными внебюджетными фондами | D31: 902 | E31: 01 | F31: 02 | G31: 5010000190 | H31: 100 | I31: =SUM(J31:S31) -> 2171800 | J31: 2171800 | T31: =SUM(U31:AD31) -> 2089200 | U31: 2089200
C32: Функционирование Правительства Российской Федерации, высших исполнительных органов государственной власти субъектов Российской Федерации, местных администраций | D32: 902 | E32: 01 | F32: 04 | I32: =SUM(J32:S32) -> 76239500 | J32: =J33 -> 76239500 | K32: =K33 -> 0 | L32: =L33 -> 0 | M32: =M33 -> 0 | N32: =N33 -> 0 | O32: =O33 -> 0 | P32: =P33 -> 0 | Q32: =Q33 -> 0 | ... S32: =S33 -> 0 | T32: =SUM(U32:AD32) -> 84918300 | U32: =U33 -> 81714500 | V32: =V33 -> 0 | W32: =W33 -> 0 | X32: =X33 -> 0 | Y32: =Y33 -> 3203800 | Z32: =Z33 -> 0 | AA32: =AA33 -> 0 | AB32: =AB33 -> 0 | ... AD32: =AD33 -> 0
C33: Муниципальная программа "Обеспечение деятельности органов местного самоуправления" | D33: 902 | E33: 01 | F33: 04 | G33: 5000000000 | I33: =SUM(J33:S33) -> 76239500 | J33: =J34 -> 76239500 | K33: =K34 -> 0 | L33: =L34 -> 0 | M33: =M34 -> 0 | N33: =N34 -> 0 | O33: =O34 -> 0 | P33: =P34 -> 0 | Q33: =Q34 -> 0 | ... S33: =S34 -> 0 | T33: =SUM(U33:AD33) -> 84918300 | U33: =U34 -> 81714500 | V33: =V34 -> 0 | W33: =W34 -> 0 | X33: =X34 -> 0 | Y33: =Y34 -> 3203800 | Z33: =Z34 -> 0 | AA33: =AA34 -> 0 | AB33: =AB34 -> 0 | ... AD33: =AD34 -> 0
C34: Обеспечение деятельности администрации муниципального образования | D34: 902 | E34: 01 | F34: 04 | G34: 5020000000 | I34: =SUM(J34:S34) -> 76239500 | J34: =J35+J38+J41+J44 -> 76239500 | K34: =K35+K38+K41+K44 -> 0 | L34: =L35+L38+L41+L44 -> 0 | M34: =M35+M38+M41+M44 -> 0 | N34: =N35+N38+N41+N44 -> 0 | O34: =O35+O38+O41+O44 -> 0 | P34: =P35+P38+P41+P44 -> 0 | Q34: =Q35+Q38+Q41+Q44 -> 0 | ... S34: =S35+S38+S41+S44 -> 0 | T34: =SUM(U34:AD34) -> 84918300 | U34: =U35+U38+U41+U44 -> 81714500 | V34: =V35+V38+V41+V44 -> 0 | W34: =W35+W38+W41+W44 -> 0 | X34: =X35+X38+X41+X44 -> 0 | Y34: =Y35+Y38+Y41+Y44 -> 3203800 | Z34: =Z35+Z38+Z41+Z44 -> 0 | AA34: =AA35+AA38+AA41+AA44 -> 0 | AB34: =AB35+AB38+AB41+AB44 -> 0 | ... AD34: =AD35+AD38+AD41+AD44 -> 0
C35: Расходы на обеспечение функций органов местного самоуправления | D35: 902 | E35: 01 | F35: 04 | G35: 5020000190 | I35: =SUM(J35:S35) -> 68925700 | J35: =J36+J37 -> 68925700 | K35: =K36+K37 -> 0 | L35: =L36+L37 -> 0 | M35: =M36+M37 -> 0 | N35: =N36+N37 -> 0 | O35: =O36+O37 -> 0 | P35: =P36+P37 -> 0 | Q35: =Q36+Q37 -> 0 | ... S35: =S36+S37 -> 0 | T35: =SUM(U35:AD35) -> 77604500 | U35: =U36+U37 -> 74400700 | V35: =V36+V37 -> 0 | W35: =W36+W37 -> 0 | X35: =X36+X37 -> 0 | Y35: =Y36+Y37 -> 3203800 | Z35: =Z36+Z37 -> 0 | AA35: =AA36+AA37 -> 0 | AB35: =AB36+AB37 -> 0 | ... AD35: =AD36+AD37 -> 0
C36: Расходы на выплаты персоналу в целях обеспечения выполнения функций государственными (муниципальными) органами, казенными учреждениями, органами управления государственными внебюджетными фондами | D36: 902 | E36: 01 | F36: 04 | G36: 5020000190 | H36: 100 | I36: =SUM(J36:S36) -> 68925700 | J36: 68925700 | T36: =SUM(U36:AD36) -> 77604500 | U36: 74400700 | Y36: 3203800
C37: Иные бюджетные ассигнования | D37: 902 | E37: 01 | F37: 04 | G37: 5020000190 | H37: 800 | I37: =SUM(J37:S37) -> 0 | T37: =SUM(U37:AD37) -> 0
C38: Осуществление отдельных государственных полномочий по ведению учета граждан отдельных категорий в качестве нуждающихся в жилых помещениях и по формированию списка детей-сирот и детей, оставшихся без попечения родителей, лиц из числа детей-сирот и детей, оставшихся без попечения родителей, лиц, относившихся к категории детей-сирот и детей, оставшихся без попечения родителей, подлежащих обеспечению жилыми помещениями | D38: 902 | E38: 01 | F38: 04 | G38: 5020060870 | I38: =SUM(J38:S38) -> 979700 | J38: =J39+J40 -> 979700 | K38: =K39+K40 -> 0 | L38: =L39+L40 -> 0 | M38: =M39+M40 -> 0 | N38: =N39+N40 -> 0 | O38: =O39+O40 -> 0 | P38: =P39+P40 -> 0 | Q38: =Q39+Q40 -> 0 | ... S38: =S39+S40 -> 0 | T38: =SUM(U38:AD38) -> 979700 | U38: =U39+U40 -> 979700 | V38: =V39+V40 -> 0 | W38: =W39+W40 -> 0 | X38: =X39+X40 -> 0 | Y38: =Y39+Y40 -> 0 | Z38: =Z39+Z40 -> 0 | AA38: =AA39+AA40 -> 0 | AB38: =AB39+AB40 -> 0 | ... AD38: =AD39+AD40 -> 0
C39: Расходы на выплаты персоналу в целях обеспечения выполнения функций государственными (муниципальными) органами, казенными учреждениями, органами управления государственными внебюджетными фондами | D39: 902 | E39: 01 | F39: 04 | G39: 5020060870 | H39: 100 | I39: =SUM(J39:S39) -> 979700 | J39: 979700 | T39: =SUM(U39:AD39) -> 979700 | U39: 979700
C40: Закупка товаров, работ и услуг для обеспечения государственных (муниципальных) нужд | D40: 902 | E40: 01 | F40: 04 | G40: 5020060870 | H40: 200 | I40: =SUM(J40:S40) -> 0 | T40: =SUM(U40:AD40) -> 0
...
