Workbook
Name Excel_BuiltIn__FilterDatabase: 'приложение 9'!$C$2:$C$333
Name Excel_BuiltIn_Print_Area: 'приложение 11'!$B$1:$L$608
Name Excel_BuiltIn_Print_Area: 'приложение 7'!$A$1:$H$57
Name Excel_BuiltIn_Print_Area: 'приложение 9'!$A$2:$F$338
Name Print_Area_0: 'приложение 9'!$A$2:$F$340
Name Print_Area_0_0: 'приложение 11'!$A$1:$U$612
Name Print_Area_0_0: 'приложение 7'!$A$1:$H$52
Name Print_Area_0_0_0: 'приложение 11'!$A$1:$O$612
Name Print_Area_0_0_0_0: 'приложение 11'!$B$1:$N$611
Name Print_Area_0_0_0_0_0: 'приложение 11'!$A$1:$O$611
Name Print_Area_0_0_0_0_0_0: 'приложение 11'!$A$1:$P$611
Name Print_Area_0_0_0_0_0_0_0: 'приложение 11'!$B$1:$M$611
Name Print_Area_0_0_0_0_0_0_0_0: 'приложение 11'!$A$1:$N$611
Name Print_Area_0_0_0_0_0_0_0_0_0: 'приложение 11'!$A$1:$N$611
Name Z_4F3F96C3_7B8B_440F_A7C0_DFFBDC784942__wvu_FilterData: #REF!
Name Z_6CB88F76_ADF1_43EB_B8FB_32CF6D2656A6__wvu_Cols: #REF!
Name Z_6CB88F76_ADF1_43EB_B8FB_32CF6D2656A6__wvu_FilterData: #REF!
Name Z_6CB88F76_ADF1_43EB_B8FB_32CF6D2656A6__wvu_PrintArea: #REF!
Name Z_7BCFB845_C80C_48FE_B4FE_79B4B69115F3__wvu_FilterData: #REF!
Name Z_7D67130F_5829_47C5_93DE_738E8D41F162__wvu_FilterData: #REF!
Name Z_8E2E7D81_C767_11D8_A2FD_006098EF8B30__wvu_Cols: #REF!
Name Z_8E2E7D81_C767_11D8_A2FD_006098EF8B30__wvu_FilterData: #REF!
Name Z_8E2E7D81_C767_11D8_A2FD_006098EF8B30__wvu_PrintArea: #REF!
Name Z_AAB63AD1_4FE4_4C7A_A62E_5A604C03BF55__wvu_FilterData: #REF!
Name Z_C231806E_9211_4D8F_9EB3_1A15C537C808__wvu_FilterData: #REF!
Name Z_D05021AF_1DB5_4AD7_B085_4CD71612CDB6__wvu_FilterData: #REF!
Name Z_D5E1AF6B_71F1_4B33_880B_72787157ADA9__wvu_FilterData: #REF!
Name Z_D5E1AF6B_71F1_4B33_880B_72787157ADA9__wvu_PrintArea: #REF!
Name Z_E2E14CAC_FED5_4087_B580_6F7DEE9C9BA1__wvu_FilterData: #REF!
Name Z_EF5A4981_C8E4_11D8_A2FC_006098EF8BA8__wvu_Cols: #REF!
Name Z_EF5A4981_C8E4_11D8_A2FC_006098EF8BA8__wvu_PrintArea: 'приложение 11'!$A$3
Name Z_EF5A4981_C8E4_11D8_A2FC_006098EF8BA8__wvu_PrintTitles: #REF!
Name Z_EFA5B1DC_5497_4E2C_A2B5_ED756C88CC7C__wvu_Cols: #REF!
Name Z_EFA5B1DC_5497_4E2C_A2B5_ED756C88CC7C__wvu_FilterData: #REF!

Sheet приложение 7
C1: Приложение 7
C2: к решению Совета муниципального образования Белореченский район от 18 декабря 2025 г. № 231 «О бюджете муниципального образования Белореченский район на 2026 год и на плановый период 2027 и 2028 годов»
B3: Распределение бюджетных ассигнований бюджета муниципального образования Белореченский муниципальный район Краснодарского края по разделам и подразделам классификации расходов бюджетов на 2027 и 2028 годы
H4: (рублей)
A5: № п/п | B5: Наименование | C5: Коды бюджетной классификации | G5: 2027 год | H5: 2028 год
C6: Раздел | D6: Подраздел | E6: Целевая статья | F6: Вид расхода
A7: 1 | B7: 2 | C7: 3 | D7: 4 | E7: 5 | F7: 6 | G7: 5 | H7: 6
B8: Всего расходов | G8: =G9+G17+G21+G26+G28+G34+G37+G41+G46+G48 -> 4573902800 | H8: =H9+H17+H21+H26+H28+H34+H37+H41+H46+H48 -> 4559043400
A9: 1. | B9: Общегосударственные вопросы | C9: 01 | G9: =G10+G11+G12+G14+G15+G16+G13 -> 347646300 | H9: =H10+H11+H12+H14+H15+H16+H13 -> 341200700
B10: Функционирование высшего должностного лица субъекта Российской Федерации и муниципального образования | C10: 01 | D10: 02 | G10: ='приложение 11'!I27 -> 2214500 | H10: ='приложение 11'!M27 -> 2181300
B11: Функционирование законодательных (представительных) органов государственной власти и и представительных органов муниципальных образований | C11: 01 | D11: 03 | E11: 0020000 | G11: ='приложение 11'!I11 -> 6104300 | H11: ='приложение 11'!M11 -> 6012700
B12: Функционирование Правительства Российской Федерации, высших органов исполнительной власти субъектов Российской Федерации, местных администраций | C12: 01 | D12: 04 | G12: ='приложение 11'!I32 -> 72929500 | H12: ='приложение 11'!M32 -> 71950200
B13: Судебная система | C13: 01 | D13: 05 | G13: ='приложение 11'!I46 -> 9200 | H13: ='приложение 11'!M46 -> 9200
B14: Обеспечение деятельности финансовых, налоговых и таможенных органов и органов финансового (финансово-бюджетного) надзора | C14: 01 | D14: 06 | E14: 0020000 | G14: ='приложение 11'!I216+'приложение 11'!I236 -> 27396900 | H14: ='приложение 11'!M216+'приложение 11'!M236 -> 26986400
B15: Резервные фонды | C15: 01 | D15: 11 | E15: 0020400 | G15: ='приложение 11'!I50 -> 5000000 | H15: ='приложение 11'!M50 -> 5000000
B16: Другие общегосударственные вопросы | C16: 01 | D16: 13 | E16: 0020400 | F16: 012 | G16: ='приложение 11'!I55+'приложение 11'!I276+'приложение 11'!I222+'приложение 11'!I493+'приложение 11'!I291+'приложение 11'!I442+'приложение 11'!I245+'приложение 11'!I20+'приложение 11'!I252+'приложение 11'!I529 -> 233991900 | H16: ='приложение 11'!M55+'приложение 11'!M276+'приложение 11'!M222+'приложение 11'!M493+'приложение 11'!M291+'приложение 11'!M442+'приложение 11'!M245+'приложение 11'!M20+'приложение 11'!M252+'приложение 11'!M529 -> 229060900
A17: 2. | B17: Национальная безопасность и правоохранительная деятельность | C17: 03 | G17: =G18+G20+G19 -> 47464700 | H17: =H18+H20+H19 -> 47208700
B18: Гражданская оборона | C18: 03 | D18: 09 | G18: ='приложение 11'!I100 -> 35762700 | H18: ='приложение 11'!M100 -> 35406700
B19: Защита населения и территории от чрезвычайных ситуаций природного и техногенного характера, пожарная безопасность | C19: 03 | D19: 10 | G19: ='приложение 11'!I114 -> 252000 | H19: ='приложение 11'!M114 -> 252000
B20: Другие вопросы в области национальной безопасности и правоохранительной деятельности | C20: 03 | D20: 14 | G20: ='приложение 11'!I119 -> 11450000 | H20: ='приложение 11'!M119 -> 11550000
A21: 3. | B21: Национальная экономика | C21: 04 | G21: =G22+G24+G25+G23 -> 54257000 | H21: =H22+H24+H25+H23 -> 55031600
B22: Сельское хозяйство и рыболовство | C22: 04 | D22: 05 | G22: ='приложение 11'!I258 -> 28950300 | H22: ='приложение 11'!M258 -> 28826200
B23: Транспорт | C23: 04 | D23: 08 | G23: ='приложение 11'!I140 -> 11250000 | H23: ='приложение 11'!M140 -> 11250000
B24: Дорожное хозяйство(дорожные фонды) | C24: 04 | D24: 09 | G24: ='приложение 11'!I145 -> 11986700 | H24: ='приложение 11'!M145 -> 12270400
B25: Другие вопросы в области национальной экономики | C25: 04 | D25: 12 | G25: ='приложение 11'!I150 -> 2070000 | H25: ='приложение 11'!M150 -> 2685000
A26: 4. | B26: Жилищно-коммунальное хозяйство | C26: 05 | G26: =G27 -> 32650300 | H26: =H27 -> 49535800
B27: Коммунальное хозяйство | C27: 05 | D27: 02 | G27: ='приложение 11'!I164 -> 32650300 | H27: ='приложение 11'!M164 -> 49535800
A28: 5. | B28: Образование | C28: 07 | G28: =G29+G30+G32+G33+G31 -> 3372631900 | H28: =H29+H30+H32+H33+H31 -> 3306150000
B29: Дошкольное образование | C29: 07 | D29: 01 | G29: ='приложение 11'!I298 -> 1123623000 | H29: ='приложение 11'!M298 -> 1164551000
B30: Общее образование | C30: 07 | D30: 02 | G30: ='приложение 11'!I317 -> 1971368100 | H30: ='приложение 11'!M317 -> 1861458900
B31: Дополнительное образование детей | C31: 07 | D31: 03 | G31: ='приложение 11'!I363+'приложение 11'!I448 -> 157302500 | H31: ='приложение 11'!M363+'приложение 11'!M448 -> 154427400
B32: Молодежная политика | C32: 07 | D32: 07 | G32: ='приложение 11'!I535+'приложение 11'!I573+'приложение 11'!I183 -> 19957800 | H32: ='приложение 11'!M535+'приложение 11'!M573+'приложение 11'!M183 -> 19679900
B33: Другие вопросы в области образования | C33: 07 | D33: 09 | G33: ='приложение 11'!I379+'приложение 11'!I188+'приложение 11'!I565+'приложение 11'!I455+'приложение 11'!I578 -> 100380500 | H33: ='приложение 11'!M379+'приложение 11'!M188+'приложение 11'!M565+'приложение 11'!M455+'приложение 11'!M578 -> 106032800
A34: 6. | B34: Культура и кинематография | C34: 08 | G34: =G35+G36 -> 83298400 | H34: =H35+H36 -> 79971400
B35: Культура | C35: 08 | D35: 01 | G35: ='приложение 11'!I461 -> 69138100 | H35: ='приложение 11'!M461 -> 65850300
B36: Другие вопросы в области культуры, кинематографии | C36: 08 | D36: 04 | E36: 4429900 | F36: 001 | G36: ='приложение 11'!I471 -> 14160300 | H36: ='приложение 11'!M471 -> 14121100
A37: 7. | B37: Социальная политика | C37: 10 | G37: =G38+G39+G40 -> 221406900 | H37: =H38+H39+H40 -> 223596000
B38: Социальное обеспечение населения | C38: 10 | D38: 03 | G38: ='приложение 11'!I196 -> 6162300 | H38: ='приложение 11'!M196 -> 6069900
B39: Охрана семьи и детства | C39: 10 | D39: 04 | G39: ='приложение 11'!I420+'приложение 11'!I584+'приложение 11'!I200 -> 200435200 | H39: ='приложение 11'!M420+'приложение 11'!M584+'приложение 11'!M200 -> 202716700
B40: Другие вопросы в области социальной политики | C40: 10 | D40: 06 | G40: ='приложение 11'!I595 -> 14809400 | H40: ='приложение 11'!M595 -> 14809400
...

Sheet приложение 9
C2: Приложение 9
C3: к решению Совета муниципального образования Белореченский район от 18 декабря 2025 г. № 231 «О бюджете муниципального образования Белореченский район на 2026 год и на плановый период 2027 и 2028 годов»
B4: Распределение бюджетных ассигнований по целевым статьям (муниципальным программам муниципального образования Белореченский муниципальный район Краснодарского края и непрограммным направлениям деятельности), группам видов расходов классификации расходов бюджетов на 2027 и 2028 годы
F5: (рублей)
B6: Наименование | C6: КЦСР | D6: КВР | E6: 2027 год | F6: 2028 год
A7: 1 | B7: 2 | C7: 3 | D7: 4 | E7: 5 | F7: 6
B8: ВСЕГО | E8: =E9+E51+E55+E97+E103+E115+E130+E204+E219+E242+E246+E308+E276+E337+E238+E260+E272+E287+E256+E268+E295+E213+E234+E122+E126+E291 -> 4573902800 | F8: =F9+F51+F55+F97+F103+F115+F130+F204+F219+F242+F246+F308+F276+F337+F238+F260+F272+F287+F256+F268+F295+F213+F234+F122+F126+F291 -> 4559043400
A9: 1. | B9: Муниципальная программа "Обеспечение деятельности органов местного самоуправления" | C9: 5000000000 | E9: =E10+E15+E41+E45+E48 -> 181738500 | F9: =F10+F15+F41+F45+F48 -> 177998700
B10: Обеспечение деятельности высшего должностного лица муниципального образования | C10: 5010000000 | E10: =E11+E13 -> 2466500 | F10: =F11+F13 -> 2433300
B11: Расходы на обеспечение функций органов местного самоуправления | C11: 5010000190 | E11: =E12 -> 2214500 | F11: =F12 -> 2181300
B12: Расходы на выплаты персоналу в целях обеспечения выполнения функций государственными (муниципальными) органами, казенными учреждениями, органами управления государственными внебюджетными фондами | C12: 5010000190 | D12: 100 | E12: ='приложение 11'!I31 -> 2214500 | F12: ='приложение 11'!M31 -> 2181300
B13: Осуществление отдельного государственного полномочия Краснодарского края по формированию списков семей и граждан, жилые помещения которых утрачены, и (или) списков граждан, жилые помещения которых повреждены в результате чрезвычайных ситуаций природного и техногенного характера, а также в результате террористических актов и (или) при пресечении террористических актов правомерными действиями на территории Краснодарского края | C13: 5010060070 | E13: =E14 -> 252000 | F13: =F14 -> 252000
B14: Закупка товаров, работ и услуг для обеспечения государственных (муниципальных) нужд | C14: 5010060070 | D14: 200 | E14: ='приложение 11'!I118 -> 252000 | F14: ='приложение 11'!M118 -> 252000
B15: Обеспечение деятельности администрации муниципального образования | C15: 5020000000 | E15: =E16+E20+E23+E26+E32+E28+E36+E39 -> 150511000 | F15: =F16+F20+F23+F26+F32+F28+F36+F39 -> 148621200
B16: Расходы на обеспечение функций органов местного самоуправления | C16: 5020000190 | E16: =E17+E18+E19 -> 126090600 | F16: =F17+F18+F19 -> 124200800
B17: Расходы на выплаты персоналу в целях обеспечения выполнения функций государственными (муниципальными) органами, казенными учреждениями, органами управления государственными внебюджетными фондами | C17: 5020000190 | D17: 100 | E17: ='приложение 11'!I36+'приложение 11'!I220+'приложение 11'!I262+'приложение 11'!I280+'приложение 11'!I383+'приложение 11'!I475+'приложение 11'!I525+'приложение 11'!I569 -> 126080700 | F17: ='приложение 11'!M36+'приложение 11'!M220+'приложение 11'!M262+'приложение 11'!M280+'приложение 11'!M383+'приложение 11'!M475+'приложение 11'!M525+'приложение 11'!M569 -> 124191000
B18: Закупка товаров, работ и услуг для обеспечения государственных (муниципальных) нужд | C18: 5020000190 | D18: 200 | E18: ='приложение 11'!I281+'приложение 11'!I384 -> 0 | F18: ='приложение 11'!M281+'приложение 11'!M384 -> 0
B19: Иные бюджетные ассигнования | C19: 5020000190 | D19: 800 | E19: ='приложение 11'!I37+'приложение 11'!I221+'приложение 11'!I263+'приложение 11'!I282+'приложение 11'!I385+'приложение 11'!I476+'приложение 11'!I526+'приложение 11'!I570 -> 9900 | F19: ='приложение 11'!M37+'приложение 11'!M221+'приложение 11'!M263+'приложение 11'!M282+'приложение 11'!M385+'приложение 11'!M476+'приложение 11'!M526+'приложение 11'!M570 -> 9800
B20: Осуществление отдельных государственных полномочий по ведению учета граждан отдельных категорий в качестве нуждающихся в жилых помещениях и по формированию списка детей-сирот и детей, оставшихся без попечения родителей, лиц из числа детей-сирот и детей, оставшихся без попечения родителей, лиц, относившихся к категории детей-сирот и детей, оставшихся без попечения родителей, подлежащих обеспечению жилыми помещениями | C20: 5020060870 | E20: =E21+E22 -> 1015500 | F20: =F21+F22 -> 1015500
B21: Расходы на выплаты персоналу в целях обеспечения выполнения функций государственными (муниципальными) органами, казенными учреждениями, органами управления государственными внебюджетными фондами | C21: 5020060870 | D21: 100 | E21: ='приложение 11'!I39 -> 1015500 | F21: ='приложение 11'!M39 -> 1015500
B22: Закупка товаров, работ и услуг для обеспечения государственных (муниципальных) нужд | C22: 5020060870 | D22: 200 | E22: ='приложение 11'!I40 -> 0 | F22: ='приложение 11'!M40 -> 0
B23: Осуществление отдельных государственных полномочий Краснодарского края по поддержке сельскохозяйственного производства | C23: 5020060910 | E23: =E24+E25 -> 2024800 | F23: =F24+F25 -> 2024800
B24: Расходы на выплаты персоналу в целях обеспечения выполнения функций государственными (муниципальными) органами, казенными учреждениями, органами управления государственными внебюджетными фондами | C24: 5020060910 | D24: 100 | E24: ='приложение 11'!I265 -> 2024800 | F24: ='приложение 11'!M265 -> 2024800
B25: Закупка товаров, работ и услуг для обеспечения государственных (муниципальных) нужд | C25: 5020060910 | D25: 200 | E25: ='приложение 11'!I266 -> 0 | F25: ='приложение 11'!M266 -> 0
B26: Осуществление отдельных государственных полномочий по выявлению обстоятельств, свидетельствующих о необходимости оказания детям-сиротам и детям, оставшимся без попечения родителей, лицам из числа детей-сирот и детей, оставшихся без попечения родителей, содействия в преодолении трудной жизненной ситуации, и осуществлению контроля за использованием детьми-сиротами и детьми, оставшимися без попечения родителей, лицами из числа детей-сирот и детей, оставшихся без попечения родителей, предоставленных им жилых помещений специализированного жилищного фонда | C26: 5020069170 | E26: =E27 -> 1360400 | F26: =F27 -> 1360400
B27: Расходы на выплату персоналу в целях обеспечения функций государственными (муниципальными) органами, казенными учреждениями, органами управления государственными внебюджетными фондами | C27: 5020069170 | D27: 100 | E27: ='приложение 11'!I599 -> 1360400 | F27: ='приложение 11'!M599 -> 1360400
B28: Осуществление отдельных государственных полномочий Краснодарского края по организации и обеспечению отдыха и оздоровления детей (за исключением организации отдыха детей в каникулярное время) | C28: 5020069180 | E28: =E29+E30+E31 -> 1015700 | F28: =F29+F30+F31 -> 1015700
B29: Расходы на выплату персоналу в целях обеспечения функций государственными (муниципальными) органами, казенными учреждениями, органами управления государственными внебюджетными фондами | C29: 5020069180 | D29: 100 | E29: ='приложение 11'!I601 -> 1015700 | F29: ='приложение 11'!M601 -> 1015700
B30: Закупка товаров, работ и услуг для обеспечения государственных (муниципальных) нужд | C30: 5020069180 | D30: 200 | E30: ='приложение 11'!I602 -> 0 | F30: ='приложение 11'!M602 -> 0
B31: Иные бюджетные ассигнования | C31: 5020069180 | D31: 800 | E31: ='приложение 11'!I603 -> 0 | F31: ='приложение 11'!M603 -> 0
B32: Осуществление отдельных государственных полномочий по организации и осуществлению деятельности по опеке и попечительству в отношении несовершеннолетних | C32: 5020069190 | E32: =E33+E34+E35 -> 12433300 | F32: =F33+F34+F35 -> 12433300
B33: Расходы на выплату персоналу в целях обеспечения функций государственными (муниципальными) органами, казенными учреждениями, органами управления государственными внебюджетными фондами | C33: 5020069190 | D33: 100 | E33: ='приложение 11'!I605 -> 11732800 | F33: ='приложение 11'!M605 -> 12433300
B34: Закупка товаров, работ и услуг для обеспечения государственных (муниципальных) нужд | C34: 5020069190 | D34: 200 | E34: ='приложение 11'!I606 -> 700000 | F34: ='приложение 11'!M606 -> 0
B35: Иные бюджетные ассигнования | C35: 5020069190 | D35: 800 | E35: ='приложение 11'!I607 -> 500 | F35: ='приложение 11'!M607 -> 0
B36: Осуществление отдельных государственных полномочий по созданию и организации деятельности комиссий по делам несовершеннолетних и защите их прав | C36: 5020069200 | E36: =E37+E38 -> 5555200 | F36: =F37+F38 -> 5555200
B37: Расходы на выплаты персоналу в целях обеспечения выполнения функций государственными (муниципальными) органами, казенными учреждениями, органами управления государственными внебюджетными фондами | C37: 5020069200 | D37: 100 | E37: ='приложение 11'!I42 -> 5455200 | F37: ='приложение 11'!M42 -> 5455200
B38: Закупка товаров, работ и услуг для обеспечения государственных (муниципальных) нужд | C38: 5020069200 | D38: 200 | E38: ='приложение 11'!I43 -> 100000 | F38: ='приложение 11'!M43 -> 100000
B39: 0существление отдельных государственных полномочий по предоставлению лицам, которые относились к категории детей-сирот и детей, оставшихся без попечения родителей, лиц из числа детей-сирот и детей, оставшихся без попечения родителей, и достигли возраста 23 лет, выплаты на приобретение благоустроенного жилого помещения в собственность или для полного погашения предоставленного на приобретение жилого помещения кредита (займа) по договору, обязательства заемщика по которому обеспечены ипотекой | C39: 5020069210 | E39: =E40 -> 1015500 | F39: =F40 -> 1015500
B40: Расходы на выплаты персоналу в целях обеспечения выполнения функций государственными (муниципальными) органами, казенными учреждениями, органами управления государственными внебюджетными фондами | C40: 5020069210 | D40: 100 | E40: ='приложение 11'!I45 -> 1015500 | F40: ='приложение 11'!M45 -> 1015500
B41: Укрепление материально-технической базы органов местного самоуправления | C41: 5030000000 | E41: =E42 -> 21761000 | F41: =F42 -> 19944200
...

Sheet приложение 11
H1: Приложение 11
H2: к решению Совета муниципального образования Белореченский район от 18 декабря 2025 г. № 231 «О бюджете муниципального образования Белореченский район на 2026 год и на плановый период 2027 и 2028 годов»
C3: Ведомственная структура расходов бюджета муниципального образования Белореченский муниципальный район Краснодарского края на 2027 и 2028 годы
M4: (рублей)
B5: № п\п | C5: Наименование | D5: Коды бюджетной классификации | I5: 2027 год | J5: Первоначальный бюджет | K5: Изменения (+;-) | L5: Формулы не заполнять | M5: 2028 год | N5: Первоначальный бюджет | O5: Изменения (+;-) | P5: Формулы не заполнять
D6: Вед | E6: Раздел | F6: Подраздел | G6: Целевая статья | H6: Вид расхода
B7: 1 | C7: 2 | D7: 3 | E7: 4 | F7: 5 | G7: 6 | H7: 7 | I7: 8 | M7: 9
C8: ВСЕГО | I8: =SUM(J8:L8) -> 4573902800 | J8: =J9+J25+J214+J234+J250+J274+J289+J440+J491+J527+J571 -> 4322907500 | K8: =K9+K25+K214+K234+K250+K274+K289+K440+K491+K527+K571 -> 250995300 | L8: =L9+L25+L214+L234+L250+L274+L289+L440+L491+L527+L571 -> 0 | M8: =SUM(N8:P8) -> 4559043400 | N8: =N9+N25+N214+N234+N250+N274+N289+N440+N491+N527+N571 -> 4559043400 | O8: =O9+O25+O214+O234+O250+O274+O289+O440+O491+O527+O571 -> 0 | P8: =P9+P25+P214+P234+P250+P274+P289+P440+P491+P527+P571 -> 0
B9: 1. | C9: Совет муниципального образования Белореченский муниципальный район Краснодарского края | D9: 901 | I9: =SUM(J9:L9) -> 7504300 | J9: =J10 -> 5724100 | K9: =K10 -> 1780200 | L9: =L10 -> 0 | M9: =SUM(N9:P9) -> 6012700 | N9: =N10 -> 6012700 | O9: =O10 -> 0 | P9: =P10 -> 0
C10: Общегосударственные вопросы | D10: 901 | E10: 01 | F10: 00 | I10: =SUM(J10:L10) -> 7504300 | J10: =J11+J20 -> 5724100 | K10: =K11+K20 -> 1780200 | L10: =L11+L20 -> 0 | M10: =SUM(N10:P10) -> 6012700 | N10: =N11+N20 -> 6012700 | O10: =O11+O20 -> 0 | P10: =P11+P20 -> 0
C11: Функционирование законодательных (представительных) органов государственной власти и представительных органов муниципальных образований | D11: 901 | E11: 01 | F11: 03 | I11: =SUM(J11:L11) -> 6104300 | J11: =J12 -> 5724100 | K11: =K12 -> 380200 | L11: =L12 -> 0 | M11: =SUM(N11:P11) -> 6012700 | N11: =N12 -> 6012700 | O11: =O12 -> 0 | P11: =P12 -> 0
C12: Другие непрограммные направления деятельности органов местного самоуправления | D12: 901 | E12: 01 | F12: 03 | G12: 9900000000 | I12: =SUM(J12:L12) -> 6104300 | J12: =J13+J16 -> 5724100 | K12: =K13+K16 -> 380200 | L12: =L13+L16 -> 0 | M12: =SUM(N12:P12) -> 6012700 | N12: =N13+N16 -> 6012700 | O12: =O13+O16 -> 0 | P12: =P13+P16 -> 0
C13: Обеспечение деятельности лиц, замещающих муниципальные должности в представительных органах, контрольно-счетных органах муниципальных образований | D13: 901 | E13: 01 | F13: 03 | G13: 9910000000 | I13: =SUM(J13:L13) -> 2020000 | J13: =J14 -> 1899100 | K13: =K14 -> 120900 | L13: =L14 -> 0 | M13: =SUM(N13:P13) -> 1989600 | N13: =N14 -> 1989600 | O13: =O14 -> 0 | P13: =P14 -> 0
C14: Расходы на обеспечение функций органов местного самоуправления | D14: 901 | E14: 01 | F14: 03 | G14: 9910000190 | I14: =SUM(J14:L14) -> 2020000 | J14: =J15 -> 1899100 | K14: =K15 -> 120900 | L14: =L15 -> 0 | M14: =SUM(N14:P14) -> 1989600 | N14: =N15 -> 1989600 | O14: =O15 -> 0 | P14: =P15 -> 0
C15: Расходы на выплаты персоналу в целях обеспечения выполнения функций государственными (муниципальными) органами, казенными учреждениями, органами управления государственными внебюджетными фондами | D15: 901 | E15: 01 | F15: 03 | G15: 9910000190 | H15: 100 | I15: =SUM(J15:L15) -> 2020000 | J15: 1899100 | K15: 120900 | M15: =SUM(N15:P15) -> 1989600 | N15: 1989600
C16: Обеспечение деятельности муниципальных и немуниципальных служащих в представительных органах, контрольно-счетных органах муниципальных образований | D16: 901 | E16: 01 | F16: 03 | G16: 9920000000 | I16: =SUM(J16:L16) -> 4084300 | J16: =J17 -> 3825000 | K16: =K17 -> 259300 | L16: =L17 -> 0 | M16: =SUM(N16:P16) -> 4023100 | N16: =N17 -> 4023100 | O16: =O17 -> 0 | P16: =P17 -> 0
C17: Расходы на обеспечение функций органов местного самоуправления | D17: 901 | E17: 01 | F17: 03 | G17: 9920000190 | I17: =SUM(J17:L17) -> 4084300 | J17: =J18+J19 -> 3825000 | K17: =K18+K19 -> 259300 | L17: =L18+L19 -> 0 | M17: =SUM(N17:P17) -> 4023100 | N17: =N18+N19 -> 4023100 | O17: =O18+O19 -> 0 | P17: =P18+P19 -> 0
C18: Расходы на выплаты персоналу в целях обеспечения выполнения функций государственными (муниципальными) органами, казенными учреждениями, органами управления государственными внебюджетными фондами | D18: 901 | E18: 01 | F18: 03 | G18: 9920000190 | H18: 100 | I18: =SUM(J18:L18) -> 4081000 | J18: 3821300 | K18: 259700 | M18: =SUM(N18:P18) -> 4019800 | N18: 4019800
C19: Иные бюджетные ассигнования | D19: 901 | E19: 01 | F19: 03 | G19: 9920000190 | H19: 800 | I19: =SUM(J19:L19) -> 3300 | J19: 3700 | K19: -400 | M19: =SUM(N19:P19) -> 3300 | N19: 3300
C20: Другие общегосударственные вопросы | D20: 901 | E20: 01 | F20: 13 | I20: =SUM(J20:L20) -> 1400000 | J20: =J21 -> 0 | K20: =K21 -> 1400000 | L20: =L21 -> 0 | M20: =SUM(N20:P20) -> 0 | N20: =N21 -> 0 | O20: =O21 -> 0 | P20: =P21 -> 0
C21: Муниципальная программа "Обеспечение деятельности органов местного самоуправления" | D21: 901 | E21: 01 | F21: 13 | G21: 500000000 | I21: =SUM(J21:L21) -> 1400000 | J21: =J22 -> 0 | K21: =K22 -> 1400000 | L21: =L22 -> 0 | M21: =SUM(N21:P21) -> 0 | N21: =N22 -> 0 | O21: =O22 -> 0 | P21: =P22 -> 0
C22: Укрепление материально-технической базы органов местного самоуправления | D22: 901 | E22: 01 | F22: 13 | G22: 5030000000 | I22: =SUM(J22:L22) -> 1400000 | J22: =J23 -> 0 | K22: =K23 -> 1400000 | L22: =L23 -> 0 | M22: =SUM(N22:P22) -> 0 | N22: =N23 -> 0 | O22: =O23 -> 0 | P22: =P23 -> 0
C23: Укрепление материально-технического оснащения для бесперебойного обеспечения бюджетного процесса | D23: 901 | E23: 01 | F23: 13 | G23: 5030010030 | I23: =SUM(J23:L23) -> 1400000 | J23: =J24 -> 0 | K23: =K24 -> 1400000 | L23: =L24 -> 0 | M23: =SUM(N23:P23) -> 0 | N23: =N24 -> 0 | O23: =O24 -> 0 | P23: =P24 -> 0
C24: Закупка товаров, работ и услуг для обеспечения государственных (муниципальных) нужд | D24: 901 | E24: 01 | F24: 13 | G24: 5030010030 | H24: 200 | I24: =SUM(J24:L24) -> 1400000 | K24: 1400000 | M24: =SUM(N24:P24) -> 0
B25: 2. | C25: Администрация муниципального образования Белореченский муниципальный район Краснодарского края | D25: 902 | I25: =SUM(J25:L25) -> 518011500 | J25: =J26+J99+J139+J163+J182+J195 -> 474496300 | K25: =K26+K99+K139+K163+K182+K195 -> 43515200 | L25: =L26+L99+L139+L163+L182+L195 -> 0 | M25: =SUM(N25:P25) -> 533459900 | N25: =N26+N99+N139+N163+N182+N195 -> 533459900 | O25: =O26+O99+O139+O163+O182+O195 -> 0 | P25: =P26+P99+P139+P163+P182+P195 -> 0
C26: Общегосударственные вопросы | D26: 902 | E26: 01 | F26: 00 | I26: =SUM(J26:L26) -> 284673200 | J26: =J27+J32+J50+J55+J46 -> 243250400 | K26: =K27+K32+K50+K55+K46 -> 41422800 | L26: =L27+L32+L50+L55+L46 -> 0 | M26: =SUM(N26:P26) -> 280737100 | N26: =N27+N32+N50+N55+N46 -> 280737100 | O26: =O27+O32+O50+O55+O46 -> 0 | P26: =P27+P32+P50+P55+P46 -> 0
C27: Функционирование высшего должностного лица субъекта Российской Федерации и муниципального образования | D27: 902 | E27: 01 | F27: 02 | I27: =SUM(J27:L27) -> 2214500 | J27: =J28 -> 2089200 | K27: =K28 -> 125300 | L27: =L28 -> 0 | M27: =SUM(N27:P27) -> 2181300 | N27: =N28 -> 2181300 | O27: =O28 -> 0 | P27: =P28 -> 0
C28: Муниципальная программа "Обеспечение деятельности органов местного самоуправления" | D28: 902 | E28: 01 | F28: 02 | G28: 5000000000 | I28: =SUM(J28:L28) -> 2214500 | J28: =J29 -> 2089200 | K28: =K29 -> 125300 | L28: =L29 -> 0 | M28: =SUM(N28:P28) -> 2181300 | N28: =N29 -> 2181300 | O28: =O29 -> 0 | P28: =P29 -> 0
C29: Обеспечение деятельности высшего должностного лица муниципального образования | D29: 902 | E29: 01 | F29: 02 | G29: 5010000000 | I29: =SUM(J29:L29) -> 2214500 | J29: =J30 -> 2089200 | K29: =K30 -> 125300 | L29: =L30 -> 0 | M29: =SUM(N29:P29) -> 2181300 | N29: =N30 -> 2181300 | O29: =O30 -> 0 | P29: =P30 -> 0
C30: Расходы на обеспечение функций органов местного самоуправления | D30: 902 | E30: 01 | F30: 02 | G30: 5010000190 | I30: =SUM(J30:L30) -> 2214500 | J30: =J31 -> 2089200 | K30: =K31 -> 125300 | L30: =L31 -> 0 | M30: =SUM(N30:P30) -> 2181300 | N30: =N31 -> 2181300 | O30: =O31 -> 0 | P30: =P31 -> 0
C31: Расходы на выплаты персоналу в целях обеспечения выполнения функций государственными (муниципальными) органами, казенными учреждениями, органами управления государственными внебюджетными фондами | D31: 902 | E31: 01 | F31: 02 | G31: 5010000190 | H31: 100 | I31: =SUM(J31:L31) -> 2214500 | J31: 2089200 | K31: 125300 | M31: =SUM(N31:P31) -> 2181300 | N31: 2181300
C32: Функционирование Правительства Российской Федерации, высших исполнительных органов государственной власти субъектов Российской Федерации, местных администраций | D32: 902 | E32: 01 | F32: 04 | I32: =SUM(J32:L32) -> 72929500 | J32: =J33 -> 84918300 | K32: =K33 -> -11988800 | L32: =L33 -> 0 | M32: =SUM(N32:P32) -> 71950200 | N32: =N33 -> 71950200 | O32: =O33 -> 0 | P32: =P33 -> 0
C33: Муниципальная программа "Обеспечение деятельности органов местного самоуправления" | D33: 902 | E33: 01 | F33: 04 | G33: 5000000000 | I33: =SUM(J33:L33) -> 72929500 | J33: =J34 -> 84918300 | K33: =K34 -> -11988800 | L33: =L34 -> 0 | M33: =SUM(N33:P33) -> 71950200 | N33: =N34 -> 71950200 | O33: =O34 -> 0 | P33: =P34 -> 0
C34: Обеспечение деятельности администрации муниципального образования | D34: 902 | E34: 01 | F34: 04 | G34: 5020000000 | I34: =SUM(J34:L34) -> 72929500 | J34: =J35+J38+J41+J44 -> 84918300 | K34: =K35+K38+K41+K44 -> -11988800 | L34: =L35+L38+L41+L44 -> 0 | M34: =SUM(N34:P34) -> 71950200 | N34: =N35+N38+N41+N44 -> 71950200 | O34: =O35+O38+O41+O44 -> 0 | P34: =P35+P38+P41+P44 -> 0
C35: Расходы на обеспечение функций органов местного самоуправления | D35: 902 | E35: 01 | F35: 04 | G35: 5020000190 | I35: =SUM(J35:L35) -> 65343300 | J35: =J36+J37 -> 77604500 | K35: =K36+K37 -> -12261200 | L35: =L36+L37 -> 0 | M35: =SUM(N35:P35) -> 64364000 | N35: =N36+N37 -> 64364000 | O35: =O36+O37 -> 0 | P35: =P36+P37 -> 0
C36: Расходы на выплаты персоналу в целях обеспечения выполнения функций государственными (муниципальными) органами, казенными учреждениями, органами управления государственными внебюджетными фондами | D36: 902 | E36: 01 | F36: 04 | G36: 5020000190 | H36: 100 | I36: =SUM(J36:L36) -> 65343300 | J36: 77604500 | K36: -12261200 | M36: =SUM(N36:P36) -> 64364000 | N36: 64364000
C37: Иные бюджетные ассигнования | D37: 902 | E37: 01 | F37: 04 | G37: 5020000190 | H37: 800 | I37: =SUM(J37:L37) -> 0 | M37: =SUM(N37:P37) -> 0
C38: Осуществление отдельных государственных полномочий по ведению учета граждан отдельных категорий в качестве нуждающихся в жилых помещениях и по формированию списка детей-сирот и детей, оставшихся без попечения родителей, лиц из числа детей-сирот и детей, оставшихся без попечения родителей, лиц, относившихся к категории детей-сирот и детей, оставшихся без попечения родителей, подлежащих обеспечению жилыми помещениями | D38: 902 | E38: 01 | F38: 04 | G38: 5020060870 | I38: =SUM(J38:L38) -> 1015500 | J38: =J39+J40 -> 979700 | K38: =K39+K40 -> 35800 | L38: =L39+L40 -> 0 | M38: =SUM(N38:P38) -> 1015500 | N38: =N39+N40 -> 1015500 | O38: =O39+O40 -> 0 | P38: =P39+P40 -> 0
C39: Расходы на выплаты персоналу в целях обеспечения выполнения функций государственными (муниципальными) органами, казенными учреждениями, органами управления государственными внебюджетными фондами | D39: 902 | E39: 01 | F39: 04 | G39: 5020060870 | H39: 100 | I39: =SUM(J39:L39) -> 1015500 | J39: 979700 | K39: 35800 | M39: =SUM(N39:P39) -> 1015500 | N39: 1015500
C40: Закупка товаров, работ и услуг для обеспечения государственных (муниципальных) нужд | D40: 902 | E40: 01 | F40: 04 | G40: 5020060870 | H40: 200 | I40: =SUM(J40:L40) -> 0 | M40: =SUM(N40:P40) -> 0
...
