Workbook

Sheet приложение 6
C1: Приложение 6
C2: к решению Совета муниципального образования Белореченский муниципальный район Краснодарского края от 26 марта 2026 г. № 263
B3: Распределение бюджетных ассигнований бюджета муниципального образования Белореченский муниципальный район Краснодарского края по разделам и подразделам классификации расходов бюджетов на 2026 год
A5: № п/п | B5: Наименование | C5: Коды бюджетной классификации | G5: 2026 год
C6: Раздел | D6: Подраздел | E6: Целевая статья | F6: Вид расхода
A7: 1 | B7: 2 | C7: 3 | D7: 4 | E7: 5 | F7: 6 | G7: 5
B8: Всего расходов | G8: =G9+G17+G21+G26+G29+G35+G40+G44+G49+G51+G38 -> 4.9965798e+09
A9: 1. | B9: Общегосударственные вопросы | C9: 01 | G9: =G10+G11+G12+G14+G15+G16+G13 -> 4.7363131e+08
B10: Функционирование высшего должностного лица субъекта Российской Федерации и муниципального образования | C10: 01 | D10: 02 | G10: ='приложение 10'!I27 -> 3342000
B11: Функционирование законодательных (представительных) органов государственной власти и и представительных органов муниципальных образований | C11: 01 | D11: 03 | E11: 0020000 | G11: ='приложение 10'!I11 -> 9212600
B12: Функционирование Правительства Российской Федерации, высших органов исполнительной власти субъектов Российской Федерации, местных администраций | C12: 01 | D12: 04 | G12: ='приложение 10'!I32 -> 105591800
B13: Судебная система | C13: 01 | D13: 05 | G13: ='приложение 10'!I46 -> 85000
B14: Обеспечение деятельности финансовых, налоговых и таможенных органов и органов финансового (финансово-бюджетного) надзора | C14: 01 | D14: 06 | E14: 0020000 | G14: ='приложение 10'!I288+'приложение 10'!I308 -> 41409500
B15: Резервные фонды | C15: 01 | D15: 11 | E15: 0020400 | G15: ='приложение 10'!I50 -> 3222273.8
B16: Другие общегосударственные вопросы | C16: 01 | D16: 13 | E16: 0020400 | F16: 012 | G16: ='приложение 10'!I55+'приложение 10'!I349+'приложение 10'!I294+'приложение 10'!I618+'приложение 10'!I370+'приложение 10'!I551+'приложение 10'!I318+'приложение 10'!I20+'приложение 10'!I325+'приложение 10'!I662 -> 310768140
A17: 2. | B17: Национальная безопасность и правоохранительная деятельность | C17: 03 | G17: =G18+G20+G19 -> 53910426
B18: Гражданская оборона | C18: 03 | D18: 09 | G18: ='приложение 10'!I103 -> 46229700
B19: Защита населения и территории от чрезвычайных ситуаций природного и техногенного характера, пожарная безопасность | C19: 03 | D19: 10 | G19: ='приложение 10'!I117 -> 5029726.2
B20: Другие вопросы в области национальной безопасности и правоохранительной деятельности | C20: 03 | D20: 14 | G20: ='приложение 10'!I127 -> 2651000
A21: 3. | B21: Национальная экономика | C21: 04 | G21: =G22+G24+G25+G23 -> 2.506517e+08
B22: Сельское хозяйство и рыболовство | C22: 04 | D22: 05 | G22: ='приложение 10'!I331 -> 33021400
B23: Транспорт | C23: 04 | D23: 08 | G23: ='приложение 10'!I149 -> 10121500
B24: Дорожное хозяйство(дорожные фонды) | C24: 04 | D24: 09 | G24: ='приложение 10'!I154 -> 2.060238e+08
B25: Другие вопросы в области национальной экономики | C25: 04 | D25: 12 | G25: ='приложение 10'!I164+'приложение 10'!I363 -> 1485000
A26: 4. | B26: Жилищно-коммунальное хозяйство | C26: 05 | G26: =G28+G27 -> 1.4281151e+08
B27: Жилищное хозяйство | C27: 05 | D27: 01 | G27: ='приложение 10'!I180 -> 14904100
B28: Коммунальное хозяйство | C28: 05 | D28: 02 | G28: ='приложение 10'!I190 -> 1.2790741e+08
A29: 5. | B29: Образование | C29: 07 | G29: =G30+G31+G33+G34+G32 -> 3310661500
B30: Дошкольное образование | C30: 07 | D30: 01 | G30: ='приложение 10'!I377+'приложение 10'!I218 -> 1.0680368e+09
B31: Общее образование | C31: 07 | D31: 02 | G31: ='приложение 10'!I400+'приложение 10'!I226 -> 1882017680
B32: Дополнительное образование детей | C32: 07 | D32: 03 | G32: ='приложение 10'!I460+'приложение 10'!I557 -> 2.0557608e+08
B33: Молодежная политика | C33: 07 | D33: 07 | G33: ='приложение 10'!I668+'приложение 10'!I713+'приложение 10'!I236+'приложение 10'!I479 -> 30418700
B34: Другие вопросы в области образования | C34: 07 | D34: 09 | G34: ='приложение 10'!I484+'приложение 10'!I241+'приложение 10'!I705+'приложение 10'!I566+'приложение 10'!I718 -> 124612220
A35: 6. | B35: Культура и кинематография | C35: 08 | G35: =G36+G37 -> 94173300
B36: Культура | C36: 08 | D36: 01 | G36: ='приложение 10'!I579 -> 75575700
B37: Другие вопросы в области культуры, кинематографии | C37: 08 | D37: 04 | G37: ='приложение 10'!I591 -> 18597600
A38: 7. | B38: Здравоохранение | C38: 09 | G38: =G39 -> 916100
B39: Амбулаторная помощь | C39: 09 | D39: 02 | G39: ='приложение 10'!I249 -> 916100
A40: 8. | B40: Социальная политика | C40: 10 | G40: =G41+G42+G43 -> 268712500
B41: Социальное обеспечение населения | C41: 10 | D41: 03 | G41: ='приложение 10'!I260 -> 65115000
...

Sheet приложение 8
C2: Приложение 8
C3: к решению Совета муниципального образования Белореченский муниципальный район Краснодарского края от 26 марта 2026 г. № 263
B4: Распределение бюджетных ассигнований по целевым статьям (муниципальным программам муниципального образования Белореченский муниципальный район Краснодарского края и непрограммным направлениям деятельности), группам видов расходов классификации расходов бюджетов на 2026 год
B6: Наименование | C6: КЦСР | D6: КВР | E6: 2026 год
A7: 1 | B7: 2 | C7: 3 | D7: 4 | E7: 5
B8: ВСЕГО | E8: =E9+E51+E55+E98+E109+E121+E136+E217+E234+E261+E270+E383+E331+E419+E257+E315+E327+E345+E310+E323+E357+E228+E253+E128+E132+E349+E374 -> 4.9965798e+09
A9: 1. | B9: Муниципальная программа "Обеспечение деятельности органов местного самоуправления" | C9: 5000000000 | E9: =E10+E15+E41+E45+E48 -> 236696800
B10: Обеспечение деятельности высшего должностного лица муниципального образования | C10: 5010000000 | E10: =E11+E13 -> 3594000
B11: Расходы на обеспечение функций органов местного самоуправления | C11: 5010000190 | E11: =E12 -> 3342000
B12: Расходы на выплаты персоналу в целях обеспечения выполнения функций государственными (муниципальными) органами, казенными учреждениями, органами управления государственными внебюджетными фондами | C12: 5010000190 | D12: 100 | E12: ='приложение 10'!I31 -> 3342000
B13: Осуществление отдельного государственного полномочия Краснодарского края по формированию списков семей и граждан, жилые помещения которых утрачены в результате чрезвычайных ситуаций природного и техногенного характера на территории Краснодарского края, и (или) списков граждан, жилые помещения которых повреждены в результате чрезвычайных ситуаций природного и техногенного характера на территории Краснодарского края | C13: 5010060070 | E13: =E14 -> 252000
B14: Закупка товаров, работ и услуг для обеспечения государственных (муниципальных) нужд | C14: 5010060070 | D14: 200 | E14: ='приложение 10'!I121 -> 252000
B15: Обеспечение деятельности администрации муниципального образования | C15: 5020000000 | E15: =E16+E20+E23+E26+E32+E30+E36+E39 -> 213479500
B16: Расходы на обеспечение функций органов местного самоуправления | C16: 5020000190 | E16: =E17+E18+E19 -> 189853800
B17: Расходы на выплаты персоналу в целях обеспечения выполнения функций государственными (муниципальными) органами, казенными учреждениями, органами управления государственными внебюджетными фондами | C17: 5020000190 | D17: 100 | E17: ='приложение 10'!I36+'приложение 10'!I292+'приложение 10'!I335+'приложение 10'!I353+'приложение 10'!I488+'приложение 10'!I595+'приложение 10'!I658+'приложение 10'!I709 -> 189838400
B18: Закупка товаров, работ и услуг для обеспечения государственных (муниципальных) нужд | C18: 5020000190 | D18: 200 | E18: ='приложение 10'!I354+'приложение 10'!I489 -> 0
B19: Иные бюджетные ассигнования | C19: 5020000190 | D19: 800 | E19: ='приложение 10'!I37+'приложение 10'!I293+'приложение 10'!I336+'приложение 10'!I355+'приложение 10'!I490+'приложение 10'!I596+'приложение 10'!I659+'приложение 10'!I710 -> 15400
B20: Осуществление отдельных государственных полномочий по ведению учета граждан отдельных категорий в качестве нуждающихся в жилых помещениях и по формированию списка детей-сирот и детей, оставшихся без попечения родителей, лиц из числа детей-сирот и детей, оставшихся без попечения родителей, лиц, относившихся к категории детей-сирот и детей, оставшихся без попечения родителей, подлежащих обеспечению жилыми помещениями | C20: 5020060870 | E20: =E21+E22 -> 982600
B21: Расходы на выплаты персоналу в целях обеспечения выполнения функций государственными (муниципальными) органами, казенными учреждениями, органами управления государственными внебюджетными фондами | C21: 5020060870 | D21: 100 | E21: ='приложение 10'!I39 -> 982600
B22: Закупка товаров, работ и услуг для обеспечения государственных (муниципальных) нужд | C22: 5020060870 | D22: 200 | E22: ='приложение 10'!I40 -> 0
B23: Осуществление отдельных государственных полномочий Краснодарского края по поддержке сельскохозяйственного производства | C23: 5020060910 | E23: =E24+E25 -> 1959400
B24: Расходы на выплаты персоналу в целях обеспечения выполнения функций государственными (муниципальными) органами, казенными учреждениями, органами управления государственными внебюджетными фондами | C24: 5020060910 | D24: 100 | E24: ='приложение 10'!I338 -> 1797400
B25: Закупка товаров, работ и услуг для обеспечения государственных (муниципальных) нужд | C25: 5020060910 | D25: 200 | E25: ='приложение 10'!I339 -> 162000
B26: Осуществление отдельных государственных полномочий по выявлению обстоятельств, свидетельствующих о необходимости оказания детям-сиротам и детям, оставшимся без попечения родителей, лицам из числа детей-сирот и детей, оставшихся без попечения родителей, содействия в преодолении трудной жизненной ситуации, и осуществлению контроля за использованием детьми-сиротами и детьми, оставшимися без попечения родителей, лицами из числа детей-сирот и детей, оставшихся без попечения родителей, предоставленных им жилых помещений специализированного жилищного фонда | C26: 5020069170 | E26: =E27+E28+E29 -> 1318400
B27: Расходы на выплату персоналу в целях обеспечения функций государственными (муниципальными) органами, казенными учреждениями, органами управления государственными внебюджетными фондами | C27: 5020069170 | D27: 100 | E27: ='приложение 10'!I739 -> 1318400
B28: Закупка товаров, работ и услуг для обеспечения государственных (муниципальных) нужд | C28: 5020069170 | D28: 200 | E28: ='приложение 10'!I740 -> 0
B29: Иные бюджетные ассигнования | C29: 5020069170 | D29: 800 | E29: ='приложение 10'!I741 -> 0
B30: Осуществление отдельных государственных полномочий Краснодарского края по организации и обеспечению отдыха и оздоровления детей (за исключением организации отдыха детей в каникулярное время) | C30: 5020069180 | E30: =E31 -> 982900
B31: Расходы на выплату персоналу в целях обеспечения функций государственными (муниципальными) органами, казенными учреждениями, органами управления государственными внебюджетными фондами | C31: 5020069180 | D31: 100 | E31: ='приложение 10'!I743 -> 982900
B32: Осуществление отдельных государственных полномочий по организации и осуществлению деятельности по опеке и попечительству в отношении несовершеннолетних | C32: 5020069190 | E32: =E33+E34+E35 -> 12028500
B33: Расходы на выплату персоналу в целях обеспечения функций государственными (муниципальными) органами, казенными учреждениями, органами управления государственными внебюджетными фондами | C33: 5020069190 | D33: 100 | E33: ='приложение 10'!I745 -> 11328000
B34: Закупка товаров, работ и услуг для обеспечения государственных (муниципальных) нужд | C34: 5020069190 | D34: 200 | E34: ='приложение 10'!I746 -> 700000
B35: Иные бюджетные ассигнования | C35: 5020069190 | D35: 800 | E35: ='приложение 10'!I747 -> 500
B36: Осуществление отдельных государственных полномочий по созданию и организации деятельности комиссий по делам несовершеннолетних и защите их прав | C36: 5020069200 | E36: =E37+E38 -> 5371200
B37: Расходы на выплаты персоналу в целях обеспечения выполнения функций государственными (муниципальными) органами, казенными учреждениями, органами управления государственными внебюджетными фондами | C37: 5020069200 | D37: 100 | E37: ='приложение 10'!I42 -> 5271200
B38: Закупка товаров, работ и услуг для обеспечения государственных (муниципальных) нужд | C38: 5020069200 | D38: 200 | E38: ='приложение 10'!I43 -> 100000
B39: 0существление отдельных государственных полномочий по предоставлению лицам, которые относились к категории детей-сирот и детей, оставшихся без попечения родителей, лиц из числа детей-сирот и детей, оставшихся без попечения родителей, и достигли возраста 23 лет, выплаты на приобретение благоустроенного жилого помещения в собственность или для полного погашения предоставленного на приобретение жилого помещения кредита (займа) по договору, обязательства заемщика по которому обеспечены ипотекой | C39: 5020069210 | E39: =E40 -> 982700
B40: Расходы на выплаты персоналу в целях обеспечения выполнения функций государственными (муниципальными) органами, казенными учреждениями, органами управления государственными внебюджетными фондами | C40: 5020069210 | D40: 100 | E40: ='приложение 10'!I45 -> 982700
B41: Укрепление материально-технической базы органов местного самоуправления | C41: 5030000000 | E41: =E42 -> 16646300
B42: Укрепление материально-технического оснащения для бесперебойного обеспечения бюджетного процесса | C42: 5030010030 | E42: =E43+E44 -> 16646300
...

Sheet приложение 10
H1: Приложение 10
H2: к решению Совета муниципального образования Белореченский муниципальный район Краснодарского края от 26 марта 2026 г. № 263
C3: Ведомственная структура расходов бюджета муниципального образования Белореченский муниципальный район Краснодарского края на 2026 год
B5: № п\п | C5: Наименование | D5: Коды бюджетной классификации | I5: 2026 год | J5: Первоначальный бюджет | K5: Изменения (+;-) | L5: по итогам публичных слушаний | M5: 46016 | N5: 46050 | O5: 46072 | P5: 46107 | Q5: Формулы не заполнять
D6: Вед | E6: Раздел | F6: Подраздел | G6: Целевая статья | H6: Вид расхода
B7: 1 | C7: 2 | D7: 3 | E7: 4 | F7: 5 | G7: 6 | H7: 7 | I7: 8
C8: ВСЕГО | I8: =SUM(J8:Q8) -> 4.9965798e+09 | J8: =J9+J25+J286+J306+J323+J347+J368+J549+J616+J660+J711 -> 4360965200 | K8: =K9+K25+K286+K306+K323+K347+K368+K549+K616+K660+K711 -> 71967000 | L8: =L9+L25+L286+L306+L323+L347+L368+L549+L616+L660+L711 -> 185923000 | M8: =M9+M25+M286+M306+M323+M347+M368+M549+M616+M660+M711 -> 330900 | N8: =N9+N25+N286+N306+N323+N347+N368+N549+N616+N660+N711 -> 2.1200881e+08 | O8: =O9+O25+O286+O306+O323+O347+O368+O549+O616+O660+O711 -> 164078110 | P8: =P9+P25+P286+P306+P323+P347+P368+P549+P616+P660+P711 -> 1306830 | Q8: =Q9+Q25+Q286+Q306+Q323+Q347+Q368+Q549+Q616+Q660+Q711 -> 0
B9: 1. | C9: Совет муниципального образования Белореченский муниципальный район Краснодарского края | D9: 901 | I9: =SUM(J9:Q9) -> 9982600 | J9: =J10 -> 7350500 | K9: =K10 -> 2632100 | L9: =L10 -> 0 | M9: =M10 -> 0 | N9: =N10 -> 0 | O9: =O10 -> 0 | P9: =P10 -> 0 | Q9: =Q10 -> 0
C10: Общегосударственные вопросы | D10: 901 | E10: 01 | F10: 00 | I10: =SUM(J10:Q10) -> 9982600 | J10: =J11+J20 -> 7350500 | K10: =K11+K20 -> 2632100 | L10: =L11+L20 -> 0 | M10: =M11+M20 -> 0 | N10: =N11+N20 -> 0 | O10: =O11+O20 -> 0 | P10: =P11+P20 -> 0 | Q10: =Q11+Q20 -> 0
C11: Функционирование законодательных (представительных) органов государственной власти и представительных органов муниципальных образований | D11: 901 | E11: 01 | F11: 03 | I11: =SUM(J11:Q11) -> 9212600 | J11: =J12 -> 5950500 | K11: =K12 -> 3262100 | L11: =L12 -> 0 | M11: =M12 -> 0 | N11: =N12 -> 0 | O11: =O12 -> 0 | P11: =P12 -> 0 | Q11: =Q12 -> 0
C12: Другие непрограммные направления деятельности органов местного самоуправления | D12: 901 | E12: 01 | F12: 03 | G12: 9900000000 | I12: =SUM(J12:Q12) -> 9212600 | J12: =J13+J16 -> 5950500 | K12: =K13+K16 -> 3262100 | L12: =L13+L16 -> 0 | M12: =M13+M16 -> 0 | N12: =N13+N16 -> 0 | O12: =O13+O16 -> 0 | P12: =P13+P16 -> 0 | Q12: =Q13+Q16 -> 0
C13: Обеспечение деятельности лиц, замещающих муниципальные должности в представительных органах, контрольно-счетных органах муниципальных образований | D13: 901 | E13: 01 | F13: 03 | G13: 9910000000 | I13: =SUM(J13:Q13) -> 3048500 | J13: =J14 -> 1974200 | K13: =K14 -> 1074300 | L13: =L14 -> 0 | M13: =M14 -> 0 | N13: =N14 -> 0 | O13: =O14 -> 0 | P13: =P14 -> 0 | Q13: =Q14 -> 0
C14: Расходы на обеспечение функций органов местного самоуправления | D14: 901 | E14: 01 | F14: 03 | G14: 9910000190 | I14: =SUM(J14:Q14) -> 3048500 | J14: =J15 -> 1974200 | K14: =K15 -> 1074300 | L14: =L15 -> 0 | M14: =M15 -> 0 | N14: =N15 -> 0 | O14: =O15 -> 0 | P14: =P15 -> 0 | Q14: =Q15 -> 0
C15: Расходы на выплаты персоналу в целях обеспечения выполнения функций государственными (муниципальными) органами, казенными учреждениями, органами управления государственными внебюджетными фондами | D15: 901 | E15: 01 | F15: 03 | G15: 9910000190 | H15: 100 | I15: =SUM(J15:Q15) -> 3048500 | J15: 1974200 | K15: 1074300
C16: Обеспечение деятельности муниципальных и немуниципальных служащих в представительных органах, контрольно-счетных органах муниципальных образований | D16: 901 | E16: 01 | F16: 03 | G16: 9920000000 | I16: =SUM(J16:Q16) -> 6164100 | J16: =J17 -> 3976300 | K16: =K17 -> 2187800 | L16: =L17 -> 0 | M16: =M17 -> 0 | N16: =N17 -> 0 | O16: =O17 -> 0 | P16: =P17 -> 0 | Q16: =Q17 -> 0
C17: Расходы на обеспечение функций органов местного самоуправления | D17: 901 | E17: 01 | F17: 03 | G17: 9920000190 | I17: =SUM(J17:Q17) -> 6164100 | J17: =J18+J19 -> 3976300 | K17: =K18+K19 -> 2187800 | L17: =L18+L19 -> 0 | M17: =M18+M19 -> 0 | N17: =N18+N19 -> 0 | O17: =O18+O19 -> 0 | P17: =P18+P19 -> 0 | Q17: =Q18+Q19 -> 0
C18: Расходы на выплаты персоналу в целях обеспечения выполнения функций государственными (муниципальными) органами, казенными учреждениями, органами управления государственными внебюджетными фондами | D18: 901 | E18: 01 | F18: 03 | G18: 9920000190 | H18: 100 | I18: =SUM(J18:Q18) -> 6159100 | J18: 3972500 | K18: 2186600
C19: Иные бюджетные ассигнования | D19: 901 | E19: 01 | F19: 03 | G19: 9920000190 | H19: 800 | I19: =SUM(J19:Q19) -> 5000 | J19: 3800 | K19: 1200
C20: Другие общегосударственные вопросы | D20: 901 | E20: 01 | F20: 13 | I20: =SUM(J20:Q20) -> 770000 | J20: =J21 -> 1400000 | K20: =K21 -> -630000 | L20: =L21 -> 0 | M20: =M21 -> 0 | N20: =N21 -> 0 | O20: =O21 -> 0 | P20: =P21 -> 0 | Q20: =Q21 -> 0
C21: Муниципальная программа "Обеспечение деятельности органов местного самоуправления" | D21: 901 | E21: 01 | F21: 13 | G21: 500000000 | I21: =SUM(J21:Q21) -> 770000 | J21: =J22 -> 1400000 | K21: =K22 -> -630000 | L21: =L22 -> 0 | M21: =M22 -> 0 | N21: =N22 -> 0 | O21: =O22 -> 0 | P21: =P22 -> 0 | Q21: =Q22 -> 0
C22: Укрепление материально-технической базы органов местного самоуправления | D22: 901 | E22: 01 | F22: 13 | G22: 5030000000 | I22: =SUM(J22:Q22) -> 770000 | J22: =J23 -> 1400000 | K22: =K23 -> -630000 | L22: =L23 -> 0 | M22: =M23 -> 0 | N22: =N23 -> 0 | O22: =O23 -> 0 | P22: =P23 -> 0 | Q22: =Q23 -> 0
C23: Укрепление материально-технического оснащения для бесперебойного обеспечения бюджетного процесса | D23: 901 | E23: 01 | F23: 13 | G23: 5030010030 | I23: =SUM(J23:Q23) -> 770000 | J23: =J24 -> 1400000 | K23: =K24 -> -630000 | L23: =L24 -> 0 | M23: =M24 -> 0 | N23: =N24 -> 0 | O23: =O24 -> 0 | P23: =P24 -> 0 | Q23: =Q24 -> 0
C24: Закупка товаров, работ и услуг для обеспечения государственных (муниципальных) нужд | D24: 901 | E24: 01 | F24: 13 | G24: 5030010030 | H24: 200 | I24: =SUM(J24:Q24) -> 770000 | J24: 1400000 | K24: -630000
B25: 2. | C25: Администрация муниципального образования Белореченский муниципальный район Краснодарского края | D25: 902 | I25: =SUM(J25:Q25) -> 1.0176734e+09 | J25: =J26+J102+J148+J179+J217+J259 -> 522783500 | K25: =K26+K102+K148+K179+K217+K259 -> 54130500 | L25: =L26+L102+L148+L179+L217+L259 -> 185923000 | M25: =M26+M102+M148+M179+M217+M259+M248 -> 7617100 | N25: =N26+N102+N148+N179+N217+N259 -> 2.1049061e+08 | O25: =O26+O102+O148+O179+O217+O259+O280+O248 -> 35434210 | P25: =P26+P102+P148+P179+P217+P259 -> 1294490 | Q25: =Q26+Q102+Q148+Q179+Q217+Q259 -> 0
C26: Общегосударственные вопросы | D26: 902 | E26: 01 | F26: 00 | I26: =SUM(J26:Q26) -> 3.9009927e+08 | J26: =J27+J32+J50+J55+J46 -> 239923300 | K26: =K27+K32+K50+K55+K46 -> 119941800 | L26: =L27+L32+L50+L55+L46 -> 0 | M26: =M27+M32+M50+M55+M46 -> -108500 | N26: =N27+N32+N50+N55+N46 -> 6102048.8 | O26: =O27+O32+O50+O55+O46 -> 24277435 | P26: =P27+P32+P50+P55+P46 -> -36810 | Q26: =Q27+Q32+Q50+Q55+Q46 -> 0
C27: Функционирование высшего должностного лица субъекта Российской Федерации и муниципального образования | D27: 902 | E27: 01 | F27: 02 | I27: =SUM(J27:Q27) -> 3342000 | J27: =J28 -> 2171800 | K27: =K28 -> 1170200 | L27: =L28 -> 0 | M27: =M28 -> 0 | N27: =N28 -> 0 | O27: =O28 -> 0 | P27: =P28 -> 0 | Q27: =Q28 -> 0
C28: Муниципальная программа "Обеспечение деятельности органов местного самоуправления" | D28: 902 | E28: 01 | F28: 02 | G28: 5000000000 | I28: =SUM(J28:Q28) -> 3342000 | J28: =J29 -> 2171800 | K28: =K29 -> 1170200 | L28: =L29 -> 0 | M28: =M29 -> 0 | N28: =N29 -> 0 | O28: =O29 -> 0 | P28: =P29 -> 0 | Q28: =Q29 -> 0
C29: Обеспечение деятельности высшего должностного лица муниципального образования | D29: 902 | E29: 01 | F29: 02 | G29: 5010000000 | I29: =SUM(J29:Q29) -> 3342000 | J29: =J30 -> 2171800 | K29: =K30 -> 1170200 | L29: =L30 -> 0 | M29: =M30 -> 0 | N29: =N30 -> 0 | O29: =O30 -> 0 | P29: =P30 -> 0 | Q29: =Q30 -> 0
C30: Расходы на обеспечение функций органов местного самоуправления | D30: 902 | E30: 01 | F30: 02 | G30: 5010000190 | I30: =SUM(J30:Q30) -> 3342000 | J30: =J31 -> 2171800 | K30: =K31 -> 1170200 | L30: =L31 -> 0 | M30: =M31 -> 0 | N30: =N31 -> 0 | O30: =O31 -> 0 | P30: =P31 -> 0 | Q30: =Q31 -> 0
C31: Расходы на выплаты персоналу в целях обеспечения выполнения функций государственными (муниципальными) органами, казенными учреждениями, органами управления государственными внебюджетными фондами | D31: 902 | E31: 01 | F31: 02 | G31: 5010000190 | H31: 100 | I31: =SUM(J31:Q31) -> 3342000 | J31: 2171800 | K31: 1170200
C32: Функционирование Правительства Российской Федерации, высших исполнительных органов государственной власти субъектов Российской Федерации, местных администраций | D32: 902 | E32: 01 | F32: 04 | I32: =SUM(J32:Q32) -> 105591800 | J32: =J33 -> 76239500 | K32: =K33 -> 29711900 | L32: =L33 -> 0 | M32: =M33 -> -829100 | N32: =N33 -> 0 | O32: =O33 -> 829500 | P32: =P33 -> -360000 | Q32: =Q33 -> 0
C33: Муниципальная программа "Обеспечение деятельности органов местного самоуправления" | D33: 902 | E33: 01 | F33: 04 | G33: 5000000000 | I33: =SUM(J33:Q33) -> 105591800 | J33: =J34 -> 76239500 | K33: =K34 -> 29711900 | L33: =L34 -> 0 | M33: =M34 -> -829100 | N33: =N34 -> 0 | O33: =O34 -> 829500 | P33: =P34 -> -360000 | Q33: =Q34 -> 0
C34: Обеспечение деятельности администрации муниципального образования | D34: 902 | E34: 01 | F34: 04 | G34: 5020000000 | I34: =SUM(J34:Q34) -> 105591800 | J34: =J35+J38+J41+J44 -> 76239500 | K34: =K35+K38+K41+K44 -> 29711900 | L34: =L35+L38+L41+L44 -> 0 | M34: =M35+M38+M41+M44 -> -829100 | N34: =N35+N38+N41+N44 -> 0 | O34: =O35+O38+O41+O44 -> 829500 | P34: =P35+P38+P41+P44 -> -360000 | Q34: =Q35+Q38+Q41+Q44 -> 0
C35: Расходы на обеспечение функций органов местного самоуправления | D35: 902 | E35: 01 | F35: 04 | G35: 5020000190 | I35: =SUM(J35:Q35) -> 98255300 | J35: =J36+J37 -> 68925700 | K35: =K36+K37 -> 29689200 | L35: =L36+L37 -> 0 | M35: =M36+M37 -> -829100 | N35: =N36+N37 -> 0 | O35: =O36+O37 -> 829500 | P35: =P36+P37 -> -360000 | Q35: =Q36+Q37 -> 0
C36: Расходы на выплаты персоналу в целях обеспечения выполнения функций государственными (муниципальными) органами, казенными учреждениями, органами управления государственными внебюджетными фондами | D36: 902 | E36: 01 | F36: 04 | G36: 5020000190 | H36: 100 | I36: =SUM(J36:Q36) -> 98255300 | J36: 68925700 | K36: 29689200 | M36: -829100 | O36: 829500 | P36: -360000
C37: Иные бюджетные ассигнования | D37: 902 | E37: 01 | F37: 04 | G37: 5020000190 | H37: 800 | I37: =SUM(J37:Q37) -> 0 | J37: 0
C38: Осуществление отдельных государственных полномочий по ведению учета граждан отдельных категорий в качестве нуждающихся в жилых помещениях и по формированию списка детей-сирот и детей, оставшихся без попечения родителей, лиц из числа детей-сирот и детей, оставшихся без попечения родителей, лиц, относившихся к категории детей-сирот и детей, оставшихся без попечения родителей, подлежащих обеспечению жилыми помещениями | D38: 902 | E38: 01 | F38: 04 | G38: 5020060870 | I38: =SUM(J38:Q38) -> 982600 | J38: =J39+J40 -> 979700 | K38: =K39+K40 -> 2900 | L38: =L39+L40 -> 0 | M38: =M39+M40 -> 0 | N38: =N39+N40 -> 0 | O38: =O39+O40 -> 0 | P38: =P39+P40 -> 0 | Q38: =Q39+Q40 -> 0
C39: Расходы на выплаты персоналу в целях обеспечения выполнения функций государственными (муниципальными) органами, казенными учреждениями, органами управления государственными внебюджетными фондами | D39: 902 | E39: 01 | F39: 04 | G39: 5020060870 | H39: 100 | I39: =SUM(J39:Q39) -> 982600 | J39: 979700 | K39: 2900
C40: Закупка товаров, работ и услуг для обеспечения государственных (муниципальных) нужд | D40: 902 | E40: 01 | F40: 04 | G40: 5020060870 | H40: 200 | I40: =SUM(J40:Q40) -> 0 | J40: 0
C41: Осуществление отдельных государственных полномочий по созданию и организации деятельности комиссий по делам несовершеннолетних и защите их прав | D41: 902 | E41: 01 | F41: 04 | G41: 5020069200 | I41: =SUM(J41:Q41) -> 5371200 | J41: =J42+J43 -> 5354400 | K41: =K42+K43 -> 16800 | L41: =L42+L43 -> 0 | M41: =M42+M43 -> 0 | N41: =N42+N43 -> 0 | O41: =O42+O43 -> 0 | P41: =P42+P43 -> 0 | Q41: =Q42+Q43 -> 0
...
