Workbook

Sheet приложение 7
C1: Приложение 7
C2: к решению Совета муниципального образования Белореченский муниципальный район Краснодарского края от 26 марта 2026 г. № 263
B3: Распределение бюджетных ассигнований бюджета муниципального образования Белореченский муниципальный район Краснодарского края по разделам и подразделам классификации расходов бюджетов на 2027 и 2028 годы
H4: (рублей)
A5: № п/п | B5: Наименование | C5: Коды бюджетной классификации | G5: 2027 год | H5: 2028 год
C6: Раздел | D6: Подраздел | E6: Целевая статья | F6: Вид расхода
A7: 1 | B7: 2 | C7: 3 | D7: 4 | E7: 5 | F7: 6 | G7: 5 | H7: 6
B8: Всего расходов | G8: =G9+G17+G21+G26+G28+G34+G39+G43+G48+G50+G37 -> 4590171200 | H8: =H9+H17+H21+H26+H28+H34+H39+H43+H48+H50+H37 -> 4742058200
A9: 1. | B9: Общегосударственные вопросы | C9: 01 | G9: =G10+G11+G12+G14+G15+G16+G13 -> 347532400 | H9: =H10+H11+H12+H14+H15+H16+H13 -> 340559600
B10: Функционирование высшего должностного лица субъекта Российской Федерации и муниципального образования | C10: 01 | D10: 02 | G10: ='приложение 11'!I27 -> 2214500 | H10: ='приложение 11'!Q27 -> 2181300
B11: Функционирование законодательных (представительных) органов государственной власти и и представительных органов муниципальных образований | C11: 01 | D11: 03 | E11: 0020000 | G11: ='приложение 11'!I11 -> 6104300 | H11: ='приложение 11'!Q11 -> 6012700
B12: Функционирование Правительства Российской Федерации, высших органов исполнительной власти субъектов Российской Федерации, местных администраций | C12: 01 | D12: 04 | G12: ='приложение 11'!I32 -> 72816400 | H12: ='приложение 11'!Q32 -> 71309300
B13: Судебная система | C13: 01 | D13: 05 | G13: ='приложение 11'!I46 -> 8400 | H13: ='приложение 11'!Q46 -> 9000
B14: Обеспечение деятельности финансовых, налоговых и таможенных органов и органов финансового (финансово-бюджетного) надзора | C14: 01 | D14: 06 | E14: 0020000 | G14: ='приложение 11'!I225+'приложение 11'!I245 -> 27396900 | H14: ='приложение 11'!Q225+'приложение 11'!Q245 -> 26986400
B15: Резервные фонды | C15: 01 | D15: 11 | E15: 0020400 | G15: ='приложение 11'!I50 -> 5000000 | H15: ='приложение 11'!Q50 -> 5000000
B16: Другие общегосударственные вопросы | C16: 01 | D16: 13 | E16: 0020400 | F16: 012 | G16: ='приложение 11'!I55+'приложение 11'!I285+'приложение 11'!I231+'приложение 11'!I506+'приложение 11'!I300+'приложение 11'!I452+'приложение 11'!I254+'приложение 11'!I20+'приложение 11'!I261+'приложение 11'!I544 -> 233991900 | H16: ='приложение 11'!Q55+'приложение 11'!Q285+'приложение 11'!Q231+'приложение 11'!Q506+'приложение 11'!Q300+'приложение 11'!Q452+'приложение 11'!Q254+'приложение 11'!Q20+'приложение 11'!Q261+'приложение 11'!Q544 -> 229060900
A17: 2. | B17: Национальная безопасность и правоохранительная деятельность | C17: 03 | G17: =G18+G20+G19 -> 47464700 | H17: =H18+H20+H19 -> 47208700
B18: Гражданская оборона | C18: 03 | D18: 09 | G18: ='приложение 11'!I100 -> 35762700 | H18: ='приложение 11'!Q100 -> 35406700
B19: Защита населения и территории от чрезвычайных ситуаций природного и техногенного характера, пожарная безопасность | C19: 03 | D19: 10 | G19: ='приложение 11'!I114 -> 252000 | H19: ='приложение 11'!Q114 -> 252000
B20: Другие вопросы в области национальной безопасности и правоохранительной деятельности | C20: 03 | D20: 14 | G20: ='приложение 11'!I119 -> 11450000 | H20: ='приложение 11'!Q119 -> 11550000
A21: 3. | B21: Национальная экономика | C21: 04 | G21: =G22+G24+G25+G23 -> 54257000 | H21: =H22+H24+H25+H23 -> 55031600
B22: Сельское хозяйство и рыболовство | C22: 04 | D22: 05 | G22: ='приложение 11'!I267 -> 28950300 | H22: ='приложение 11'!Q267 -> 28826200
B23: Транспорт | C23: 04 | D23: 08 | G23: ='приложение 11'!I140 -> 11250000 | H23: ='приложение 11'!Q140 -> 11250000
B24: Дорожное хозяйство(дорожные фонды) | C24: 04 | D24: 09 | G24: ='приложение 11'!I145 -> 11986700 | H24: ='приложение 11'!Q145 -> 12270400
B25: Другие вопросы в области национальной экономики | C25: 04 | D25: 12 | G25: ='приложение 11'!I150 -> 2070000 | H25: ='приложение 11'!Q150 -> 2685000
A26: 4. | B26: Жилищно-коммунальное хозяйство | C26: 05 | G26: =G27 -> 24877600 | H26: =H27 -> 1060000
B27: Коммунальное хозяйство | C27: 05 | D27: 02 | G27: ='приложение 11'!I164 -> 24877600 | H27: ='приложение 11'!Q164 -> 1060000
A28: 5. | B28: Образование | C28: 07 | G28: =G29+G30+G32+G33+G31 -> 3383888000 | H28: =H29+H30+H32+H33+H31 -> 3539238200
B29: Дошкольное образование | C29: 07 | D29: 01 | G29: ='приложение 11'!I307 -> 1123885000 | H29: ='приложение 11'!Q307 -> 1168449600
B30: Общее образование | C30: 07 | D30: 02 | G30: ='приложение 11'!I326 -> 1979779500 | H30: ='приложение 11'!Q326 -> 2079776800
B31: Дополнительное образование детей | C31: 07 | D31: 03 | G31: ='приложение 11'!I372+'приложение 11'!I458 -> 157302500 | H31: ='приложение 11'!Q372+'приложение 11'!Q458 -> 162665800
B32: Молодежная политика | C32: 07 | D32: 07 | G32: ='приложение 11'!I550+'приложение 11'!I588+'приложение 11'!I183 -> 19957800 | H32: ='приложение 11'!Q550+'приложение 11'!Q588+'приложение 11'!Q183 -> 19679900
B33: Другие вопросы в области образования | C33: 07 | D33: 09 | G33: ='приложение 11'!I388+'приложение 11'!I188+'приложение 11'!I580+'приложение 11'!I468+'приложение 11'!I593 -> 102963200 | H33: ='приложение 11'!Q388+'приложение 11'!Q188+'приложение 11'!Q580+'приложение 11'!Q468+'приложение 11'!Q593 -> 108666100
A34: 6. | B34: Культура и кинематография | C34: 08 | G34: =G35+G36 -> 83283700 | H34: =H35+H36 -> 80427500
B35: Культура | C35: 08 | D35: 01 | G35: ='приложение 11'!I474 -> 69123400 | H35: ='приложение 11'!Q474 -> 66306400
B36: Другие вопросы в области культуры, кинематографии | C36: 08 | D36: 04 | E36: 4429900 | F36: 001 | G36: ='приложение 11'!I484 -> 14160300 | H36: ='приложение 11'!Q484 -> 14121100
A37: 7. | B37: Здравоохранение | C37: 09 | G37: =G38 -> 20000000 | H37: =H38 -> 850000
B38: Амбулаторная помощь | C38: 09 | D38: 02 | G38: ='приложение 11'!I196 -> 20000000 | H38: ='приложение 11'!Q196 -> 850000
A39: 8. | B39: Социальная политика | C39: 10 | G39: =G40+G41+G42 -> 214053100 | H39: =H40+H41+H42 -> 217891600
B40: Социальное обеспечение населения | C40: 10 | D40: 03 | G40: ='приложение 11'!I205 -> 6162300 | H40: ='приложение 11'!Q205 -> 6069900
...

Sheet приложение 9
C2: Приложение 9
C3: к решению Совета муниципального образования Белореченский муниципальный район Краснодарского края от 26 марта 2026 г. № 263
B4: Распределение бюджетных ассигнований по целевым статьям (муниципальным программам муниципального образования Белореченский муниципальный район Краснодарского края и непрограммным направлениям деятельности), группам видов расходов классификации расходов бюджетов на 2027 и 2028 годы
F5: (рублей)
B6: Наименование | C6: КЦСР | D6: КВР | E6: 2027 год | F6: 2028 год
A7: 1 | B7: 2 | C7: 3 | D7: 4 | E7: 5 | F7: 6
B8: ВСЕГО | E8: =E9+E51+E55+E97+E103+E115+E130+E204+E219+E244+E248+E316+E284+E345+E240+E268+E280+E295+E264+E276+E303+E213+E236+E122+E126+E299 -> 4590171200 | F8: =F9+F51+F55+F97+F103+F115+F130+F204+F219+F244+F248+F316+F284+F345+F240+F268+F280+F295+F264+F276+F303+F213+F236+F122+F126+F299 -> 4742058200
A9: 1. | B9: Муниципальная программа "Обеспечение деятельности органов местного самоуправления" | C9: 5000000000 | E9: =E10+E15+E41+E45+E48 -> 181625600 | F9: =F10+F15+F41+F45+F48 -> 177358000
B10: Обеспечение деятельности высшего должностного лица муниципального образования | C10: 5010000000 | E10: =E11+E13 -> 2466500 | F10: =F11+F13 -> 2433300
B11: Расходы на обеспечение функций органов местного самоуправления | C11: 5010000190 | E11: =E12 -> 2214500 | F11: =F12 -> 2181300
B12: Расходы на выплаты персоналу в целях обеспечения выполнения функций государственными (муниципальными) органами, казенными учреждениями, органами управления государственными внебюджетными фондами | C12: 5010000190 | D12: 100 | E12: ='приложение 11'!I31 -> 2214500 | F12: ='приложение 11'!Q31 -> 2181300
B13: Осуществление отдельного государственного полномочия Краснодарского края по формированию списков семей и граждан, жилые помещения которых утрачены в результате чрезвычайных ситуаций природного и техногенного характера на территории Краснодарского края, и (или) списков граждан, жилые помещения которых повреждены в результате чрезвычайных ситуаций природного и техногенного характера на территории Краснодарского края | C13: 5010060070 | E13: =E14 -> 252000 | F13: =F14 -> 252000
B14: Закупка товаров, работ и услуг для обеспечения государственных (муниципальных) нужд | C14: 5010060070 | D14: 200 | E14: ='приложение 11'!I118 -> 252000 | F14: ='приложение 11'!Q118 -> 252000
B15: Обеспечение деятельности администрации муниципального образования | C15: 5020000000 | E15: =E16+E20+E23+E26+E32+E28+E36+E39 -> 150398100 | F15: =F16+F20+F23+F26+F32+F28+F36+F39 -> 147980500
B16: Расходы на обеспечение функций органов местного самоуправления | C16: 5020000190 | E16: =E17+E18+E19 -> 125977500 | F16: =F17+F18+F19 -> 123559900
B17: Расходы на выплаты персоналу в целях обеспечения выполнения функций государственными (муниципальными) органами, казенными учреждениями, органами управления государственными внебюджетными фондами | C17: 5020000190 | D17: 100 | E17: ='приложение 11'!I36+'приложение 11'!I229+'приложение 11'!I271+'приложение 11'!I289+'приложение 11'!I392+'приложение 11'!I488+'приложение 11'!I540+'приложение 11'!I584 -> 125967600 | F17: ='приложение 11'!Q36+'приложение 11'!Q229+'приложение 11'!Q271+'приложение 11'!Q289+'приложение 11'!Q392+'приложение 11'!Q488+'приложение 11'!Q540+'приложение 11'!Q584 -> 123550100
B18: Закупка товаров, работ и услуг для обеспечения государственных (муниципальных) нужд | C18: 5020000190 | D18: 200 | E18: ='приложение 11'!I290+'приложение 11'!I393 -> 0 | F18: ='приложение 11'!Q290+'приложение 11'!Q393 -> 0
B19: Иные бюджетные ассигнования | C19: 5020000190 | D19: 800 | E19: ='приложение 11'!I37+'приложение 11'!I230+'приложение 11'!I272+'приложение 11'!I291+'приложение 11'!I394+'приложение 11'!I489+'приложение 11'!I541+'приложение 11'!I585 -> 9900 | F19: ='приложение 11'!Q37+'приложение 11'!Q230+'приложение 11'!Q272+'приложение 11'!Q291+'приложение 11'!Q394+'приложение 11'!Q489+'приложение 11'!Q541+'приложение 11'!Q585 -> 9800
B20: Осуществление отдельных государственных полномочий по ведению учета граждан отдельных категорий в качестве нуждающихся в жилых помещениях и по формированию списка детей-сирот и детей, оставшихся без попечения родителей, лиц из числа детей-сирот и детей, оставшихся без попечения родителей, лиц, относившихся к категории детей-сирот и детей, оставшихся без попечения родителей, подлежащих обеспечению жилыми помещениями | C20: 5020060870 | E20: =E21+E22 -> 1015500 | F20: =F21+F22 -> 1015500
B21: Расходы на выплаты персоналу в целях обеспечения выполнения функций государственными (муниципальными) органами, казенными учреждениями, органами управления государственными внебюджетными фондами | C21: 5020060870 | D21: 100 | E21: ='приложение 11'!I39 -> 1015500 | F21: ='приложение 11'!Q39 -> 1015500
B22: Закупка товаров, работ и услуг для обеспечения государственных (муниципальных) нужд | C22: 5020060870 | D22: 200 | E22: ='приложение 11'!I40 -> 0 | F22: ='приложение 11'!Q40 -> 0
B23: Осуществление отдельных государственных полномочий Краснодарского края по поддержке сельскохозяйственного производства | C23: 5020060910 | E23: =E24+E25 -> 2025000 | F23: =F24+F25 -> 2025000
B24: Расходы на выплаты персоналу в целях обеспечения выполнения функций государственными (муниципальными) органами, казенными учреждениями, органами управления государственными внебюджетными фондами | C24: 5020060910 | D24: 100 | E24: ='приложение 11'!I274 -> 1863000 | F24: ='приложение 11'!Q274 -> 1863000
B25: Закупка товаров, работ и услуг для обеспечения государственных (муниципальных) нужд | C25: 5020060910 | D25: 200 | E25: ='приложение 11'!I275 -> 162000 | F25: ='приложение 11'!Q275 -> 162000
B26: Осуществление отдельных государственных полномочий по выявлению обстоятельств, свидетельствующих о необходимости оказания детям-сиротам и детям, оставшимся без попечения родителей, лицам из числа детей-сирот и детей, оставшихся без попечения родителей, содействия в преодолении трудной жизненной ситуации, и осуществлению контроля за использованием детьми-сиротами и детьми, оставшимися без попечения родителей, лицами из числа детей-сирот и детей, оставшихся без попечения родителей, предоставленных им жилых помещений специализированного жилищного фонда | C26: 5020069170 | E26: =E27 -> 1360400 | F26: =F27 -> 1360400
B27: Расходы на выплату персоналу в целях обеспечения функций государственными (муниципальными) органами, казенными учреждениями, органами управления государственными внебюджетными фондами | C27: 5020069170 | D27: 100 | E27: ='приложение 11'!I614 -> 1360400 | F27: ='приложение 11'!Q614 -> 1360400
B28: Осуществление отдельных государственных полномочий Краснодарского края по организации и обеспечению отдыха и оздоровления детей (за исключением организации отдыха детей в каникулярное время) | C28: 5020069180 | E28: =E29+E30+E31 -> 1015700 | F28: =F29+F30+F31 -> 1015700
B29: Расходы на выплату персоналу в целях обеспечения функций государственными (муниципальными) органами, казенными учреждениями, органами управления государственными внебюджетными фондами | C29: 5020069180 | D29: 100 | E29: ='приложение 11'!I616 -> 1015700 | F29: ='приложение 11'!Q616 -> 1015700
B30: Закупка товаров, работ и услуг для обеспечения государственных (муниципальных) нужд | C30: 5020069180 | D30: 200 | E30: ='приложение 11'!I617 -> 0 | F30: ='приложение 11'!Q617 -> 0
B31: Иные бюджетные ассигнования | C31: 5020069180 | D31: 800 | E31: ='приложение 11'!I618 -> 0 | F31: ='приложение 11'!Q618 -> 0
B32: Осуществление отдельных государственных полномочий по организации и осуществлению деятельности по опеке и попечительству в отношении несовершеннолетних | C32: 5020069190 | E32: =E33+E34+E35 -> 12433300 | F32: =F33+F34+F35 -> 12433300
B33: Расходы на выплату персоналу в целях обеспечения функций государственными (муниципальными) органами, казенными учреждениями, органами управления государственными внебюджетными фондами | C33: 5020069190 | D33: 100 | E33: ='приложение 11'!I620 -> 11732800 | F33: ='приложение 11'!Q620 -> 12433300
B34: Закупка товаров, работ и услуг для обеспечения государственных (муниципальных) нужд | C34: 5020069190 | D34: 200 | E34: ='приложение 11'!I621 -> 700000 | F34: ='приложение 11'!Q621 -> 0
B35: Иные бюджетные ассигнования | C35: 5020069190 | D35: 800 | E35: ='приложение 11'!I622 -> 500 | F35: ='приложение 11'!Q622 -> 0
B36: Осуществление отдельных государственных полномочий по созданию и организации деятельности комиссий по делам несовершеннолетних и защите их прав | C36: 5020069200 | E36: =E37+E38 -> 5555200 | F36: =F37+F38 -> 5555200
B37: Расходы на выплаты персоналу в целях обеспечения выполнения функций государственными (муниципальными) органами, казенными учреждениями, органами управления государственными внебюджетными фондами | C37: 5020069200 | D37: 100 | E37: ='приложение 11'!I42 -> 5455200 | F37: ='приложение 11'!Q42 -> 5455200
B38: Закупка товаров, работ и услуг для обеспечения государственных (муниципальных) нужд | C38: 5020069200 | D38: 200 | E38: ='приложение 11'!I43 -> 100000 | F38: ='приложение 11'!Q43 -> 100000
B39: 0существление отдельных государственных полномочий по предоставлению лицам, которые относились к категории детей-сирот и детей, оставшихся без попечения родителей, лиц из числа детей-сирот и детей, оставшихся без попечения родителей, и достигли возраста 23 лет, выплаты на приобретение благоустроенного жилого помещения в собственность или для полного погашения предоставленного на приобретение жилого помещения кредита (займа) по договору, обязательства заемщика по которому обеспечены ипотекой | C39: 5020069210 | E39: =E40 -> 1015500 | F39: =F40 -> 1015500
B40: Расходы на выплаты персоналу в целях обеспечения выполнения функций государственными (муниципальными) органами, казенными учреждениями, органами управления государственными внебюджетными фондами | C40: 5020069210 | D40: 100 | E40: ='приложение 11'!I45 -> 1015500 | F40: ='приложение 11'!Q45 -> 1015500
B41: Укрепление материально-технической базы органов местного самоуправления | C41: 5030000000 | E41: =E42 -> 21761000 | F41: =F42 -> 19944200
...

Sheet приложение 11
H1: Приложение 11
H2: к решению Совета муниципального образования Белореченский муниципальный район Краснодарского края от 26 марта 2026 г. № 263
C3: Ведомственная структура расходов бюджета муниципального образования Белореченский муниципальный район Краснодарского края на 2027 и 2028 годы
Q4: (рублей)
B5: № п\п | C5: Наименование | D5: Коды бюджетной классификации | I5: 2027 год | J5: Первоначальный бюджет | K5: Изменения (+;-) | L5: 46016 | M5: 00.01.2026 | N5: 46072 | O5: 46107 | P5: Формулы не заполнять | Q5: 2028 год | R5: Первоначальный бюджет | S5: Изменения (+;-) | T5: 46016 | U5: 00.01.2026 | V5: 46072 | W5: 46107 | X5: Формулы не заполнять
D6: Вед | E6: Раздел | F6: Подраздел | G6: Целевая статья | H6: Вид расхода
B7: 1 | C7: 2 | D7: 3 | E7: 4 | F7: 5 | G7: 6 | H7: 7 | I7: 8 | Q7: 9
C8: ВСЕГО | I8: =SUM(J8:P8) -> 4590171200 | J8: =J9+J25+J223+J243+J259+J283+J298+J450+J504+J542+J586 -> 4322907500 | K8: =K9+K25+K223+K243+K259+K283+K298+K450+K504+K542+K586 -> 250995300 | L8: =L9+L25+L223+L243+L259+L283+L298+L450+L504+L542+L586 -> 13534200 | M8: =M9+M25+M223+M243+M259+M283+M298+M450+M504+M542+M586 -> 0 | N8: =N9+N25+N223+N243+N259+N283+N298+N450+N504+N542+N586 -> 2734200 | O8: =O9+O25+O223+O243+O259+O283+O298+O450+O504+O542+O586 -> 0 | P8: =P9+P25+P223+P243+P259+P283+P298+P450+P504+P542+P586 -> 0 | Q8: =SUM(R8:X8) -> 4742058200 | R8: =R9+R25+R223+R243+R259+R283+R298+R450+R504+R542+R586 -> 4559043400 | S8: =S9+S25+S223+S243+S259+S283+S298+S450+S504+S542+S586 -> 0 | T8: =T9+T25+T223+T243+T259+T283+T298+T450+T504+T542+T586 -> 180280600 | U8: =U9+U25+U223+U243+U259+U283+U298+U450+U504+U542+U586 -> 0 | V8: =V9+V25+V223+V243+V259+V283+V298+V450+V504+V542+V586 -> 2734200 | W8: =W9+W25+W223+W243+W259+W283+W298+W450+W504+W542+W586 -> 0 | X8: =X9+X25+X223+X243+X259+X283+X298+X450+X504+X542+X586 -> 0
B9: 1. | C9: Совет муниципального образования Белореченский муниципальный район Краснодарского края | D9: 901 | I9: =SUM(J9:P9) -> 7504300 | J9: =J10 -> 5724100 | K9: =K10 -> 1780200 | L9: =L10 -> 0 | M9: =M10 -> 0 | N9: =N10 -> 0 | O9: =O10 -> 0 | P9: =P10 -> 0 | Q9: =SUM(R9:X9) -> 6012700 | R9: =R10 -> 6012700 | S9: =S10 -> 0 | T9: =T10 -> 0 | U9: =U10 -> 0 | V9: =V10 -> 0 | W9: =W10 -> 0 | X9: =X10 -> 0
C10: Общегосударственные вопросы | D10: 901 | E10: 01 | F10: 00 | I10: =SUM(J10:P10) -> 7504300 | J10: =J11+J20 -> 5724100 | K10: =K11+K20 -> 1780200 | L10: =L11+L20 -> 0 | M10: =M11+M20 -> 0 | N10: =N11+N20 -> 0 | O10: =O11+O20 -> 0 | P10: =P11+P20 -> 0 | Q10: =SUM(R10:X10) -> 6012700 | R10: =R11+R20 -> 6012700 | S10: =S11+S20 -> 0 | T10: =T11+T20 -> 0 | U10: =U11+U20 -> 0 | V10: =V11+V20 -> 0 | W10: =W11+W20 -> 0 | X10: =X11+X20 -> 0
C11: Функционирование законодательных (представительных) органов государственной власти и представительных органов муниципальных образований | D11: 901 | E11: 01 | F11: 03 | I11: =SUM(J11:P11) -> 6104300 | J11: =J12 -> 5724100 | K11: =K12 -> 380200 | L11: =L12 -> 0 | M11: =M12 -> 0 | N11: =N12 -> 0 | O11: =O12 -> 0 | P11: =P12 -> 0 | Q11: =SUM(R11:X11) -> 6012700 | R11: =R12 -> 6012700 | S11: =S12 -> 0 | T11: =T12 -> 0 | U11: =U12 -> 0 | V11: =V12 -> 0 | W11: =W12 -> 0 | X11: =X12 -> 0
C12: Другие непрограммные направления деятельности органов местного самоуправления | D12: 901 | E12: 01 | F12: 03 | G12: 9900000000 | I12: =SUM(J12:P12) -> 6104300 | J12: =J13+J16 -> 5724100 | K12: =K13+K16 -> 380200 | L12: =L13+L16 -> 0 | M12: =M13+M16 -> 0 | N12: =N13+N16 -> 0 | O12: =O13+O16 -> 0 | P12: =P13+P16 -> 0 | Q12: =SUM(R12:X12) -> 6012700 | R12: =R13+R16 -> 6012700 | S12: =S13+S16 -> 0 | T12: =T13+T16 -> 0 | U12: =U13+U16 -> 0 | V12: =V13+V16 -> 0 | W12: =W13+W16 -> 0 | X12: =X13+X16 -> 0
C13: Обеспечение деятельности лиц, замещающих муниципальные должности в представительных органах, контрольно-счетных органах муниципальных образований | D13: 901 | E13: 01 | F13: 03 | G13: 9910000000 | I13: =SUM(J13:P13) -> 2020000 | J13: =J14 -> 1899100 | K13: =K14 -> 120900 | L13: =L14 -> 0 | M13: =M14 -> 0 | N13: =N14 -> 0 | O13: =O14 -> 0 | P13: =P14 -> 0 | Q13: =SUM(R13:X13) -> 1989600 | R13: =R14 -> 1989600 | S13: =S14 -> 0 | T13: =T14 -> 0 | U13: =U14 -> 0 | V13: =V14 -> 0 | W13: =W14 -> 0 | X13: =X14 -> 0
C14: Расходы на обеспечение функций органов местного самоуправления | D14: 901 | E14: 01 | F14: 03 | G14: 9910000190 | I14: =SUM(J14:P14) -> 2020000 | J14: =J15 -> 1899100 | K14: =K15 -> 120900 | L14: =L15 -> 0 | M14: =M15 -> 0 | N14: =N15 -> 0 | O14: =O15 -> 0 | P14: =P15 -> 0 | Q14: =SUM(R14:X14) -> 1989600 | R14: =R15 -> 1989600 | S14: =S15 -> 0 | T14: =T15 -> 0 | U14: =U15 -> 0 | V14: =V15 -> 0 | W14: =W15 -> 0 | X14: =X15 -> 0
C15: Расходы на выплаты персоналу в целях обеспечения выполнения функций государственными (муниципальными) органами, казенными учреждениями, органами управления государственными внебюджетными фондами | D15: 901 | E15: 01 | F15: 03 | G15: 9910000190 | H15: 100 | I15: =SUM(J15:P15) -> 2020000 | J15: 1899100 | K15: 120900 | Q15: =SUM(R15:X15) -> 1989600 | R15: 1989600
C16: Обеспечение деятельности муниципальных и немуниципальных служащих в представительных органах, контрольно-счетных органах муниципальных образований | D16: 901 | E16: 01 | F16: 03 | G16: 9920000000 | I16: =SUM(J16:P16) -> 4084300 | J16: =J17 -> 3825000 | K16: =K17 -> 259300 | L16: =L17 -> 0 | M16: =M17 -> 0 | N16: =N17 -> 0 | O16: =O17 -> 0 | P16: =P17 -> 0 | Q16: =SUM(R16:X16) -> 4023100 | R16: =R17 -> 4023100 | S16: =S17 -> 0 | T16: =T17 -> 0 | U16: =U17 -> 0 | V16: =V17 -> 0 | W16: =W17 -> 0 | X16: =X17 -> 0
C17: Расходы на обеспечение функций органов местного самоуправления | D17: 901 | E17: 01 | F17: 03 | G17: 9920000190 | I17: =SUM(J17:P17) -> 4084300 | J17: =J18+J19 -> 3825000 | K17: =K18+K19 -> 259300 | L17: =L18+L19 -> 0 | M17: =M18+M19 -> 0 | N17: =N18+N19 -> 0 | O17: =O18+O19 -> 0 | P17: =P18+P19 -> 0 | Q17: =SUM(R17:X17) -> 4023100 | R17: =R18+R19 -> 4023100 | S17: =S18+S19 -> 0 | T17: =T18+T19 -> 0 | U17: =U18+U19 -> 0 | V17: =V18+V19 -> 0 | W17: =W18+W19 -> 0 | X17: =X18+X19 -> 0
C18: Расходы на выплаты персоналу в целях обеспечения выполнения функций государственными (муниципальными) органами, казенными учреждениями, органами управления государственными внебюджетными фондами | D18: 901 | E18: 01 | F18: 03 | G18: 9920000190 | H18: 100 | I18: =SUM(J18:P18) -> 4081000 | J18: 3821300 | K18: 259700 | Q18: =SUM(R18:X18) -> 4019800 | R18: 4019800
C19: Иные бюджетные ассигнования | D19: 901 | E19: 01 | F19: 03 | G19: 9920000190 | H19: 800 | I19: =SUM(J19:P19) -> 3300 | J19: 3700 | K19: -400 | Q19: =SUM(R19:X19) -> 3300 | R19: 3300
C20: Другие общегосударственные вопросы | D20: 901 | E20: 01 | F20: 13 | I20: =SUM(J20:P20) -> 1400000 | J20: =J21 -> 0 | K20: =K21 -> 1400000 | L20: =L21 -> 0 | M20: =M21 -> 0 | N20: =N21 -> 0 | O20: =O21 -> 0 | P20: =P21 -> 0 | Q20: =SUM(R20:X20) -> 0 | R20: =R21 -> 0 | S20: =S21 -> 0 | T20: =T21 -> 0 | U20: =U21 -> 0 | V20: =V21 -> 0 | W20: =W21 -> 0 | X20: =X21 -> 0
C21: Муниципальная программа "Обеспечение деятельности органов местного самоуправления" | D21: 901 | E21: 01 | F21: 13 | G21: 500000000 | I21: =SUM(J21:P21) -> 1400000 | J21: =J22 -> 0 | K21: =K22 -> 1400000 | L21: =L22 -> 0 | M21: =M22 -> 0 | N21: =N22 -> 0 | O21: =O22 -> 0 | P21: =P22 -> 0 | Q21: =SUM(R21:X21) -> 0 | R21: =R22 -> 0 | S21: =S22 -> 0 | T21: =T22 -> 0 | U21: =U22 -> 0 | V21: =V22 -> 0 | W21: =W22 -> 0 | X21: =X22 -> 0
C22: Укрепление материально-технической базы органов местного самоуправления | D22: 901 | E22: 01 | F22: 13 | G22: 5030000000 | I22: =SUM(J22:P22) -> 1400000 | J22: =J23 -> 0 | K22: =K23 -> 1400000 | L22: =L23 -> 0 | M22: =M23 -> 0 | N22: =N23 -> 0 | O22: =O23 -> 0 | P22: =P23 -> 0 | Q22: =SUM(R22:X22) -> 0 | R22: =R23 -> 0 | S22: =S23 -> 0 | T22: =T23 -> 0 | U22: =U23 -> 0 | V22: =V23 -> 0 | W22: =W23 -> 0 | X22: =X23 -> 0
C23: Укрепление материально-технического оснащения для бесперебойного обеспечения бюджетного процесса | D23: 901 | E23: 01 | F23: 13 | G23: 5030010030 | I23: =SUM(J23:P23) -> 1400000 | J23: =J24 -> 0 | K23: =K24 -> 1400000 | L23: =L24 -> 0 | M23: =M24 -> 0 | N23: =N24 -> 0 | O23: =O24 -> 0 | P23: =P24 -> 0 | Q23: =SUM(R23:X23) -> 0 | R23: =R24 -> 0 | S23: =S24 -> 0 | T23: =T24 -> 0 | U23: =U24 -> 0 | V23: =V24 -> 0 | W23: =W24 -> 0 | X23: =X24 -> 0
C24: Закупка товаров, работ и услуг для обеспечения государственных (муниципальных) нужд | D24: 901 | E24: 01 | F24: 13 | G24: 5030010030 | H24: 200 | I24: =SUM(J24:P24) -> 1400000 | K24: 1400000 | Q24: =SUM(R24:X24) -> 0
B25: 2. | C25: Администрация муниципального образования Белореченский муниципальный район Краснодарского края | D25: 902 | I25: =SUM(J25:P25) -> 522619600 | J25: =J26+J99+J139+J163+J182+J204 -> 474496300 | K25: =K26+K99+K139+K163+K182+K204 -> 43515200 | L25: =L26+L99+L139+L163+L182+L204+L195 -> 4608100 | M25: =M26+M99+M139+M163+M182+M204 -> 0 | N25: =N26+N99+N139+N163+N182+N204 -> 0 | O25: =O26+O99+O139+O163+O182+O204 -> 0 | P25: =P26+P99+P139+P163+P182+P204 -> 0 | Q25: =SUM(R25:X25) -> 479387700 | R25: =R26+R99+R139+R163+R182+R204 -> 533459900 | S25: =S26+S99+S139+S163+S182+S204 -> 0 | T25: =T26+T99+T139+T163+T182+T204+T195 -> -54072200 | U25: =U26+U99+U139+U163+U182+U204 -> 0 | V25: =V26+V99+V139+V163+V182+V204 -> 0 | W25: =W26+W99+W139+W163+W182+W204 -> 0 | X25: =X26+X99+X139+X163+X182+X204 -> 0
C26: Общегосударственные вопросы | D26: 902 | E26: 01 | F26: 00 | I26: =SUM(J26:P26) -> 284559300 | J26: =J27+J32+J50+J55+J46 -> 243250400 | K26: =K27+K32+K50+K55+K46 -> 41422800 | L26: =L27+L32+L50+L55+L46 -> -113900 | M26: =M27+M32+M50+M55+M46 -> 0 | N26: =N27+N32+N50+N55+N46 -> 0 | O26: =O27+O32+O50+O55+O46 -> 0 | P26: =P27+P32+P50+P55+P46 -> 0 | Q26: =SUM(R26:X26) -> 280096000 | R26: =R27+R32+R50+R55+R46 -> 280737100 | S26: =S27+S32+S50+S55+S46 -> 0 | T26: =T27+T32+T50+T55+T46 -> -641100 | U26: =U27+U32+U50+U55+U46 -> 0 | V26: =V27+V32+V50+V55+V46 -> 0 | W26: =W27+W32+W50+W55+W46 -> 0 | X26: =X27+X32+X50+X55+X46 -> 0
C27: Функционирование высшего должностного лица субъекта Российской Федерации и муниципального образования | D27: 902 | E27: 01 | F27: 02 | I27: =SUM(J27:P27) -> 2214500 | J27: =J28 -> 2089200 | K27: =K28 -> 125300 | L27: =L28 -> 0 | M27: =M28 -> 0 | N27: =N28 -> 0 | O27: =O28 -> 0 | P27: =P28 -> 0 | Q27: =SUM(R27:X27) -> 2181300 | R27: =R28 -> 2181300 | S27: =S28 -> 0 | T27: =T28 -> 0 | U27: =U28 -> 0 | V27: =V28 -> 0 | W27: =W28 -> 0 | X27: =X28 -> 0
C28: Муниципальная программа "Обеспечение деятельности органов местного самоуправления" | D28: 902 | E28: 01 | F28: 02 | G28: 5000000000 | I28: =SUM(J28:P28) -> 2214500 | J28: =J29 -> 2089200 | K28: =K29 -> 125300 | L28: =L29 -> 0 | M28: =M29 -> 0 | N28: =N29 -> 0 | O28: =O29 -> 0 | P28: =P29 -> 0 | Q28: =SUM(R28:X28) -> 2181300 | R28: =R29 -> 2181300 | S28: =S29 -> 0 | T28: =T29 -> 0 | U28: =U29 -> 0 | V28: =V29 -> 0 | W28: =W29 -> 0 | X28: =X29 -> 0
C29: Обеспечение деятельности высшего должностного лица муниципального образования | D29: 902 | E29: 01 | F29: 02 | G29: 5010000000 | I29: =SUM(J29:P29) -> 2214500 | J29: =J30 -> 2089200 | K29: =K30 -> 125300 | L29: =L30 -> 0 | M29: =M30 -> 0 | N29: =N30 -> 0 | O29: =O30 -> 0 | P29: =P30 -> 0 | Q29: =SUM(R29:X29) -> 2181300 | R29: =R30 -> 2181300 | S29: =S30 -> 0 | T29: =T30 -> 0 | U29: =U30 -> 0 | V29: =V30 -> 0 | W29: =W30 -> 0 | X29: =X30 -> 0
C30: Расходы на обеспечение функций органов местного самоуправления | D30: 902 | E30: 01 | F30: 02 | G30: 5010000190 | I30: =SUM(J30:P30) -> 2214500 | J30: =J31 -> 2089200 | K30: =K31 -> 125300 | L30: =L31 -> 0 | M30: =M31 -> 0 | N30: =N31 -> 0 | O30: =O31 -> 0 | P30: =P31 -> 0 | Q30: =SUM(R30:X30) -> 2181300 | R30: =R31 -> 2181300 | S30: =S31 -> 0 | T30: =T31 -> 0 | U30: =U31 -> 0 | V30: =V31 -> 0 | W30: =W31 -> 0 | X30: =X31 -> 0
C31: Расходы на выплаты персоналу в целях обеспечения выполнения функций государственными (муниципальными) органами, казенными учреждениями, органами управления государственными внебюджетными фондами | D31: 902 | E31: 01 | F31: 02 | G31: 5010000190 | H31: 100 | I31: =SUM(J31:P31) -> 2214500 | J31: 2089200 | K31: 125300 | Q31: =SUM(R31:X31) -> 2181300 | R31: 2181300
C32: Функционирование Правительства Российской Федерации, высших исполнительных органов государственной власти субъектов Российской Федерации, местных администраций | D32: 902 | E32: 01 | F32: 04 | I32: =SUM(J32:P32) -> 72816400 | J32: =J33 -> 84918300 | K32: =K33 -> -11988800 | L32: =L33 -> -113100 | M32: =M33 -> 0 | N32: =N33 -> 0 | O32: =O33 -> 0 | P32: =P33 -> 0 | Q32: =SUM(R32:X32) -> 71309300 | R32: =R33 -> 71950200 | S32: =S33 -> 0 | T32: =T33 -> -640900 | U32: =U33 -> 0 | V32: =V33 -> 0 | W32: =W33 -> 0 | X32: =X33 -> 0
C33: Муниципальная программа "Обеспечение деятельности органов местного самоуправления" | D33: 902 | E33: 01 | F33: 04 | G33: 5000000000 | I33: =SUM(J33:P33) -> 72816400 | J33: =J34 -> 84918300 | K33: =K34 -> -11988800 | L33: =L34 -> -113100 | M33: =M34 -> 0 | N33: =N34 -> 0 | O33: =O34 -> 0 | P33: =P34 -> 0 | Q33: =SUM(R33:X33) -> 71309300 | R33: =R34 -> 71950200 | S33: =S34 -> 0 | T33: =T34 -> -640900 | U33: =U34 -> 0 | V33: =V34 -> 0 | W33: =W34 -> 0 | X33: =X34 -> 0
C34: Обеспечение деятельности администрации муниципального образования | D34: 902 | E34: 01 | F34: 04 | G34: 5020000000 | I34: =SUM(J34:P34) -> 72816400 | J34: =J35+J38+J41+J44 -> 84918300 | K34: =K35+K38+K41+K44 -> -11988800 | L34: =L35+L38+L41+L44 -> -113100 | M34: =M35+M38+M41+M44 -> 0 | N34: =N35+N38+N41+N44 -> 0 | O34: =O35+O38+O41+O44 -> 0 | P34: =P35+P38+P41+P44 -> 0 | Q34: =SUM(R34:X34) -> 71309300 | R34: =R35+R38+R41+R44 -> 71950200 | S34: =S35+S38+S41+S44 -> 0 | T34: =T35+T38+T41+T44 -> -640900 | U34: =U35+U38+U41+U44 -> 0 | V34: =V35+V38+V41+V44 -> 0 | W34: =W35+W38+W41+W44 -> 0 | X34: =X35+X38+X41+X44 -> 0
C35: Расходы на обеспечение функций органов местного самоуправления | D35: 902 | E35: 01 | F35: 04 | G35: 5020000190 | I35: =SUM(J35:P35) -> 65230200 | J35: =J36+J37 -> 77604500 | K35: =K36+K37 -> -12261200 | L35: =L36+L37 -> -113100 | M35: =M36+M37 -> 0 | N35: =N36+N37 -> 0 | O35: =O36+O37 -> 0 | P35: =P36+P37 -> 0 | Q35: =SUM(R35:X35) -> 63723100 | R35: =R36+R37 -> 64364000 | S35: =S36+S37 -> 0 | T35: =T36+T37 -> -640900 | U35: =U36+U37 -> 0 | V35: =V36+V37 -> 0 | W35: =W36+W37 -> 0 | X35: =X36+X37 -> 0
C36: Расходы на выплаты персоналу в целях обеспечения выполнения функций государственными (муниципальными) органами, казенными учреждениями, органами управления государственными внебюджетными фондами | D36: 902 | E36: 01 | F36: 04 | G36: 5020000190 | H36: 100 | I36: =SUM(J36:P36) -> 65230200 | J36: 77604500 | K36: -12261200 | L36: -113100 | Q36: =SUM(R36:X36) -> 63723100 | R36: 64364000 | T36: -640900
C37: Иные бюджетные ассигнования | D37: 902 | E37: 01 | F37: 04 | G37: 5020000190 | H37: 800 | I37: =SUM(J37:P37) -> 0 | Q37: =SUM(R37:X37) -> 0
C38: Осуществление отдельных государственных полномочий по ведению учета граждан отдельных категорий в качестве нуждающихся в жилых помещениях и по формированию списка детей-сирот и детей, оставшихся без попечения родителей, лиц из числа детей-сирот и детей, оставшихся без попечения родителей, лиц, относившихся к категории детей-сирот и детей, оставшихся без попечения родителей, подлежащих обеспечению жилыми помещениями | D38: 902 | E38: 01 | F38: 04 | G38: 5020060870 | I38: =SUM(J38:P38) -> 1015500 | J38: =J39+J40 -> 979700 | K38: =K39+K40 -> 35800 | L38: =L39+L40 -> 0 | M38: =M39+M40 -> 0 | N38: =N39+N40 -> 0 | O38: =O39+O40 -> 0 | P38: =P39+P40 -> 0 | Q38: =SUM(R38:X38) -> 1015500 | R38: =R39+R40 -> 1015500 | S38: =S39+S40 -> 0 | T38: =T39+T40 -> 0 | U38: =U39+U40 -> 0 | V38: =V39+V40 -> 0 | W38: =W39+W40 -> 0 | X38: =X39+X40 -> 0
C39: Расходы на выплаты персоналу в целях обеспечения выполнения функций государственными (муниципальными) органами, казенными учреждениями, органами управления государственными внебюджетными фондами | D39: 902 | E39: 01 | F39: 04 | G39: 5020060870 | H39: 100 | I39: =SUM(J39:P39) -> 1015500 | J39: 979700 | K39: 35800 | Q39: =SUM(R39:X39) -> 1015500 | R39: 1015500
C40: Закупка товаров, работ и услуг для обеспечения государственных (муниципальных) нужд | D40: 902 | E40: 01 | F40: 04 | G40: 5020060870 | H40: 200 | I40: =SUM(J40:P40) -> 0 | Q40: =SUM(R40:X40) -> 0
...
